BEGIN:VCALENDAR
VERSION:2.0
PRODID:-//Boys &amp; Girls Club of Western Treasure Valley - ECPv6.15.20//NONSGML v1.0//EN
CALSCALE:GREGORIAN
METHOD:PUBLISH
X-WR-CALNAME:Boys &amp; Girls Club of Western Treasure Valley
X-ORIGINAL-URL:https://bgcwtv.org
X-WR-CALDESC:Events for Boys &amp; Girls Club of Western Treasure Valley
REFRESH-INTERVAL;VALUE=DURATION:PT1H
X-Robots-Tag:noindex
X-PUBLISHED-TTL:PT1H
BEGIN:VTIMEZONE
TZID:America/Boise
BEGIN:DAYLIGHT
TZOFFSETFROM:-0700
TZOFFSETTO:-0600
TZNAME:MDT
DTSTART:20240310T090000
END:DAYLIGHT
BEGIN:STANDARD
TZOFFSETFROM:-0600
TZOFFSETTO:-0700
TZNAME:MST
DTSTART:20241103T080000
END:STANDARD
BEGIN:DAYLIGHT
TZOFFSETFROM:-0700
TZOFFSETTO:-0600
TZNAME:MDT
DTSTART:20250309T090000
END:DAYLIGHT
BEGIN:STANDARD
TZOFFSETFROM:-0600
TZOFFSETTO:-0700
TZNAME:MST
DTSTART:20251102T080000
END:STANDARD
BEGIN:DAYLIGHT
TZOFFSETFROM:-0700
TZOFFSETTO:-0600
TZNAME:MDT
DTSTART:20260308T090000
END:DAYLIGHT
BEGIN:STANDARD
TZOFFSETFROM:-0600
TZOFFSETTO:-0700
TZNAME:MST
DTSTART:20261101T080000
END:STANDARD
END:VTIMEZONE
BEGIN:VEVENT
DTSTART;TZID=America/Boise:20251202T063000
DTEND;TZID=America/Boise:20251202T080000
DTSTAMP:20260423T131358
CREATED:20251103T210658Z
LAST-MODIFIED:20251103T222457Z
UID:10014348-1764657000-1764662400@bgcwtv.org
SUMMARY:Payette Before School
DESCRIPTION:Payette Club is open regular before school hours.
URL:https://bgcwtv.org/event/payette-before-school/2025-12-02/
LOCATION:Payette Clubhouse BGCWTV\, 1222 1st Ave South\, Payette\, ID\, 83661\, United States
CATEGORIES:Payette Clubhouse
END:VEVENT
BEGIN:VEVENT
DTSTART;TZID=America/Boise:20251201T153000
DTEND;TZID=America/Boise:20251201T183000
DTSTAMP:20260423T131358
CREATED:20251103T172039Z
LAST-MODIFIED:20251103T212156Z
UID:10013895-1764603000-1764613800@bgcwtv.org
SUMMARY:Payette After School
DESCRIPTION:Payette Club is open regular after school hours.
URL:https://bgcwtv.org/event/payette-after-school-2/2025-12-01/
LOCATION:Payette Clubhouse BGCWTV\, 1222 1st Ave South\, Payette\, ID\, 83661\, United States
CATEGORIES:Payette Clubhouse
END:VEVENT
BEGIN:VEVENT
DTSTART;TZID=America/Boise:20251201T063000
DTEND;TZID=America/Boise:20251201T080000
DTSTAMP:20260423T131358
CREATED:20251103T210658Z
LAST-MODIFIED:20251103T222457Z
UID:10014347-1764570600-1764576000@bgcwtv.org
SUMMARY:Payette Before School
DESCRIPTION:Payette Club is open regular before school hours.
URL:https://bgcwtv.org/event/payette-before-school/2025-12-01/
LOCATION:Payette Clubhouse BGCWTV\, 1222 1st Ave South\, Payette\, ID\, 83661\, United States
CATEGORIES:Payette Clubhouse
END:VEVENT
BEGIN:VEVENT
DTSTART;TZID=America/Boise:20251120T153000
DTEND;TZID=America/Boise:20251120T183000
DTSTAMP:20260423T131358
CREATED:20251103T172039Z
LAST-MODIFIED:20251103T212156Z
UID:10013890-1763652600-1763663400@bgcwtv.org
SUMMARY:Payette After School
DESCRIPTION:Payette Club is open regular after school hours.
URL:https://bgcwtv.org/event/payette-after-school-2/2025-11-20/
LOCATION:Payette Clubhouse BGCWTV\, 1222 1st Ave South\, Payette\, ID\, 83661\, United States
CATEGORIES:Payette Clubhouse
END:VEVENT
BEGIN:VEVENT
DTSTART;TZID=America/Boise:20251120T063000
DTEND;TZID=America/Boise:20251120T080000
DTSTAMP:20260423T131358
CREATED:20251103T210658Z
LAST-MODIFIED:20251103T222457Z
UID:10014342-1763620200-1763625600@bgcwtv.org
SUMMARY:Payette Before School
DESCRIPTION:Payette Club is open regular before school hours.
URL:https://bgcwtv.org/event/payette-before-school/2025-11-20/
LOCATION:Payette Clubhouse BGCWTV\, 1222 1st Ave South\, Payette\, ID\, 83661\, United States
CATEGORIES:Payette Clubhouse
END:VEVENT
BEGIN:VEVENT
DTSTART;TZID=America/Boise:20251119T153000
DTEND;TZID=America/Boise:20251119T183000
DTSTAMP:20260423T131358
CREATED:20251103T172039Z
LAST-MODIFIED:20251103T212156Z
UID:10013889-1763566200-1763577000@bgcwtv.org
SUMMARY:Payette After School
DESCRIPTION:Payette Club is open regular after school hours.
URL:https://bgcwtv.org/event/payette-after-school-2/2025-11-19/
LOCATION:Payette Clubhouse BGCWTV\, 1222 1st Ave South\, Payette\, ID\, 83661\, United States
CATEGORIES:Payette Clubhouse
END:VEVENT
BEGIN:VEVENT
DTSTART;TZID=America/Boise:20251119T063000
DTEND;TZID=America/Boise:20251119T080000
DTSTAMP:20260423T131358
CREATED:20251103T210658Z
LAST-MODIFIED:20251103T222457Z
UID:10014341-1763533800-1763539200@bgcwtv.org
SUMMARY:Payette Before School
DESCRIPTION:Payette Club is open regular before school hours.
URL:https://bgcwtv.org/event/payette-before-school/2025-11-19/
LOCATION:Payette Clubhouse BGCWTV\, 1222 1st Ave South\, Payette\, ID\, 83661\, United States
CATEGORIES:Payette Clubhouse
END:VEVENT
BEGIN:VEVENT
DTSTART;TZID=America/Boise:20251118T153000
DTEND;TZID=America/Boise:20251118T183000
DTSTAMP:20260423T131358
CREATED:20251103T172039Z
LAST-MODIFIED:20251103T212156Z
UID:10013888-1763479800-1763490600@bgcwtv.org
SUMMARY:Payette After School
DESCRIPTION:Payette Club is open regular after school hours.
URL:https://bgcwtv.org/event/payette-after-school-2/2025-11-18/
LOCATION:Payette Clubhouse BGCWTV\, 1222 1st Ave South\, Payette\, ID\, 83661\, United States
CATEGORIES:Payette Clubhouse
END:VEVENT
BEGIN:VEVENT
DTSTART;TZID=America/Boise:20251118T063000
DTEND;TZID=America/Boise:20251118T080000
DTSTAMP:20260423T131358
CREATED:20251103T210658Z
LAST-MODIFIED:20251103T222457Z
UID:10014340-1763447400-1763452800@bgcwtv.org
SUMMARY:Payette Before School
DESCRIPTION:Payette Club is open regular before school hours.
URL:https://bgcwtv.org/event/payette-before-school/2025-11-18/
LOCATION:Payette Clubhouse BGCWTV\, 1222 1st Ave South\, Payette\, ID\, 83661\, United States
CATEGORIES:Payette Clubhouse
END:VEVENT
BEGIN:VEVENT
DTSTART;TZID=America/Boise:20251117T153000
DTEND;TZID=America/Boise:20251117T183000
DTSTAMP:20260423T131358
CREATED:20251103T172039Z
LAST-MODIFIED:20251103T212156Z
UID:10013887-1763393400-1763404200@bgcwtv.org
SUMMARY:Payette After School
DESCRIPTION:Payette Club is open regular after school hours.
URL:https://bgcwtv.org/event/payette-after-school-2/2025-11-17/
LOCATION:Payette Clubhouse BGCWTV\, 1222 1st Ave South\, Payette\, ID\, 83661\, United States
CATEGORIES:Payette Clubhouse
END:VEVENT
BEGIN:VEVENT
DTSTART;TZID=America/Boise:20251117T063000
DTEND;TZID=America/Boise:20251117T080000
DTSTAMP:20260423T131358
CREATED:20251103T210658Z
LAST-MODIFIED:20251103T222457Z
UID:10014339-1763361000-1763366400@bgcwtv.org
SUMMARY:Payette Before School
DESCRIPTION:Payette Club is open regular before school hours.
URL:https://bgcwtv.org/event/payette-before-school/2025-11-17/
LOCATION:Payette Clubhouse BGCWTV\, 1222 1st Ave South\, Payette\, ID\, 83661\, United States
CATEGORIES:Payette Clubhouse
END:VEVENT
BEGIN:VEVENT
DTSTART;TZID=America/Boise:20251113T153000
DTEND;TZID=America/Boise:20251113T183000
DTSTAMP:20260423T131358
CREATED:20251103T172039Z
LAST-MODIFIED:20251103T212156Z
UID:10013886-1763047800-1763058600@bgcwtv.org
SUMMARY:Payette After School
DESCRIPTION:Payette Club is open regular after school hours.
URL:https://bgcwtv.org/event/payette-after-school-2/2025-11-13/
LOCATION:Payette Clubhouse BGCWTV\, 1222 1st Ave South\, Payette\, ID\, 83661\, United States
CATEGORIES:Payette Clubhouse
END:VEVENT
BEGIN:VEVENT
DTSTART;TZID=America/Boise:20251113T063000
DTEND;TZID=America/Boise:20251113T080000
DTSTAMP:20260423T131358
CREATED:20251103T210658Z
LAST-MODIFIED:20251103T222457Z
UID:10014338-1763015400-1763020800@bgcwtv.org
SUMMARY:Payette Before School
DESCRIPTION:Payette Club is open regular before school hours.
URL:https://bgcwtv.org/event/payette-before-school/2025-11-13/
LOCATION:Payette Clubhouse BGCWTV\, 1222 1st Ave South\, Payette\, ID\, 83661\, United States
CATEGORIES:Payette Clubhouse
END:VEVENT
BEGIN:VEVENT
DTSTART;TZID=America/Boise:20251112T153000
DTEND;TZID=America/Boise:20251112T183000
DTSTAMP:20260423T131358
CREATED:20251103T172039Z
LAST-MODIFIED:20251103T212156Z
UID:10013885-1762961400-1762972200@bgcwtv.org
SUMMARY:Payette After School
DESCRIPTION:Payette Club is open regular after school hours.
URL:https://bgcwtv.org/event/payette-after-school-2/2025-11-12/
LOCATION:Payette Clubhouse BGCWTV\, 1222 1st Ave South\, Payette\, ID\, 83661\, United States
CATEGORIES:Payette Clubhouse
END:VEVENT
BEGIN:VEVENT
DTSTART;TZID=America/Boise:20251112T063000
DTEND;TZID=America/Boise:20251112T080000
DTSTAMP:20260423T131358
CREATED:20251103T210658Z
LAST-MODIFIED:20251103T222457Z
UID:10014337-1762929000-1762934400@bgcwtv.org
SUMMARY:Payette Before School
DESCRIPTION:Payette Club is open regular before school hours.
URL:https://bgcwtv.org/event/payette-before-school/2025-11-12/
LOCATION:Payette Clubhouse BGCWTV\, 1222 1st Ave South\, Payette\, ID\, 83661\, United States
CATEGORIES:Payette Clubhouse
END:VEVENT
BEGIN:VEVENT
DTSTART;TZID=America/Boise:20251111T153000
DTEND;TZID=America/Boise:20251111T183000
DTSTAMP:20260423T131358
CREATED:20251103T172039Z
LAST-MODIFIED:20251103T212156Z
UID:10013884-1762875000-1762885800@bgcwtv.org
SUMMARY:Payette After School
DESCRIPTION:Payette Club is open regular after school hours.
URL:https://bgcwtv.org/event/payette-after-school-2/2025-11-11/
LOCATION:Payette Clubhouse BGCWTV\, 1222 1st Ave South\, Payette\, ID\, 83661\, United States
CATEGORIES:Payette Clubhouse
END:VEVENT
BEGIN:VEVENT
DTSTART;TZID=America/Boise:20251111T063000
DTEND;TZID=America/Boise:20251111T080000
DTSTAMP:20260423T131358
CREATED:20251103T210658Z
LAST-MODIFIED:20251103T222457Z
UID:10014336-1762842600-1762848000@bgcwtv.org
SUMMARY:Payette Before School
DESCRIPTION:Payette Club is open regular before school hours.
URL:https://bgcwtv.org/event/payette-before-school/2025-11-11/
LOCATION:Payette Clubhouse BGCWTV\, 1222 1st Ave South\, Payette\, ID\, 83661\, United States
CATEGORIES:Payette Clubhouse
END:VEVENT
BEGIN:VEVENT
DTSTART;TZID=America/Boise:20251110T153000
DTEND;TZID=America/Boise:20251110T183000
DTSTAMP:20260423T131358
CREATED:20251103T172039Z
LAST-MODIFIED:20251103T212156Z
UID:10013883-1762788600-1762799400@bgcwtv.org
SUMMARY:Payette After School
DESCRIPTION:Payette Club is open regular after school hours.
URL:https://bgcwtv.org/event/payette-after-school-2/2025-11-10/
LOCATION:Payette Clubhouse BGCWTV\, 1222 1st Ave South\, Payette\, ID\, 83661\, United States
CATEGORIES:Payette Clubhouse
END:VEVENT
BEGIN:VEVENT
DTSTART;TZID=America/Boise:20251110T063000
DTEND;TZID=America/Boise:20251110T080000
DTSTAMP:20260423T131358
CREATED:20251103T210658Z
LAST-MODIFIED:20251103T222457Z
UID:10014335-1762756200-1762761600@bgcwtv.org
SUMMARY:Payette Before School
DESCRIPTION:Payette Club is open regular before school hours.
URL:https://bgcwtv.org/event/payette-before-school/2025-11-10/
LOCATION:Payette Clubhouse BGCWTV\, 1222 1st Ave South\, Payette\, ID\, 83661\, United States
CATEGORIES:Payette Clubhouse
END:VEVENT
BEGIN:VEVENT
DTSTART;TZID=America/Boise:20251106T153000
DTEND;TZID=America/Boise:20251106T183000
DTSTAMP:20260423T131358
CREATED:20251103T172039Z
LAST-MODIFIED:20251103T212156Z
UID:10013882-1762443000-1762453800@bgcwtv.org
SUMMARY:Payette After School
DESCRIPTION:Payette Club is open regular after school hours.
URL:https://bgcwtv.org/event/payette-after-school-2/2025-11-06/
LOCATION:Payette Clubhouse BGCWTV\, 1222 1st Ave South\, Payette\, ID\, 83661\, United States
CATEGORIES:Payette Clubhouse
END:VEVENT
BEGIN:VEVENT
DTSTART;TZID=America/Boise:20251106T063000
DTEND;TZID=America/Boise:20251106T080000
DTSTAMP:20260423T131358
CREATED:20251103T210658Z
LAST-MODIFIED:20251103T222457Z
UID:10014334-1762410600-1762416000@bgcwtv.org
SUMMARY:Payette Before School
DESCRIPTION:Payette Club is open regular before school hours.
URL:https://bgcwtv.org/event/payette-before-school/2025-11-06/
LOCATION:Payette Clubhouse BGCWTV\, 1222 1st Ave South\, Payette\, ID\, 83661\, United States
CATEGORIES:Payette Clubhouse
END:VEVENT
BEGIN:VEVENT
DTSTART;TZID=America/Boise:20251105T153000
DTEND;TZID=America/Boise:20251105T183000
DTSTAMP:20260423T131358
CREATED:20251103T172039Z
LAST-MODIFIED:20251103T212156Z
UID:10013881-1762356600-1762367400@bgcwtv.org
SUMMARY:Payette After School
DESCRIPTION:Payette Club is open regular after school hours.
URL:https://bgcwtv.org/event/payette-after-school-2/2025-11-05/
LOCATION:Payette Clubhouse BGCWTV\, 1222 1st Ave South\, Payette\, ID\, 83661\, United States
CATEGORIES:Payette Clubhouse
END:VEVENT
BEGIN:VEVENT
DTSTART;TZID=America/Boise:20251105T063000
DTEND;TZID=America/Boise:20251105T080000
DTSTAMP:20260423T131358
CREATED:20251103T210658Z
LAST-MODIFIED:20251103T222457Z
UID:10014333-1762324200-1762329600@bgcwtv.org
SUMMARY:Payette Before School
DESCRIPTION:Payette Club is open regular before school hours.
URL:https://bgcwtv.org/event/payette-before-school/2025-11-05/
LOCATION:Payette Clubhouse BGCWTV\, 1222 1st Ave South\, Payette\, ID\, 83661\, United States
CATEGORIES:Payette Clubhouse
END:VEVENT
BEGIN:VEVENT
DTSTART;TZID=America/Boise:20251104T153000
DTEND;TZID=America/Boise:20251104T183000
DTSTAMP:20260423T131358
CREATED:20251103T172039Z
LAST-MODIFIED:20251103T212156Z
UID:10013880-1762270200-1762281000@bgcwtv.org
SUMMARY:Payette After School
DESCRIPTION:Payette Club is open regular after school hours.
URL:https://bgcwtv.org/event/payette-after-school-2/2025-11-04/
LOCATION:Payette Clubhouse BGCWTV\, 1222 1st Ave South\, Payette\, ID\, 83661\, United States
CATEGORIES:Payette Clubhouse
END:VEVENT
BEGIN:VEVENT
DTSTART;TZID=America/Boise:20251104T063000
DTEND;TZID=America/Boise:20251104T080000
DTSTAMP:20260423T131358
CREATED:20251103T210658Z
LAST-MODIFIED:20251103T222457Z
UID:10014332-1762237800-1762243200@bgcwtv.org
SUMMARY:Payette Before School
DESCRIPTION:Payette Club is open regular before school hours.
URL:https://bgcwtv.org/event/payette-before-school/2025-11-04/
LOCATION:Payette Clubhouse BGCWTV\, 1222 1st Ave South\, Payette\, ID\, 83661\, United States
CATEGORIES:Payette Clubhouse
END:VEVENT
BEGIN:VEVENT
DTSTART;TZID=America/Boise:20251103T153000
DTEND;TZID=America/Boise:20251103T183000
DTSTAMP:20260423T131358
CREATED:20251103T172039Z
LAST-MODIFIED:20251103T212156Z
UID:10013879-1762183800-1762194600@bgcwtv.org
SUMMARY:Payette After School
DESCRIPTION:Payette Club is open regular after school hours.
URL:https://bgcwtv.org/event/payette-after-school-2/2025-11-03/
LOCATION:Payette Clubhouse BGCWTV\, 1222 1st Ave South\, Payette\, ID\, 83661\, United States
CATEGORIES:Payette Clubhouse
END:VEVENT
BEGIN:VEVENT
DTSTART;TZID=America/Boise:20251103T063000
DTEND;TZID=America/Boise:20251103T080000
DTSTAMP:20260423T131358
CREATED:20251103T210658Z
LAST-MODIFIED:20251103T222457Z
UID:10014331-1762151400-1762156800@bgcwtv.org
SUMMARY:Payette Before School
DESCRIPTION:Payette Club is open regular before school hours.
URL:https://bgcwtv.org/event/payette-before-school/2025-11-03/
LOCATION:Payette Clubhouse BGCWTV\, 1222 1st Ave South\, Payette\, ID\, 83661\, United States
CATEGORIES:Payette Clubhouse
END:VEVENT
BEGIN:VEVENT
DTSTART;VALUE=DATE:20251024
DTEND;VALUE=DATE:20251025
DTSTAMP:20260423T131358
CREATED:20250829T185935Z
LAST-MODIFIED:20250829T185935Z
UID:10013572-1761264000-1761350399@bgcwtv.org
SUMMARY:Payette Clubhouse Fall Festival
DESCRIPTION:
URL:https://bgcwtv.org/event/payette-clubhouse-fall-festival/
LOCATION:Payette Clubhouse BGCWTV\, 1222 1st Ave South\, Payette\, ID\, 83661\, United States
CATEGORIES:BGCWTV Events,Payette Clubhouse
END:VEVENT
BEGIN:VEVENT
DTSTART;VALUE=DATE:20250606
DTEND;VALUE=DATE:20250607
DTSTAMP:20260423T131358
CREATED:20240801T155118Z
LAST-MODIFIED:20250430T155531Z
UID:10013011-1749196800-1749229200@bgcwtv.org
SUMMARY:All Clubs Closed
DESCRIPTION:
URL:https://bgcwtv.org/event/all-clubs-closed/2025-06-06/
LOCATION:Ontario Clubhouse BGCWTV\, 573 SW 3rd Ave.\, Ontario\, OR\, 97914\, United States
CATEGORIES:Ontario Clubhouse,Payette Clubhouse,Weiser Clubhouse
END:VEVENT
BEGIN:VEVENT
DTSTART;VALUE=DATE:20250605
DTEND;VALUE=DATE:20250606
DTSTAMP:20260423T131358
CREATED:20240801T155118Z
LAST-MODIFIED:20250430T155531Z
UID:10013010-1749110400-1749142800@bgcwtv.org
SUMMARY:All Clubs Closed
DESCRIPTION:
URL:https://bgcwtv.org/event/all-clubs-closed/2025-06-05/
LOCATION:Ontario Clubhouse BGCWTV\, 573 SW 3rd Ave.\, Ontario\, OR\, 97914\, United States
CATEGORIES:Ontario Clubhouse,Payette Clubhouse,Weiser Clubhouse
END:VEVENT
END:VCALENDAR