BEGIN:VCALENDAR
VERSION:2.0
PRODID:-//Boys &amp; Girls Club of Western Treasure Valley - ECPv6.15.20//NONSGML v1.0//EN
CALSCALE:GREGORIAN
METHOD:PUBLISH
X-ORIGINAL-URL:https://bgcwtv.org
X-WR-CALDESC:Events for Boys &amp; Girls Club of Western Treasure Valley
REFRESH-INTERVAL;VALUE=DURATION:PT1H
X-Robots-Tag:noindex
X-PUBLISHED-TTL:PT1H
BEGIN:VTIMEZONE
TZID:America/Boise
BEGIN:DAYLIGHT
TZOFFSETFROM:-0700
TZOFFSETTO:-0600
TZNAME:MDT
DTSTART:20240310T090000
END:DAYLIGHT
BEGIN:STANDARD
TZOFFSETFROM:-0600
TZOFFSETTO:-0700
TZNAME:MST
DTSTART:20241103T080000
END:STANDARD
BEGIN:DAYLIGHT
TZOFFSETFROM:-0700
TZOFFSETTO:-0600
TZNAME:MDT
DTSTART:20250309T090000
END:DAYLIGHT
BEGIN:STANDARD
TZOFFSETFROM:-0600
TZOFFSETTO:-0700
TZNAME:MST
DTSTART:20251102T080000
END:STANDARD
BEGIN:DAYLIGHT
TZOFFSETFROM:-0700
TZOFFSETTO:-0600
TZNAME:MDT
DTSTART:20260308T090000
END:DAYLIGHT
BEGIN:STANDARD
TZOFFSETFROM:-0600
TZOFFSETTO:-0700
TZNAME:MST
DTSTART:20261101T080000
END:STANDARD
BEGIN:DAYLIGHT
TZOFFSETFROM:-0700
TZOFFSETTO:-0600
TZNAME:MDT
DTSTART:20270314T090000
END:DAYLIGHT
BEGIN:STANDARD
TZOFFSETFROM:-0600
TZOFFSETTO:-0700
TZNAME:MST
DTSTART:20271107T080000
END:STANDARD
END:VTIMEZONE
BEGIN:VEVENT
DTSTART;VALUE=DATE:20260116
DTEND;VALUE=DATE:20260117
DTSTAMP:20260423T102143
CREATED:20251216T195813Z
LAST-MODIFIED:20251216T195813Z
UID:10014828-1768521600-1768607999@bgcwtv.org
SUMMARY:All Clubhouses Closed
DESCRIPTION:
URL:https://bgcwtv.org/event/all-clubhouses-closed/
LOCATION:Ontario Clubhouse BGCWTV\, 573 SW 3rd Ave.\, Ontario\, OR\, 97914\, United States
CATEGORIES:Ontario Clubhouse,Payette Clubhouse,Weiser Clubhouse
END:VEVENT
BEGIN:VEVENT
DTSTART;VALUE=DATE:20260109
DTEND;VALUE=DATE:20260110
DTSTAMP:20260423T102143
CREATED:20251216T195717Z
LAST-MODIFIED:20251216T195717Z
UID:10014827-1767916800-1768003199@bgcwtv.org
SUMMARY:Payette & Weiser Clubs: Closed
DESCRIPTION:
URL:https://bgcwtv.org/event/payette-weiser-clubs-closed-2/
LOCATION:Payette Clubhouse BGCWTV\, 1222 1st Ave South\, Payette\, ID\, 83661\, United States
CATEGORIES:Payette Clubhouse,Weiser Clubhouse
END:VEVENT
BEGIN:VEVENT
DTSTART;VALUE=DATE:20260106
DTEND;VALUE=DATE:20260107
DTSTAMP:20260423T102143
CREATED:20251216T195139Z
LAST-MODIFIED:20251216T195438Z
UID:10014825-1767657600-1767743999@bgcwtv.org
SUMMARY:All Clubs back open regular hours
DESCRIPTION:
URL:https://bgcwtv.org/event/all-clubhouses-back-open-regular-hours-2/
LOCATION:Ontario Clubhouse BGCWTV\, 573 SW 3rd Ave.\, Ontario\, OR\, 97914\, United States
CATEGORIES:Ontario Clubhouse,Payette Clubhouse,Weiser Clubhouse
END:VEVENT
BEGIN:VEVENT
DTSTART;TZID=America/Boise:20251218T153000
DTEND;TZID=America/Boise:20251218T183000
DTSTAMP:20260423T102143
CREATED:20251103T172039Z
LAST-MODIFIED:20251103T212156Z
UID:10013906-1766071800-1766082600@bgcwtv.org
SUMMARY:Payette After School
DESCRIPTION:Payette Club is open regular after school hours.
URL:https://bgcwtv.org/event/payette-after-school-2/2025-12-18/
LOCATION:Payette Clubhouse BGCWTV\, 1222 1st Ave South\, Payette\, ID\, 83661\, United States
CATEGORIES:Payette Clubhouse
END:VEVENT
BEGIN:VEVENT
DTSTART;TZID=America/Boise:20251218T063000
DTEND;TZID=America/Boise:20251218T080000
DTSTAMP:20260423T102143
CREATED:20251103T210658Z
LAST-MODIFIED:20251103T222457Z
UID:10014358-1766039400-1766044800@bgcwtv.org
SUMMARY:Payette Before School
DESCRIPTION:Payette Club is open regular before school hours.
URL:https://bgcwtv.org/event/payette-before-school/2025-12-18/
LOCATION:Payette Clubhouse BGCWTV\, 1222 1st Ave South\, Payette\, ID\, 83661\, United States
CATEGORIES:Payette Clubhouse
END:VEVENT
BEGIN:VEVENT
DTSTART;TZID=America/Boise:20251217T153000
DTEND;TZID=America/Boise:20251217T183000
DTSTAMP:20260423T102143
CREATED:20251103T172039Z
LAST-MODIFIED:20251103T212156Z
UID:10013905-1765985400-1765996200@bgcwtv.org
SUMMARY:Payette After School
DESCRIPTION:Payette Club is open regular after school hours.
URL:https://bgcwtv.org/event/payette-after-school-2/2025-12-17/
LOCATION:Payette Clubhouse BGCWTV\, 1222 1st Ave South\, Payette\, ID\, 83661\, United States
CATEGORIES:Payette Clubhouse
END:VEVENT
BEGIN:VEVENT
DTSTART;TZID=America/Boise:20251217T063000
DTEND;TZID=America/Boise:20251217T080000
DTSTAMP:20260423T102143
CREATED:20251103T210658Z
LAST-MODIFIED:20251103T222457Z
UID:10014357-1765953000-1765958400@bgcwtv.org
SUMMARY:Payette Before School
DESCRIPTION:Payette Club is open regular before school hours.
URL:https://bgcwtv.org/event/payette-before-school/2025-12-17/
LOCATION:Payette Clubhouse BGCWTV\, 1222 1st Ave South\, Payette\, ID\, 83661\, United States
CATEGORIES:Payette Clubhouse
END:VEVENT
BEGIN:VEVENT
DTSTART;TZID=America/Boise:20251216T153000
DTEND;TZID=America/Boise:20251216T183000
DTSTAMP:20260423T102143
CREATED:20251103T172039Z
LAST-MODIFIED:20251103T212156Z
UID:10013904-1765899000-1765909800@bgcwtv.org
SUMMARY:Payette After School
DESCRIPTION:Payette Club is open regular after school hours.
URL:https://bgcwtv.org/event/payette-after-school-2/2025-12-16/
LOCATION:Payette Clubhouse BGCWTV\, 1222 1st Ave South\, Payette\, ID\, 83661\, United States
CATEGORIES:Payette Clubhouse
END:VEVENT
BEGIN:VEVENT
DTSTART;TZID=America/Boise:20251216T063000
DTEND;TZID=America/Boise:20251216T080000
DTSTAMP:20260423T102143
CREATED:20251103T210658Z
LAST-MODIFIED:20251103T222457Z
UID:10014356-1765866600-1765872000@bgcwtv.org
SUMMARY:Payette Before School
DESCRIPTION:Payette Club is open regular before school hours.
URL:https://bgcwtv.org/event/payette-before-school/2025-12-16/
LOCATION:Payette Clubhouse BGCWTV\, 1222 1st Ave South\, Payette\, ID\, 83661\, United States
CATEGORIES:Payette Clubhouse
END:VEVENT
BEGIN:VEVENT
DTSTART;TZID=America/Boise:20251215T153000
DTEND;TZID=America/Boise:20251215T183000
DTSTAMP:20260423T102143
CREATED:20251103T172039Z
LAST-MODIFIED:20251103T212156Z
UID:10013903-1765812600-1765823400@bgcwtv.org
SUMMARY:Payette After School
DESCRIPTION:Payette Club is open regular after school hours.
URL:https://bgcwtv.org/event/payette-after-school-2/2025-12-15/
LOCATION:Payette Clubhouse BGCWTV\, 1222 1st Ave South\, Payette\, ID\, 83661\, United States
CATEGORIES:Payette Clubhouse
END:VEVENT
BEGIN:VEVENT
DTSTART;TZID=America/Boise:20251215T063000
DTEND;TZID=America/Boise:20251215T080000
DTSTAMP:20260423T102143
CREATED:20251103T210658Z
LAST-MODIFIED:20251103T222457Z
UID:10014355-1765780200-1765785600@bgcwtv.org
SUMMARY:Payette Before School
DESCRIPTION:Payette Club is open regular before school hours.
URL:https://bgcwtv.org/event/payette-before-school/2025-12-15/
LOCATION:Payette Clubhouse BGCWTV\, 1222 1st Ave South\, Payette\, ID\, 83661\, United States
CATEGORIES:Payette Clubhouse
END:VEVENT
BEGIN:VEVENT
DTSTART;TZID=America/Boise:20251211T153000
DTEND;TZID=America/Boise:20251211T183000
DTSTAMP:20260423T102143
CREATED:20251103T172039Z
LAST-MODIFIED:20251103T212156Z
UID:10013902-1765467000-1765477800@bgcwtv.org
SUMMARY:Payette After School
DESCRIPTION:Payette Club is open regular after school hours.
URL:https://bgcwtv.org/event/payette-after-school-2/2025-12-11/
LOCATION:Payette Clubhouse BGCWTV\, 1222 1st Ave South\, Payette\, ID\, 83661\, United States
CATEGORIES:Payette Clubhouse
END:VEVENT
BEGIN:VEVENT
DTSTART;TZID=America/Boise:20251211T063000
DTEND;TZID=America/Boise:20251211T080000
DTSTAMP:20260423T102143
CREATED:20251103T210658Z
LAST-MODIFIED:20251103T222457Z
UID:10014354-1765434600-1765440000@bgcwtv.org
SUMMARY:Payette Before School
DESCRIPTION:Payette Club is open regular before school hours.
URL:https://bgcwtv.org/event/payette-before-school/2025-12-11/
LOCATION:Payette Clubhouse BGCWTV\, 1222 1st Ave South\, Payette\, ID\, 83661\, United States
CATEGORIES:Payette Clubhouse
END:VEVENT
BEGIN:VEVENT
DTSTART;TZID=America/Boise:20251210T153000
DTEND;TZID=America/Boise:20251210T183000
DTSTAMP:20260423T102143
CREATED:20251103T172039Z
LAST-MODIFIED:20251103T212156Z
UID:10013901-1765380600-1765391400@bgcwtv.org
SUMMARY:Payette After School
DESCRIPTION:Payette Club is open regular after school hours.
URL:https://bgcwtv.org/event/payette-after-school-2/2025-12-10/
LOCATION:Payette Clubhouse BGCWTV\, 1222 1st Ave South\, Payette\, ID\, 83661\, United States
CATEGORIES:Payette Clubhouse
END:VEVENT
BEGIN:VEVENT
DTSTART;TZID=America/Boise:20251210T063000
DTEND;TZID=America/Boise:20251210T080000
DTSTAMP:20260423T102143
CREATED:20251103T210658Z
LAST-MODIFIED:20251103T222457Z
UID:10014353-1765348200-1765353600@bgcwtv.org
SUMMARY:Payette Before School
DESCRIPTION:Payette Club is open regular before school hours.
URL:https://bgcwtv.org/event/payette-before-school/2025-12-10/
LOCATION:Payette Clubhouse BGCWTV\, 1222 1st Ave South\, Payette\, ID\, 83661\, United States
CATEGORIES:Payette Clubhouse
END:VEVENT
BEGIN:VEVENT
DTSTART;TZID=America/Boise:20251209T153000
DTEND;TZID=America/Boise:20251209T183000
DTSTAMP:20260423T102143
CREATED:20251103T172039Z
LAST-MODIFIED:20251103T212156Z
UID:10013900-1765294200-1765305000@bgcwtv.org
SUMMARY:Payette After School
DESCRIPTION:Payette Club is open regular after school hours.
URL:https://bgcwtv.org/event/payette-after-school-2/2025-12-09/
LOCATION:Payette Clubhouse BGCWTV\, 1222 1st Ave South\, Payette\, ID\, 83661\, United States
CATEGORIES:Payette Clubhouse
END:VEVENT
BEGIN:VEVENT
DTSTART;TZID=America/Boise:20251209T063000
DTEND;TZID=America/Boise:20251209T080000
DTSTAMP:20260423T102143
CREATED:20251103T210658Z
LAST-MODIFIED:20251103T222457Z
UID:10014352-1765261800-1765267200@bgcwtv.org
SUMMARY:Payette Before School
DESCRIPTION:Payette Club is open regular before school hours.
URL:https://bgcwtv.org/event/payette-before-school/2025-12-09/
LOCATION:Payette Clubhouse BGCWTV\, 1222 1st Ave South\, Payette\, ID\, 83661\, United States
CATEGORIES:Payette Clubhouse
END:VEVENT
BEGIN:VEVENT
DTSTART;TZID=America/Boise:20251208T153000
DTEND;TZID=America/Boise:20251208T183000
DTSTAMP:20260423T102143
CREATED:20251103T172039Z
LAST-MODIFIED:20251103T212156Z
UID:10013899-1765207800-1765218600@bgcwtv.org
SUMMARY:Payette After School
DESCRIPTION:Payette Club is open regular after school hours.
URL:https://bgcwtv.org/event/payette-after-school-2/2025-12-08/
LOCATION:Payette Clubhouse BGCWTV\, 1222 1st Ave South\, Payette\, ID\, 83661\, United States
CATEGORIES:Payette Clubhouse
END:VEVENT
BEGIN:VEVENT
DTSTART;TZID=America/Boise:20251208T063000
DTEND;TZID=America/Boise:20251208T080000
DTSTAMP:20260423T102143
CREATED:20251103T210658Z
LAST-MODIFIED:20251103T222457Z
UID:10014351-1765175400-1765180800@bgcwtv.org
SUMMARY:Payette Before School
DESCRIPTION:Payette Club is open regular before school hours.
URL:https://bgcwtv.org/event/payette-before-school/2025-12-08/
LOCATION:Payette Clubhouse BGCWTV\, 1222 1st Ave South\, Payette\, ID\, 83661\, United States
CATEGORIES:Payette Clubhouse
END:VEVENT
BEGIN:VEVENT
DTSTART;TZID=America/Boise:20251204T153000
DTEND;TZID=America/Boise:20251204T183000
DTSTAMP:20260423T102143
CREATED:20251103T172039Z
LAST-MODIFIED:20251103T212156Z
UID:10013898-1764862200-1764873000@bgcwtv.org
SUMMARY:Payette After School
DESCRIPTION:Payette Club is open regular after school hours.
URL:https://bgcwtv.org/event/payette-after-school-2/2025-12-04/
LOCATION:Payette Clubhouse BGCWTV\, 1222 1st Ave South\, Payette\, ID\, 83661\, United States
CATEGORIES:Payette Clubhouse
END:VEVENT
BEGIN:VEVENT
DTSTART;TZID=America/Boise:20251204T063000
DTEND;TZID=America/Boise:20251204T080000
DTSTAMP:20260423T102143
CREATED:20251103T210658Z
LAST-MODIFIED:20251103T222457Z
UID:10014350-1764829800-1764835200@bgcwtv.org
SUMMARY:Payette Before School
DESCRIPTION:Payette Club is open regular before school hours.
URL:https://bgcwtv.org/event/payette-before-school/2025-12-04/
LOCATION:Payette Clubhouse BGCWTV\, 1222 1st Ave South\, Payette\, ID\, 83661\, United States
CATEGORIES:Payette Clubhouse
END:VEVENT
BEGIN:VEVENT
DTSTART;TZID=America/Boise:20251203T153000
DTEND;TZID=America/Boise:20251203T183000
DTSTAMP:20260423T102143
CREATED:20251103T172039Z
LAST-MODIFIED:20251103T212156Z
UID:10013897-1764775800-1764786600@bgcwtv.org
SUMMARY:Payette After School
DESCRIPTION:Payette Club is open regular after school hours.
URL:https://bgcwtv.org/event/payette-after-school-2/2025-12-03/
LOCATION:Payette Clubhouse BGCWTV\, 1222 1st Ave South\, Payette\, ID\, 83661\, United States
CATEGORIES:Payette Clubhouse
END:VEVENT
BEGIN:VEVENT
DTSTART;TZID=America/Boise:20251203T063000
DTEND;TZID=America/Boise:20251203T080000
DTSTAMP:20260423T102143
CREATED:20251103T210658Z
LAST-MODIFIED:20251103T222457Z
UID:10014349-1764743400-1764748800@bgcwtv.org
SUMMARY:Payette Before School
DESCRIPTION:Payette Club is open regular before school hours.
URL:https://bgcwtv.org/event/payette-before-school/2025-12-03/
LOCATION:Payette Clubhouse BGCWTV\, 1222 1st Ave South\, Payette\, ID\, 83661\, United States
CATEGORIES:Payette Clubhouse
END:VEVENT
BEGIN:VEVENT
DTSTART;TZID=America/Boise:20251202T153000
DTEND;TZID=America/Boise:20251202T183000
DTSTAMP:20260423T102143
CREATED:20251103T172039Z
LAST-MODIFIED:20251103T212156Z
UID:10013896-1764689400-1764700200@bgcwtv.org
SUMMARY:Payette After School
DESCRIPTION:Payette Club is open regular after school hours.
URL:https://bgcwtv.org/event/payette-after-school-2/2025-12-02/
LOCATION:Payette Clubhouse BGCWTV\, 1222 1st Ave South\, Payette\, ID\, 83661\, United States
CATEGORIES:Payette Clubhouse
END:VEVENT
BEGIN:VEVENT
DTSTART;TZID=America/Boise:20251202T063000
DTEND;TZID=America/Boise:20251202T080000
DTSTAMP:20260423T102143
CREATED:20251103T210658Z
LAST-MODIFIED:20251103T222457Z
UID:10014348-1764657000-1764662400@bgcwtv.org
SUMMARY:Payette Before School
DESCRIPTION:Payette Club is open regular before school hours.
URL:https://bgcwtv.org/event/payette-before-school/2025-12-02/
LOCATION:Payette Clubhouse BGCWTV\, 1222 1st Ave South\, Payette\, ID\, 83661\, United States
CATEGORIES:Payette Clubhouse
END:VEVENT
BEGIN:VEVENT
DTSTART;TZID=America/Boise:20251201T153000
DTEND;TZID=America/Boise:20251201T183000
DTSTAMP:20260423T102143
CREATED:20251103T172039Z
LAST-MODIFIED:20251103T212156Z
UID:10013895-1764603000-1764613800@bgcwtv.org
SUMMARY:Payette After School
DESCRIPTION:Payette Club is open regular after school hours.
URL:https://bgcwtv.org/event/payette-after-school-2/2025-12-01/
LOCATION:Payette Clubhouse BGCWTV\, 1222 1st Ave South\, Payette\, ID\, 83661\, United States
CATEGORIES:Payette Clubhouse
END:VEVENT
BEGIN:VEVENT
DTSTART;TZID=America/Boise:20251201T063000
DTEND;TZID=America/Boise:20251201T080000
DTSTAMP:20260423T102143
CREATED:20251103T210658Z
LAST-MODIFIED:20251103T222457Z
UID:10014347-1764570600-1764576000@bgcwtv.org
SUMMARY:Payette Before School
DESCRIPTION:Payette Club is open regular before school hours.
URL:https://bgcwtv.org/event/payette-before-school/2025-12-01/
LOCATION:Payette Clubhouse BGCWTV\, 1222 1st Ave South\, Payette\, ID\, 83661\, United States
CATEGORIES:Payette Clubhouse
END:VEVENT
BEGIN:VEVENT
DTSTART;TZID=America/Boise:20251120T153000
DTEND;TZID=America/Boise:20251120T183000
DTSTAMP:20260423T102143
CREATED:20251103T172039Z
LAST-MODIFIED:20251103T212156Z
UID:10013890-1763652600-1763663400@bgcwtv.org
SUMMARY:Payette After School
DESCRIPTION:Payette Club is open regular after school hours.
URL:https://bgcwtv.org/event/payette-after-school-2/2025-11-20/
LOCATION:Payette Clubhouse BGCWTV\, 1222 1st Ave South\, Payette\, ID\, 83661\, United States
CATEGORIES:Payette Clubhouse
END:VEVENT
BEGIN:VEVENT
DTSTART;TZID=America/Boise:20251120T063000
DTEND;TZID=America/Boise:20251120T080000
DTSTAMP:20260423T102143
CREATED:20251103T210658Z
LAST-MODIFIED:20251103T222457Z
UID:10014342-1763620200-1763625600@bgcwtv.org
SUMMARY:Payette Before School
DESCRIPTION:Payette Club is open regular before school hours.
URL:https://bgcwtv.org/event/payette-before-school/2025-11-20/
LOCATION:Payette Clubhouse BGCWTV\, 1222 1st Ave South\, Payette\, ID\, 83661\, United States
CATEGORIES:Payette Clubhouse
END:VEVENT
BEGIN:VEVENT
DTSTART;TZID=America/Boise:20251119T153000
DTEND;TZID=America/Boise:20251119T183000
DTSTAMP:20260423T102143
CREATED:20251103T172039Z
LAST-MODIFIED:20251103T212156Z
UID:10013889-1763566200-1763577000@bgcwtv.org
SUMMARY:Payette After School
DESCRIPTION:Payette Club is open regular after school hours.
URL:https://bgcwtv.org/event/payette-after-school-2/2025-11-19/
LOCATION:Payette Clubhouse BGCWTV\, 1222 1st Ave South\, Payette\, ID\, 83661\, United States
CATEGORIES:Payette Clubhouse
END:VEVENT
END:VCALENDAR