BEGIN:VCALENDAR
VERSION:2.0
PRODID:-//Boys &amp; Girls Club of Western Treasure Valley - ECPv6.15.20//NONSGML v1.0//EN
CALSCALE:GREGORIAN
METHOD:PUBLISH
X-WR-CALNAME:Boys &amp; Girls Club of Western Treasure Valley
X-ORIGINAL-URL:https://bgcwtv.org
X-WR-CALDESC:Events for Boys &amp; Girls Club of Western Treasure Valley
REFRESH-INTERVAL;VALUE=DURATION:PT1H
X-Robots-Tag:noindex
X-PUBLISHED-TTL:PT1H
BEGIN:VTIMEZONE
TZID:America/Boise
BEGIN:DAYLIGHT
TZOFFSETFROM:-0700
TZOFFSETTO:-0600
TZNAME:MDT
DTSTART:20240310T090000
END:DAYLIGHT
BEGIN:STANDARD
TZOFFSETFROM:-0600
TZOFFSETTO:-0700
TZNAME:MST
DTSTART:20241103T080000
END:STANDARD
BEGIN:DAYLIGHT
TZOFFSETFROM:-0700
TZOFFSETTO:-0600
TZNAME:MDT
DTSTART:20250309T090000
END:DAYLIGHT
BEGIN:STANDARD
TZOFFSETFROM:-0600
TZOFFSETTO:-0700
TZNAME:MST
DTSTART:20251102T080000
END:STANDARD
BEGIN:DAYLIGHT
TZOFFSETFROM:-0700
TZOFFSETTO:-0600
TZNAME:MDT
DTSTART:20260308T090000
END:DAYLIGHT
BEGIN:STANDARD
TZOFFSETFROM:-0600
TZOFFSETTO:-0700
TZNAME:MST
DTSTART:20261101T080000
END:STANDARD
END:VTIMEZONE
BEGIN:VEVENT
DTSTART;TZID=America/Boise:20250804T100000
DTEND;TZID=America/Boise:20250804T173000
DTSTAMP:20260423T174209
CREATED:20250530T200634Z
LAST-MODIFIED:20250530T201150Z
UID:10013059-1754301600-1754328600@bgcwtv.org
SUMMARY:Ontario Regular Summer Program
DESCRIPTION:
URL:https://bgcwtv.org/event/ontario-regular-summer-program/2025-08-04/
LOCATION:Ontario Clubhouse BGCWTV\, 573 SW 3rd Ave.\, Ontario\, OR\, 97914\, United States
CATEGORIES:Ontario Clubhouse
END:VEVENT
BEGIN:VEVENT
DTSTART;TZID=America/Boise:20250804T074500
DTEND;TZID=America/Boise:20250804T100000
DTSTAMP:20260423T174209
CREATED:20250530T200749Z
LAST-MODIFIED:20250530T201244Z
UID:10013362-1754293500-1754301600@bgcwtv.org
SUMMARY:Ontario Early Risers Summer Program
DESCRIPTION:
URL:https://bgcwtv.org/event/ontario-early-risers-summer-program/2025-08-04/
LOCATION:Ontario Clubhouse BGCWTV\, 573 SW 3rd Ave.\, Ontario\, OR\, 97914\, United States
CATEGORIES:Ontario Clubhouse
END:VEVENT
BEGIN:VEVENT
DTSTART;TZID=America/Boise:20250801T100000
DTEND;TZID=America/Boise:20250801T173000
DTSTAMP:20260423T174209
CREATED:20250530T200634Z
LAST-MODIFIED:20250530T201150Z
UID:10013058-1754042400-1754069400@bgcwtv.org
SUMMARY:Ontario Regular Summer Program
DESCRIPTION:
URL:https://bgcwtv.org/event/ontario-regular-summer-program/2025-08-01/
LOCATION:Ontario Clubhouse BGCWTV\, 573 SW 3rd Ave.\, Ontario\, OR\, 97914\, United States
CATEGORIES:Ontario Clubhouse
END:VEVENT
BEGIN:VEVENT
DTSTART;TZID=America/Boise:20250801T074500
DTEND;TZID=America/Boise:20250801T100000
DTSTAMP:20260423T174209
CREATED:20250530T200749Z
LAST-MODIFIED:20250530T201244Z
UID:10013361-1754034300-1754042400@bgcwtv.org
SUMMARY:Ontario Early Risers Summer Program
DESCRIPTION:
URL:https://bgcwtv.org/event/ontario-early-risers-summer-program/2025-08-01/
LOCATION:Ontario Clubhouse BGCWTV\, 573 SW 3rd Ave.\, Ontario\, OR\, 97914\, United States
CATEGORIES:Ontario Clubhouse
END:VEVENT
BEGIN:VEVENT
DTSTART;TZID=America/Boise:20250731T100000
DTEND;TZID=America/Boise:20250731T173000
DTSTAMP:20260423T174209
CREATED:20250530T200634Z
LAST-MODIFIED:20250530T201150Z
UID:10013057-1753956000-1753983000@bgcwtv.org
SUMMARY:Ontario Regular Summer Program
DESCRIPTION:
URL:https://bgcwtv.org/event/ontario-regular-summer-program/2025-07-31/
LOCATION:Ontario Clubhouse BGCWTV\, 573 SW 3rd Ave.\, Ontario\, OR\, 97914\, United States
CATEGORIES:Ontario Clubhouse
END:VEVENT
BEGIN:VEVENT
DTSTART;TZID=America/Boise:20250731T074500
DTEND;TZID=America/Boise:20250731T100000
DTSTAMP:20260423T174209
CREATED:20250530T200749Z
LAST-MODIFIED:20250530T201244Z
UID:10013360-1753947900-1753956000@bgcwtv.org
SUMMARY:Ontario Early Risers Summer Program
DESCRIPTION:
URL:https://bgcwtv.org/event/ontario-early-risers-summer-program/2025-07-31/
LOCATION:Ontario Clubhouse BGCWTV\, 573 SW 3rd Ave.\, Ontario\, OR\, 97914\, United States
CATEGORIES:Ontario Clubhouse
END:VEVENT
BEGIN:VEVENT
DTSTART;TZID=America/Boise:20250730T100000
DTEND;TZID=America/Boise:20250730T173000
DTSTAMP:20260423T174209
CREATED:20250530T200634Z
LAST-MODIFIED:20250530T201150Z
UID:10013056-1753869600-1753896600@bgcwtv.org
SUMMARY:Ontario Regular Summer Program
DESCRIPTION:
URL:https://bgcwtv.org/event/ontario-regular-summer-program/2025-07-30/
LOCATION:Ontario Clubhouse BGCWTV\, 573 SW 3rd Ave.\, Ontario\, OR\, 97914\, United States
CATEGORIES:Ontario Clubhouse
END:VEVENT
BEGIN:VEVENT
DTSTART;TZID=America/Boise:20250730T074500
DTEND;TZID=America/Boise:20250730T100000
DTSTAMP:20260423T174209
CREATED:20250530T200749Z
LAST-MODIFIED:20250530T201244Z
UID:10013359-1753861500-1753869600@bgcwtv.org
SUMMARY:Ontario Early Risers Summer Program
DESCRIPTION:
URL:https://bgcwtv.org/event/ontario-early-risers-summer-program/2025-07-30/
LOCATION:Ontario Clubhouse BGCWTV\, 573 SW 3rd Ave.\, Ontario\, OR\, 97914\, United States
CATEGORIES:Ontario Clubhouse
END:VEVENT
BEGIN:VEVENT
DTSTART;TZID=America/Boise:20250729T100000
DTEND;TZID=America/Boise:20250729T173000
DTSTAMP:20260423T174209
CREATED:20250530T200634Z
LAST-MODIFIED:20250530T201150Z
UID:10013055-1753783200-1753810200@bgcwtv.org
SUMMARY:Ontario Regular Summer Program
DESCRIPTION:
URL:https://bgcwtv.org/event/ontario-regular-summer-program/2025-07-29/
LOCATION:Ontario Clubhouse BGCWTV\, 573 SW 3rd Ave.\, Ontario\, OR\, 97914\, United States
CATEGORIES:Ontario Clubhouse
END:VEVENT
BEGIN:VEVENT
DTSTART;TZID=America/Boise:20250729T074500
DTEND;TZID=America/Boise:20250729T100000
DTSTAMP:20260423T174209
CREATED:20250530T200749Z
LAST-MODIFIED:20250530T201244Z
UID:10013358-1753775100-1753783200@bgcwtv.org
SUMMARY:Ontario Early Risers Summer Program
DESCRIPTION:
URL:https://bgcwtv.org/event/ontario-early-risers-summer-program/2025-07-29/
LOCATION:Ontario Clubhouse BGCWTV\, 573 SW 3rd Ave.\, Ontario\, OR\, 97914\, United States
CATEGORIES:Ontario Clubhouse
END:VEVENT
BEGIN:VEVENT
DTSTART;TZID=America/Boise:20250728T100000
DTEND;TZID=America/Boise:20250728T173000
DTSTAMP:20260423T174209
CREATED:20250530T200634Z
LAST-MODIFIED:20250530T201150Z
UID:10013054-1753696800-1753723800@bgcwtv.org
SUMMARY:Ontario Regular Summer Program
DESCRIPTION:
URL:https://bgcwtv.org/event/ontario-regular-summer-program/2025-07-28/
LOCATION:Ontario Clubhouse BGCWTV\, 573 SW 3rd Ave.\, Ontario\, OR\, 97914\, United States
CATEGORIES:Ontario Clubhouse
END:VEVENT
BEGIN:VEVENT
DTSTART;TZID=America/Boise:20250728T074500
DTEND;TZID=America/Boise:20250728T100000
DTSTAMP:20260423T174209
CREATED:20250530T200749Z
LAST-MODIFIED:20250530T201244Z
UID:10013357-1753688700-1753696800@bgcwtv.org
SUMMARY:Ontario Early Risers Summer Program
DESCRIPTION:
URL:https://bgcwtv.org/event/ontario-early-risers-summer-program/2025-07-28/
LOCATION:Ontario Clubhouse BGCWTV\, 573 SW 3rd Ave.\, Ontario\, OR\, 97914\, United States
CATEGORIES:Ontario Clubhouse
END:VEVENT
BEGIN:VEVENT
DTSTART;TZID=America/Boise:20250725T100000
DTEND;TZID=America/Boise:20250725T173000
DTSTAMP:20260423T174209
CREATED:20250530T200634Z
LAST-MODIFIED:20250530T201150Z
UID:10013053-1753437600-1753464600@bgcwtv.org
SUMMARY:Ontario Regular Summer Program
DESCRIPTION:
URL:https://bgcwtv.org/event/ontario-regular-summer-program/2025-07-25/
LOCATION:Ontario Clubhouse BGCWTV\, 573 SW 3rd Ave.\, Ontario\, OR\, 97914\, United States
CATEGORIES:Ontario Clubhouse
END:VEVENT
BEGIN:VEVENT
DTSTART;TZID=America/Boise:20250725T074500
DTEND;TZID=America/Boise:20250725T100000
DTSTAMP:20260423T174209
CREATED:20250530T200749Z
LAST-MODIFIED:20250530T201244Z
UID:10013356-1753429500-1753437600@bgcwtv.org
SUMMARY:Ontario Early Risers Summer Program
DESCRIPTION:
URL:https://bgcwtv.org/event/ontario-early-risers-summer-program/2025-07-25/
LOCATION:Ontario Clubhouse BGCWTV\, 573 SW 3rd Ave.\, Ontario\, OR\, 97914\, United States
CATEGORIES:Ontario Clubhouse
END:VEVENT
BEGIN:VEVENT
DTSTART;TZID=America/Boise:20250724T100000
DTEND;TZID=America/Boise:20250724T173000
DTSTAMP:20260423T174209
CREATED:20250530T200634Z
LAST-MODIFIED:20250530T201150Z
UID:10013052-1753351200-1753378200@bgcwtv.org
SUMMARY:Ontario Regular Summer Program
DESCRIPTION:
URL:https://bgcwtv.org/event/ontario-regular-summer-program/2025-07-24/
LOCATION:Ontario Clubhouse BGCWTV\, 573 SW 3rd Ave.\, Ontario\, OR\, 97914\, United States
CATEGORIES:Ontario Clubhouse
END:VEVENT
BEGIN:VEVENT
DTSTART;TZID=America/Boise:20250724T074500
DTEND;TZID=America/Boise:20250724T100000
DTSTAMP:20260423T174209
CREATED:20250530T200749Z
LAST-MODIFIED:20250530T201244Z
UID:10013355-1753343100-1753351200@bgcwtv.org
SUMMARY:Ontario Early Risers Summer Program
DESCRIPTION:
URL:https://bgcwtv.org/event/ontario-early-risers-summer-program/2025-07-24/
LOCATION:Ontario Clubhouse BGCWTV\, 573 SW 3rd Ave.\, Ontario\, OR\, 97914\, United States
CATEGORIES:Ontario Clubhouse
END:VEVENT
BEGIN:VEVENT
DTSTART;TZID=America/Boise:20250723T100000
DTEND;TZID=America/Boise:20250723T173000
DTSTAMP:20260423T174209
CREATED:20250530T200634Z
LAST-MODIFIED:20250530T201150Z
UID:10013051-1753264800-1753291800@bgcwtv.org
SUMMARY:Ontario Regular Summer Program
DESCRIPTION:
URL:https://bgcwtv.org/event/ontario-regular-summer-program/2025-07-23/
LOCATION:Ontario Clubhouse BGCWTV\, 573 SW 3rd Ave.\, Ontario\, OR\, 97914\, United States
CATEGORIES:Ontario Clubhouse
END:VEVENT
BEGIN:VEVENT
DTSTART;TZID=America/Boise:20250723T074500
DTEND;TZID=America/Boise:20250723T100000
DTSTAMP:20260423T174209
CREATED:20250530T200749Z
LAST-MODIFIED:20250530T201244Z
UID:10013354-1753256700-1753264800@bgcwtv.org
SUMMARY:Ontario Early Risers Summer Program
DESCRIPTION:
URL:https://bgcwtv.org/event/ontario-early-risers-summer-program/2025-07-23/
LOCATION:Ontario Clubhouse BGCWTV\, 573 SW 3rd Ave.\, Ontario\, OR\, 97914\, United States
CATEGORIES:Ontario Clubhouse
END:VEVENT
BEGIN:VEVENT
DTSTART;TZID=America/Boise:20250722T100000
DTEND;TZID=America/Boise:20250722T173000
DTSTAMP:20260423T174209
CREATED:20250530T200634Z
LAST-MODIFIED:20250530T201150Z
UID:10013050-1753178400-1753205400@bgcwtv.org
SUMMARY:Ontario Regular Summer Program
DESCRIPTION:
URL:https://bgcwtv.org/event/ontario-regular-summer-program/2025-07-22/
LOCATION:Ontario Clubhouse BGCWTV\, 573 SW 3rd Ave.\, Ontario\, OR\, 97914\, United States
CATEGORIES:Ontario Clubhouse
END:VEVENT
BEGIN:VEVENT
DTSTART;TZID=America/Boise:20250722T074500
DTEND;TZID=America/Boise:20250722T100000
DTSTAMP:20260423T174209
CREATED:20250530T200749Z
LAST-MODIFIED:20250530T201244Z
UID:10013353-1753170300-1753178400@bgcwtv.org
SUMMARY:Ontario Early Risers Summer Program
DESCRIPTION:
URL:https://bgcwtv.org/event/ontario-early-risers-summer-program/2025-07-22/
LOCATION:Ontario Clubhouse BGCWTV\, 573 SW 3rd Ave.\, Ontario\, OR\, 97914\, United States
CATEGORIES:Ontario Clubhouse
END:VEVENT
BEGIN:VEVENT
DTSTART;TZID=America/Boise:20250721T100000
DTEND;TZID=America/Boise:20250721T173000
DTSTAMP:20260423T174209
CREATED:20250530T200634Z
LAST-MODIFIED:20250530T201150Z
UID:10013049-1753092000-1753119000@bgcwtv.org
SUMMARY:Ontario Regular Summer Program
DESCRIPTION:
URL:https://bgcwtv.org/event/ontario-regular-summer-program/2025-07-21/
LOCATION:Ontario Clubhouse BGCWTV\, 573 SW 3rd Ave.\, Ontario\, OR\, 97914\, United States
CATEGORIES:Ontario Clubhouse
END:VEVENT
BEGIN:VEVENT
DTSTART;TZID=America/Boise:20250721T074500
DTEND;TZID=America/Boise:20250721T100000
DTSTAMP:20260423T174209
CREATED:20250530T200749Z
LAST-MODIFIED:20250530T201244Z
UID:10013352-1753083900-1753092000@bgcwtv.org
SUMMARY:Ontario Early Risers Summer Program
DESCRIPTION:
URL:https://bgcwtv.org/event/ontario-early-risers-summer-program/2025-07-21/
LOCATION:Ontario Clubhouse BGCWTV\, 573 SW 3rd Ave.\, Ontario\, OR\, 97914\, United States
CATEGORIES:Ontario Clubhouse
END:VEVENT
BEGIN:VEVENT
DTSTART;TZID=America/Boise:20250718T100000
DTEND;TZID=America/Boise:20250718T173000
DTSTAMP:20260423T174209
CREATED:20250530T200634Z
LAST-MODIFIED:20250530T201150Z
UID:10013048-1752832800-1752859800@bgcwtv.org
SUMMARY:Ontario Regular Summer Program
DESCRIPTION:
URL:https://bgcwtv.org/event/ontario-regular-summer-program/2025-07-18/
LOCATION:Ontario Clubhouse BGCWTV\, 573 SW 3rd Ave.\, Ontario\, OR\, 97914\, United States
CATEGORIES:Ontario Clubhouse
END:VEVENT
BEGIN:VEVENT
DTSTART;TZID=America/Boise:20250718T074500
DTEND;TZID=America/Boise:20250718T100000
DTSTAMP:20260423T174209
CREATED:20250530T200749Z
LAST-MODIFIED:20250530T201244Z
UID:10013351-1752824700-1752832800@bgcwtv.org
SUMMARY:Ontario Early Risers Summer Program
DESCRIPTION:
URL:https://bgcwtv.org/event/ontario-early-risers-summer-program/2025-07-18/
LOCATION:Ontario Clubhouse BGCWTV\, 573 SW 3rd Ave.\, Ontario\, OR\, 97914\, United States
CATEGORIES:Ontario Clubhouse
END:VEVENT
BEGIN:VEVENT
DTSTART;TZID=America/Boise:20250717T100000
DTEND;TZID=America/Boise:20250717T173000
DTSTAMP:20260423T174209
CREATED:20250530T200634Z
LAST-MODIFIED:20250530T201150Z
UID:10013047-1752746400-1752773400@bgcwtv.org
SUMMARY:Ontario Regular Summer Program
DESCRIPTION:
URL:https://bgcwtv.org/event/ontario-regular-summer-program/2025-07-17/
LOCATION:Ontario Clubhouse BGCWTV\, 573 SW 3rd Ave.\, Ontario\, OR\, 97914\, United States
CATEGORIES:Ontario Clubhouse
END:VEVENT
BEGIN:VEVENT
DTSTART;TZID=America/Boise:20250717T074500
DTEND;TZID=America/Boise:20250717T100000
DTSTAMP:20260423T174209
CREATED:20250530T200749Z
LAST-MODIFIED:20250530T201244Z
UID:10013350-1752738300-1752746400@bgcwtv.org
SUMMARY:Ontario Early Risers Summer Program
DESCRIPTION:
URL:https://bgcwtv.org/event/ontario-early-risers-summer-program/2025-07-17/
LOCATION:Ontario Clubhouse BGCWTV\, 573 SW 3rd Ave.\, Ontario\, OR\, 97914\, United States
CATEGORIES:Ontario Clubhouse
END:VEVENT
BEGIN:VEVENT
DTSTART;TZID=America/Boise:20250716T100000
DTEND;TZID=America/Boise:20250716T173000
DTSTAMP:20260423T174209
CREATED:20250530T200634Z
LAST-MODIFIED:20250530T201150Z
UID:10013046-1752660000-1752687000@bgcwtv.org
SUMMARY:Ontario Regular Summer Program
DESCRIPTION:
URL:https://bgcwtv.org/event/ontario-regular-summer-program/2025-07-16/
LOCATION:Ontario Clubhouse BGCWTV\, 573 SW 3rd Ave.\, Ontario\, OR\, 97914\, United States
CATEGORIES:Ontario Clubhouse
END:VEVENT
BEGIN:VEVENT
DTSTART;TZID=America/Boise:20250716T074500
DTEND;TZID=America/Boise:20250716T100000
DTSTAMP:20260423T174209
CREATED:20250530T200749Z
LAST-MODIFIED:20250530T201244Z
UID:10013349-1752651900-1752660000@bgcwtv.org
SUMMARY:Ontario Early Risers Summer Program
DESCRIPTION:
URL:https://bgcwtv.org/event/ontario-early-risers-summer-program/2025-07-16/
LOCATION:Ontario Clubhouse BGCWTV\, 573 SW 3rd Ave.\, Ontario\, OR\, 97914\, United States
CATEGORIES:Ontario Clubhouse
END:VEVENT
BEGIN:VEVENT
DTSTART;TZID=America/Boise:20250715T100000
DTEND;TZID=America/Boise:20250715T173000
DTSTAMP:20260423T174209
CREATED:20250530T200634Z
LAST-MODIFIED:20250530T201150Z
UID:10013045-1752573600-1752600600@bgcwtv.org
SUMMARY:Ontario Regular Summer Program
DESCRIPTION:
URL:https://bgcwtv.org/event/ontario-regular-summer-program/2025-07-15/
LOCATION:Ontario Clubhouse BGCWTV\, 573 SW 3rd Ave.\, Ontario\, OR\, 97914\, United States
CATEGORIES:Ontario Clubhouse
END:VEVENT
BEGIN:VEVENT
DTSTART;TZID=America/Boise:20250715T074500
DTEND;TZID=America/Boise:20250715T100000
DTSTAMP:20260423T174209
CREATED:20250530T200749Z
LAST-MODIFIED:20250530T201244Z
UID:10013348-1752565500-1752573600@bgcwtv.org
SUMMARY:Ontario Early Risers Summer Program
DESCRIPTION:
URL:https://bgcwtv.org/event/ontario-early-risers-summer-program/2025-07-15/
LOCATION:Ontario Clubhouse BGCWTV\, 573 SW 3rd Ave.\, Ontario\, OR\, 97914\, United States
CATEGORIES:Ontario Clubhouse
END:VEVENT
END:VCALENDAR