BEGIN:VCALENDAR
VERSION:2.0
PRODID:-//Boys &amp; Girls Club of Western Treasure Valley - ECPv6.15.20//NONSGML v1.0//EN
CALSCALE:GREGORIAN
METHOD:PUBLISH
X-WR-CALNAME:Boys &amp; Girls Club of Western Treasure Valley
X-ORIGINAL-URL:https://bgcwtv.org
X-WR-CALDESC:Events for Boys &amp; Girls Club of Western Treasure Valley
REFRESH-INTERVAL;VALUE=DURATION:PT1H
X-Robots-Tag:noindex
X-PUBLISHED-TTL:PT1H
BEGIN:VTIMEZONE
TZID:America/Boise
BEGIN:DAYLIGHT
TZOFFSETFROM:-0700
TZOFFSETTO:-0600
TZNAME:MDT
DTSTART:20240310T090000
END:DAYLIGHT
BEGIN:STANDARD
TZOFFSETFROM:-0600
TZOFFSETTO:-0700
TZNAME:MST
DTSTART:20241103T080000
END:STANDARD
BEGIN:DAYLIGHT
TZOFFSETFROM:-0700
TZOFFSETTO:-0600
TZNAME:MDT
DTSTART:20250309T090000
END:DAYLIGHT
BEGIN:STANDARD
TZOFFSETFROM:-0600
TZOFFSETTO:-0700
TZNAME:MST
DTSTART:20251102T080000
END:STANDARD
BEGIN:DAYLIGHT
TZOFFSETFROM:-0700
TZOFFSETTO:-0600
TZNAME:MDT
DTSTART:20260308T090000
END:DAYLIGHT
BEGIN:STANDARD
TZOFFSETFROM:-0600
TZOFFSETTO:-0700
TZNAME:MST
DTSTART:20261101T080000
END:STANDARD
END:VTIMEZONE
BEGIN:VEVENT
DTSTART;TZID=America/Boise:20250709T100000
DTEND;TZID=America/Boise:20250709T173000
DTSTAMP:20260423T214602
CREATED:20250530T200634Z
LAST-MODIFIED:20250530T201150Z
UID:10013041-1752055200-1752082200@bgcwtv.org
SUMMARY:Ontario Regular Summer Program
DESCRIPTION:
URL:https://bgcwtv.org/event/ontario-regular-summer-program/2025-07-09/
LOCATION:Ontario Clubhouse BGCWTV\, 573 SW 3rd Ave.\, Ontario\, OR\, 97914\, United States
CATEGORIES:Ontario Clubhouse
END:VEVENT
BEGIN:VEVENT
DTSTART;TZID=America/Boise:20250709T074500
DTEND;TZID=America/Boise:20250709T100000
DTSTAMP:20260423T214602
CREATED:20250530T200749Z
LAST-MODIFIED:20250530T201244Z
UID:10013344-1752047100-1752055200@bgcwtv.org
SUMMARY:Ontario Early Risers Summer Program
DESCRIPTION:
URL:https://bgcwtv.org/event/ontario-early-risers-summer-program/2025-07-09/
LOCATION:Ontario Clubhouse BGCWTV\, 573 SW 3rd Ave.\, Ontario\, OR\, 97914\, United States
CATEGORIES:Ontario Clubhouse
END:VEVENT
BEGIN:VEVENT
DTSTART;TZID=America/Boise:20250708T100000
DTEND;TZID=America/Boise:20250708T173000
DTSTAMP:20260423T214602
CREATED:20250530T200634Z
LAST-MODIFIED:20250530T201150Z
UID:10013040-1751968800-1751995800@bgcwtv.org
SUMMARY:Ontario Regular Summer Program
DESCRIPTION:
URL:https://bgcwtv.org/event/ontario-regular-summer-program/2025-07-08/
LOCATION:Ontario Clubhouse BGCWTV\, 573 SW 3rd Ave.\, Ontario\, OR\, 97914\, United States
CATEGORIES:Ontario Clubhouse
END:VEVENT
BEGIN:VEVENT
DTSTART;TZID=America/Boise:20250708T074500
DTEND;TZID=America/Boise:20250708T100000
DTSTAMP:20260423T214602
CREATED:20250530T200749Z
LAST-MODIFIED:20250530T201244Z
UID:10013343-1751960700-1751968800@bgcwtv.org
SUMMARY:Ontario Early Risers Summer Program
DESCRIPTION:
URL:https://bgcwtv.org/event/ontario-early-risers-summer-program/2025-07-08/
LOCATION:Ontario Clubhouse BGCWTV\, 573 SW 3rd Ave.\, Ontario\, OR\, 97914\, United States
CATEGORIES:Ontario Clubhouse
END:VEVENT
BEGIN:VEVENT
DTSTART;TZID=America/Boise:20250707T100000
DTEND;TZID=America/Boise:20250707T173000
DTSTAMP:20260423T214602
CREATED:20250530T200634Z
LAST-MODIFIED:20250530T201150Z
UID:10013039-1751882400-1751909400@bgcwtv.org
SUMMARY:Ontario Regular Summer Program
DESCRIPTION:
URL:https://bgcwtv.org/event/ontario-regular-summer-program/2025-07-07/
LOCATION:Ontario Clubhouse BGCWTV\, 573 SW 3rd Ave.\, Ontario\, OR\, 97914\, United States
CATEGORIES:Ontario Clubhouse
END:VEVENT
BEGIN:VEVENT
DTSTART;TZID=America/Boise:20250707T074500
DTEND;TZID=America/Boise:20250707T100000
DTSTAMP:20260423T214602
CREATED:20250530T200749Z
LAST-MODIFIED:20250530T201244Z
UID:10013342-1751874300-1751882400@bgcwtv.org
SUMMARY:Ontario Early Risers Summer Program
DESCRIPTION:
URL:https://bgcwtv.org/event/ontario-early-risers-summer-program/2025-07-07/
LOCATION:Ontario Clubhouse BGCWTV\, 573 SW 3rd Ave.\, Ontario\, OR\, 97914\, United States
CATEGORIES:Ontario Clubhouse
END:VEVENT
BEGIN:VEVENT
DTSTART;TZID=America/Boise:20250703T100000
DTEND;TZID=America/Boise:20250703T173000
DTSTAMP:20260423T214602
CREATED:20250530T200634Z
LAST-MODIFIED:20250530T201150Z
UID:10013038-1751536800-1751563800@bgcwtv.org
SUMMARY:Ontario Regular Summer Program
DESCRIPTION:
URL:https://bgcwtv.org/event/ontario-regular-summer-program/2025-07-03/
LOCATION:Ontario Clubhouse BGCWTV\, 573 SW 3rd Ave.\, Ontario\, OR\, 97914\, United States
CATEGORIES:Ontario Clubhouse
END:VEVENT
BEGIN:VEVENT
DTSTART;TZID=America/Boise:20250703T074500
DTEND;TZID=America/Boise:20250703T100000
DTSTAMP:20260423T214602
CREATED:20250530T200749Z
LAST-MODIFIED:20250530T201244Z
UID:10013341-1751528700-1751536800@bgcwtv.org
SUMMARY:Ontario Early Risers Summer Program
DESCRIPTION:
URL:https://bgcwtv.org/event/ontario-early-risers-summer-program/2025-07-03/
LOCATION:Ontario Clubhouse BGCWTV\, 573 SW 3rd Ave.\, Ontario\, OR\, 97914\, United States
CATEGORIES:Ontario Clubhouse
END:VEVENT
BEGIN:VEVENT
DTSTART;TZID=America/Boise:20250702T100000
DTEND;TZID=America/Boise:20250702T173000
DTSTAMP:20260423T214602
CREATED:20250530T200634Z
LAST-MODIFIED:20250530T201150Z
UID:10013037-1751450400-1751477400@bgcwtv.org
SUMMARY:Ontario Regular Summer Program
DESCRIPTION:
URL:https://bgcwtv.org/event/ontario-regular-summer-program/2025-07-02/
LOCATION:Ontario Clubhouse BGCWTV\, 573 SW 3rd Ave.\, Ontario\, OR\, 97914\, United States
CATEGORIES:Ontario Clubhouse
END:VEVENT
BEGIN:VEVENT
DTSTART;TZID=America/Boise:20250702T074500
DTEND;TZID=America/Boise:20250702T100000
DTSTAMP:20260423T214602
CREATED:20250530T200749Z
LAST-MODIFIED:20250530T201244Z
UID:10013340-1751442300-1751450400@bgcwtv.org
SUMMARY:Ontario Early Risers Summer Program
DESCRIPTION:
URL:https://bgcwtv.org/event/ontario-early-risers-summer-program/2025-07-02/
LOCATION:Ontario Clubhouse BGCWTV\, 573 SW 3rd Ave.\, Ontario\, OR\, 97914\, United States
CATEGORIES:Ontario Clubhouse
END:VEVENT
BEGIN:VEVENT
DTSTART;TZID=America/Boise:20250701T100000
DTEND;TZID=America/Boise:20250701T173000
DTSTAMP:20260423T214602
CREATED:20250530T200634Z
LAST-MODIFIED:20250530T201150Z
UID:10013036-1751364000-1751391000@bgcwtv.org
SUMMARY:Ontario Regular Summer Program
DESCRIPTION:
URL:https://bgcwtv.org/event/ontario-regular-summer-program/2025-07-01/
LOCATION:Ontario Clubhouse BGCWTV\, 573 SW 3rd Ave.\, Ontario\, OR\, 97914\, United States
CATEGORIES:Ontario Clubhouse
END:VEVENT
BEGIN:VEVENT
DTSTART;TZID=America/Boise:20250701T074500
DTEND;TZID=America/Boise:20250701T100000
DTSTAMP:20260423T214602
CREATED:20250530T200749Z
LAST-MODIFIED:20250530T201244Z
UID:10013339-1751355900-1751364000@bgcwtv.org
SUMMARY:Ontario Early Risers Summer Program
DESCRIPTION:
URL:https://bgcwtv.org/event/ontario-early-risers-summer-program/2025-07-01/
LOCATION:Ontario Clubhouse BGCWTV\, 573 SW 3rd Ave.\, Ontario\, OR\, 97914\, United States
CATEGORIES:Ontario Clubhouse
END:VEVENT
BEGIN:VEVENT
DTSTART;TZID=America/Boise:20250630T100000
DTEND;TZID=America/Boise:20250630T173000
DTSTAMP:20260423T214602
CREATED:20250530T200634Z
LAST-MODIFIED:20250530T201150Z
UID:10013035-1751277600-1751304600@bgcwtv.org
SUMMARY:Ontario Regular Summer Program
DESCRIPTION:
URL:https://bgcwtv.org/event/ontario-regular-summer-program/2025-06-30/
LOCATION:Ontario Clubhouse BGCWTV\, 573 SW 3rd Ave.\, Ontario\, OR\, 97914\, United States
CATEGORIES:Ontario Clubhouse
END:VEVENT
BEGIN:VEVENT
DTSTART;TZID=America/Boise:20250630T074500
DTEND;TZID=America/Boise:20250630T100000
DTSTAMP:20260423T214602
CREATED:20250530T200749Z
LAST-MODIFIED:20250530T201244Z
UID:10013338-1751269500-1751277600@bgcwtv.org
SUMMARY:Ontario Early Risers Summer Program
DESCRIPTION:
URL:https://bgcwtv.org/event/ontario-early-risers-summer-program/2025-06-30/
LOCATION:Ontario Clubhouse BGCWTV\, 573 SW 3rd Ave.\, Ontario\, OR\, 97914\, United States
CATEGORIES:Ontario Clubhouse
END:VEVENT
BEGIN:VEVENT
DTSTART;TZID=America/Boise:20250627T100000
DTEND;TZID=America/Boise:20250627T173000
DTSTAMP:20260423T214602
CREATED:20250530T200634Z
LAST-MODIFIED:20250530T201150Z
UID:10013034-1751018400-1751045400@bgcwtv.org
SUMMARY:Ontario Regular Summer Program
DESCRIPTION:
URL:https://bgcwtv.org/event/ontario-regular-summer-program/2025-06-27/
LOCATION:Ontario Clubhouse BGCWTV\, 573 SW 3rd Ave.\, Ontario\, OR\, 97914\, United States
CATEGORIES:Ontario Clubhouse
END:VEVENT
BEGIN:VEVENT
DTSTART;TZID=America/Boise:20250627T074500
DTEND;TZID=America/Boise:20250627T100000
DTSTAMP:20260423T214602
CREATED:20250530T200749Z
LAST-MODIFIED:20250530T201244Z
UID:10013337-1751010300-1751018400@bgcwtv.org
SUMMARY:Ontario Early Risers Summer Program
DESCRIPTION:
URL:https://bgcwtv.org/event/ontario-early-risers-summer-program/2025-06-27/
LOCATION:Ontario Clubhouse BGCWTV\, 573 SW 3rd Ave.\, Ontario\, OR\, 97914\, United States
CATEGORIES:Ontario Clubhouse
END:VEVENT
BEGIN:VEVENT
DTSTART;TZID=America/Boise:20250626T100000
DTEND;TZID=America/Boise:20250626T173000
DTSTAMP:20260423T214602
CREATED:20250530T200634Z
LAST-MODIFIED:20250530T201150Z
UID:10013033-1750932000-1750959000@bgcwtv.org
SUMMARY:Ontario Regular Summer Program
DESCRIPTION:
URL:https://bgcwtv.org/event/ontario-regular-summer-program/2025-06-26/
LOCATION:Ontario Clubhouse BGCWTV\, 573 SW 3rd Ave.\, Ontario\, OR\, 97914\, United States
CATEGORIES:Ontario Clubhouse
END:VEVENT
BEGIN:VEVENT
DTSTART;TZID=America/Boise:20250626T074500
DTEND;TZID=America/Boise:20250626T100000
DTSTAMP:20260423T214602
CREATED:20250530T200749Z
LAST-MODIFIED:20250530T201244Z
UID:10013336-1750923900-1750932000@bgcwtv.org
SUMMARY:Ontario Early Risers Summer Program
DESCRIPTION:
URL:https://bgcwtv.org/event/ontario-early-risers-summer-program/2025-06-26/
LOCATION:Ontario Clubhouse BGCWTV\, 573 SW 3rd Ave.\, Ontario\, OR\, 97914\, United States
CATEGORIES:Ontario Clubhouse
END:VEVENT
BEGIN:VEVENT
DTSTART;TZID=America/Boise:20250625T100000
DTEND;TZID=America/Boise:20250625T173000
DTSTAMP:20260423T214602
CREATED:20250530T200634Z
LAST-MODIFIED:20250530T201150Z
UID:10013032-1750845600-1750872600@bgcwtv.org
SUMMARY:Ontario Regular Summer Program
DESCRIPTION:
URL:https://bgcwtv.org/event/ontario-regular-summer-program/2025-06-25/
LOCATION:Ontario Clubhouse BGCWTV\, 573 SW 3rd Ave.\, Ontario\, OR\, 97914\, United States
CATEGORIES:Ontario Clubhouse
END:VEVENT
BEGIN:VEVENT
DTSTART;TZID=America/Boise:20250625T074500
DTEND;TZID=America/Boise:20250625T100000
DTSTAMP:20260423T214602
CREATED:20250530T200749Z
LAST-MODIFIED:20250530T201244Z
UID:10013335-1750837500-1750845600@bgcwtv.org
SUMMARY:Ontario Early Risers Summer Program
DESCRIPTION:
URL:https://bgcwtv.org/event/ontario-early-risers-summer-program/2025-06-25/
LOCATION:Ontario Clubhouse BGCWTV\, 573 SW 3rd Ave.\, Ontario\, OR\, 97914\, United States
CATEGORIES:Ontario Clubhouse
END:VEVENT
BEGIN:VEVENT
DTSTART;TZID=America/Boise:20250624T100000
DTEND;TZID=America/Boise:20250624T173000
DTSTAMP:20260423T214602
CREATED:20250530T200634Z
LAST-MODIFIED:20250530T201150Z
UID:10013031-1750759200-1750786200@bgcwtv.org
SUMMARY:Ontario Regular Summer Program
DESCRIPTION:
URL:https://bgcwtv.org/event/ontario-regular-summer-program/2025-06-24/
LOCATION:Ontario Clubhouse BGCWTV\, 573 SW 3rd Ave.\, Ontario\, OR\, 97914\, United States
CATEGORIES:Ontario Clubhouse
END:VEVENT
BEGIN:VEVENT
DTSTART;TZID=America/Boise:20250624T074500
DTEND;TZID=America/Boise:20250624T100000
DTSTAMP:20260423T214602
CREATED:20250530T200749Z
LAST-MODIFIED:20250530T201244Z
UID:10013334-1750751100-1750759200@bgcwtv.org
SUMMARY:Ontario Early Risers Summer Program
DESCRIPTION:
URL:https://bgcwtv.org/event/ontario-early-risers-summer-program/2025-06-24/
LOCATION:Ontario Clubhouse BGCWTV\, 573 SW 3rd Ave.\, Ontario\, OR\, 97914\, United States
CATEGORIES:Ontario Clubhouse
END:VEVENT
BEGIN:VEVENT
DTSTART;TZID=America/Boise:20250623T100000
DTEND;TZID=America/Boise:20250623T173000
DTSTAMP:20260423T214602
CREATED:20250530T200634Z
LAST-MODIFIED:20250530T201150Z
UID:10013030-1750672800-1750699800@bgcwtv.org
SUMMARY:Ontario Regular Summer Program
DESCRIPTION:
URL:https://bgcwtv.org/event/ontario-regular-summer-program/2025-06-23/
LOCATION:Ontario Clubhouse BGCWTV\, 573 SW 3rd Ave.\, Ontario\, OR\, 97914\, United States
CATEGORIES:Ontario Clubhouse
END:VEVENT
BEGIN:VEVENT
DTSTART;TZID=America/Boise:20250623T074500
DTEND;TZID=America/Boise:20250623T100000
DTSTAMP:20260423T214602
CREATED:20250530T200749Z
LAST-MODIFIED:20250530T201244Z
UID:10013333-1750664700-1750672800@bgcwtv.org
SUMMARY:Ontario Early Risers Summer Program
DESCRIPTION:
URL:https://bgcwtv.org/event/ontario-early-risers-summer-program/2025-06-23/
LOCATION:Ontario Clubhouse BGCWTV\, 573 SW 3rd Ave.\, Ontario\, OR\, 97914\, United States
CATEGORIES:Ontario Clubhouse
END:VEVENT
BEGIN:VEVENT
DTSTART;TZID=America/Boise:20250620T100000
DTEND;TZID=America/Boise:20250620T173000
DTSTAMP:20260423T214602
CREATED:20250530T200634Z
LAST-MODIFIED:20250530T201150Z
UID:10013029-1750413600-1750440600@bgcwtv.org
SUMMARY:Ontario Regular Summer Program
DESCRIPTION:
URL:https://bgcwtv.org/event/ontario-regular-summer-program/2025-06-20/
LOCATION:Ontario Clubhouse BGCWTV\, 573 SW 3rd Ave.\, Ontario\, OR\, 97914\, United States
CATEGORIES:Ontario Clubhouse
END:VEVENT
BEGIN:VEVENT
DTSTART;TZID=America/Boise:20250620T074500
DTEND;TZID=America/Boise:20250620T100000
DTSTAMP:20260423T214602
CREATED:20250530T200749Z
LAST-MODIFIED:20250530T201244Z
UID:10013332-1750405500-1750413600@bgcwtv.org
SUMMARY:Ontario Early Risers Summer Program
DESCRIPTION:
URL:https://bgcwtv.org/event/ontario-early-risers-summer-program/2025-06-20/
LOCATION:Ontario Clubhouse BGCWTV\, 573 SW 3rd Ave.\, Ontario\, OR\, 97914\, United States
CATEGORIES:Ontario Clubhouse
END:VEVENT
BEGIN:VEVENT
DTSTART;TZID=America/Boise:20250619T100000
DTEND;TZID=America/Boise:20250619T173000
DTSTAMP:20260423T214602
CREATED:20250530T200634Z
LAST-MODIFIED:20250530T201150Z
UID:10013028-1750327200-1750354200@bgcwtv.org
SUMMARY:Ontario Regular Summer Program
DESCRIPTION:
URL:https://bgcwtv.org/event/ontario-regular-summer-program/2025-06-19/
LOCATION:Ontario Clubhouse BGCWTV\, 573 SW 3rd Ave.\, Ontario\, OR\, 97914\, United States
CATEGORIES:Ontario Clubhouse
END:VEVENT
BEGIN:VEVENT
DTSTART;TZID=America/Boise:20250619T074500
DTEND;TZID=America/Boise:20250619T100000
DTSTAMP:20260423T214602
CREATED:20250530T200749Z
LAST-MODIFIED:20250530T201244Z
UID:10013331-1750319100-1750327200@bgcwtv.org
SUMMARY:Ontario Early Risers Summer Program
DESCRIPTION:
URL:https://bgcwtv.org/event/ontario-early-risers-summer-program/2025-06-19/
LOCATION:Ontario Clubhouse BGCWTV\, 573 SW 3rd Ave.\, Ontario\, OR\, 97914\, United States
CATEGORIES:Ontario Clubhouse
END:VEVENT
BEGIN:VEVENT
DTSTART;TZID=America/Boise:20250618T100000
DTEND;TZID=America/Boise:20250618T173000
DTSTAMP:20260423T214602
CREATED:20250530T200634Z
LAST-MODIFIED:20250530T201150Z
UID:10013027-1750240800-1750267800@bgcwtv.org
SUMMARY:Ontario Regular Summer Program
DESCRIPTION:
URL:https://bgcwtv.org/event/ontario-regular-summer-program/2025-06-18/
LOCATION:Ontario Clubhouse BGCWTV\, 573 SW 3rd Ave.\, Ontario\, OR\, 97914\, United States
CATEGORIES:Ontario Clubhouse
END:VEVENT
BEGIN:VEVENT
DTSTART;TZID=America/Boise:20250618T074500
DTEND;TZID=America/Boise:20250618T100000
DTSTAMP:20260423T214602
CREATED:20250530T200749Z
LAST-MODIFIED:20250530T201244Z
UID:10013330-1750232700-1750240800@bgcwtv.org
SUMMARY:Ontario Early Risers Summer Program
DESCRIPTION:
URL:https://bgcwtv.org/event/ontario-early-risers-summer-program/2025-06-18/
LOCATION:Ontario Clubhouse BGCWTV\, 573 SW 3rd Ave.\, Ontario\, OR\, 97914\, United States
CATEGORIES:Ontario Clubhouse
END:VEVENT
END:VCALENDAR