BEGIN:VCALENDAR
VERSION:2.0
PRODID:-//Boys &amp; Girls Club of Western Treasure Valley - ECPv6.15.20//NONSGML v1.0//EN
CALSCALE:GREGORIAN
METHOD:PUBLISH
X-WR-CALNAME:Boys &amp; Girls Club of Western Treasure Valley
X-ORIGINAL-URL:https://bgcwtv.org
X-WR-CALDESC:Events for Boys &amp; Girls Club of Western Treasure Valley
REFRESH-INTERVAL;VALUE=DURATION:PT1H
X-Robots-Tag:noindex
X-PUBLISHED-TTL:PT1H
BEGIN:VTIMEZONE
TZID:America/Boise
BEGIN:DAYLIGHT
TZOFFSETFROM:-0700
TZOFFSETTO:-0600
TZNAME:MDT
DTSTART:20240310T090000
END:DAYLIGHT
BEGIN:STANDARD
TZOFFSETFROM:-0600
TZOFFSETTO:-0700
TZNAME:MST
DTSTART:20241103T080000
END:STANDARD
BEGIN:DAYLIGHT
TZOFFSETFROM:-0700
TZOFFSETTO:-0600
TZNAME:MDT
DTSTART:20250309T090000
END:DAYLIGHT
BEGIN:STANDARD
TZOFFSETFROM:-0600
TZOFFSETTO:-0700
TZNAME:MST
DTSTART:20251102T080000
END:STANDARD
BEGIN:DAYLIGHT
TZOFFSETFROM:-0700
TZOFFSETTO:-0600
TZNAME:MDT
DTSTART:20260308T090000
END:DAYLIGHT
BEGIN:STANDARD
TZOFFSETFROM:-0600
TZOFFSETTO:-0700
TZNAME:MST
DTSTART:20261101T080000
END:STANDARD
END:VTIMEZONE
BEGIN:VEVENT
DTSTART;VALUE=DATE:20251124
DTEND;VALUE=DATE:20251125
DTSTAMP:20260423T141635
CREATED:20251103T170611Z
LAST-MODIFIED:20251103T171227Z
UID:10013857-1763971200-1764003600@bgcwtv.org
SUMMARY:All Clubs Closed
DESCRIPTION:
URL:https://bgcwtv.org/event/all-clubs-closed-4/2025-11-24/
LOCATION:OR
CATEGORIES:Ontario Clubhouse,Payette Clubhouse,Weiser Clubhouse
END:VEVENT
BEGIN:VEVENT
DTSTART;VALUE=DATE:20251125
DTEND;VALUE=DATE:20251126
DTSTAMP:20260423T141635
CREATED:20251103T170611Z
LAST-MODIFIED:20251103T171227Z
UID:10013858-1764057600-1764090000@bgcwtv.org
SUMMARY:All Clubs Closed
DESCRIPTION:
URL:https://bgcwtv.org/event/all-clubs-closed-4/2025-11-25/
LOCATION:OR
CATEGORIES:Ontario Clubhouse,Payette Clubhouse,Weiser Clubhouse
END:VEVENT
BEGIN:VEVENT
DTSTART;VALUE=DATE:20251126
DTEND;VALUE=DATE:20251127
DTSTAMP:20260423T141635
CREATED:20251103T170611Z
LAST-MODIFIED:20251103T171227Z
UID:10013859-1764144000-1764176400@bgcwtv.org
SUMMARY:All Clubs Closed
DESCRIPTION:
URL:https://bgcwtv.org/event/all-clubs-closed-4/2025-11-26/
LOCATION:OR
CATEGORIES:Ontario Clubhouse,Payette Clubhouse,Weiser Clubhouse
END:VEVENT
BEGIN:VEVENT
DTSTART;VALUE=DATE:20251127
DTEND;VALUE=DATE:20251128
DTSTAMP:20260423T141636
CREATED:20251103T170611Z
LAST-MODIFIED:20251103T171227Z
UID:10013860-1764230400-1764262800@bgcwtv.org
SUMMARY:All Clubs Closed
DESCRIPTION:
URL:https://bgcwtv.org/event/all-clubs-closed-4/2025-11-27/
LOCATION:OR
CATEGORIES:Ontario Clubhouse,Payette Clubhouse,Weiser Clubhouse
END:VEVENT
BEGIN:VEVENT
DTSTART;VALUE=DATE:20251128
DTEND;VALUE=DATE:20251129
DTSTAMP:20260423T141636
CREATED:20251103T170611Z
LAST-MODIFIED:20251103T171227Z
UID:10013861-1764316800-1764349200@bgcwtv.org
SUMMARY:All Clubs Closed
DESCRIPTION:
URL:https://bgcwtv.org/event/all-clubs-closed-4/2025-11-28/
LOCATION:OR
CATEGORIES:Ontario Clubhouse,Payette Clubhouse,Weiser Clubhouse
END:VEVENT
END:VCALENDAR