BEGIN:VCALENDAR
VERSION:2.0
PRODID:-//Boys &amp; Girls Club of Western Treasure Valley - ECPv6.15.20//NONSGML v1.0//EN
CALSCALE:GREGORIAN
METHOD:PUBLISH
X-ORIGINAL-URL:https://bgcwtv.org
X-WR-CALDESC:Events for Boys &amp; Girls Club of Western Treasure Valley
REFRESH-INTERVAL;VALUE=DURATION:PT1H
X-Robots-Tag:noindex
X-PUBLISHED-TTL:PT1H
BEGIN:VTIMEZONE
TZID:America/Boise
BEGIN:DAYLIGHT
TZOFFSETFROM:-0700
TZOFFSETTO:-0600
TZNAME:MDT
DTSTART:20240310T090000
END:DAYLIGHT
BEGIN:STANDARD
TZOFFSETFROM:-0600
TZOFFSETTO:-0700
TZNAME:MST
DTSTART:20241103T080000
END:STANDARD
BEGIN:DAYLIGHT
TZOFFSETFROM:-0700
TZOFFSETTO:-0600
TZNAME:MDT
DTSTART:20250309T090000
END:DAYLIGHT
BEGIN:STANDARD
TZOFFSETFROM:-0600
TZOFFSETTO:-0700
TZNAME:MST
DTSTART:20251102T080000
END:STANDARD
BEGIN:DAYLIGHT
TZOFFSETFROM:-0700
TZOFFSETTO:-0600
TZNAME:MDT
DTSTART:20260308T090000
END:DAYLIGHT
BEGIN:STANDARD
TZOFFSETFROM:-0600
TZOFFSETTO:-0700
TZNAME:MST
DTSTART:20261101T080000
END:STANDARD
END:VTIMEZONE
BEGIN:VEVENT
DTSTART;TZID=America/Boise:20251103T063000
DTEND;TZID=America/Boise:20251103T080000
DTSTAMP:20260423T152140
CREATED:20251103T165730Z
LAST-MODIFIED:20251103T211928Z
UID:10013589-1762151400-1762156800@bgcwtv.org
SUMMARY:Ontario Before School
DESCRIPTION:
URL:https://bgcwtv.org/event/ontario-before-school-2-2-2/2025-11-03/
LOCATION:Ontario Clubhouse BGCWTV\, 573 SW 3rd Ave.\, Ontario\, OR\, 97914\, United States
CATEGORIES:Ontario Clubhouse
END:VEVENT
BEGIN:VEVENT
DTSTART;TZID=America/Boise:20251103T063000
DTEND;TZID=America/Boise:20251103T080000
DTSTAMP:20260423T152140
CREATED:20251103T210658Z
LAST-MODIFIED:20251103T222457Z
UID:10014331-1762151400-1762156800@bgcwtv.org
SUMMARY:Payette Before School
DESCRIPTION:Payette Club is open regular before school hours.
URL:https://bgcwtv.org/event/payette-before-school/2025-11-03/
LOCATION:Payette Clubhouse BGCWTV\, 1222 1st Ave South\, Payette\, ID\, 83661\, United States
CATEGORIES:Payette Clubhouse
END:VEVENT
BEGIN:VEVENT
DTSTART;TZID=America/Boise:20251103T153000
DTEND;TZID=America/Boise:20251103T183000
DTSTAMP:20260423T152140
CREATED:20251103T165918Z
LAST-MODIFIED:20251103T211955Z
UID:10014789-1762183800-1762194600@bgcwtv.org
SUMMARY:Ontario - After School Hours
DESCRIPTION:The Ontario Clubhouse is open for After School hours today.
URL:https://bgcwtv.org/event/ontario-after-school-hours/2025-11-03/
LOCATION:Ontario Clubhouse BGCWTV\, 573 SW 3rd Ave.\, Ontario\, OR\, 97914\, United States
CATEGORIES:Ontario Clubhouse
END:VEVENT
BEGIN:VEVENT
DTSTART;TZID=America/Boise:20251103T153000
DTEND;TZID=America/Boise:20251103T183000
DTSTAMP:20260423T152140
CREATED:20251103T172039Z
LAST-MODIFIED:20251103T212156Z
UID:10013879-1762183800-1762194600@bgcwtv.org
SUMMARY:Payette After School
DESCRIPTION:Payette Club is open regular after school hours.
URL:https://bgcwtv.org/event/payette-after-school-2/2025-11-03/
LOCATION:Payette Clubhouse BGCWTV\, 1222 1st Ave South\, Payette\, ID\, 83661\, United States
CATEGORIES:Payette Clubhouse
END:VEVENT
BEGIN:VEVENT
DTSTART;TZID=America/Boise:20251103T153000
DTEND;TZID=America/Boise:20251103T183000
DTSTAMP:20260423T152140
CREATED:20251103T211301Z
LAST-MODIFIED:20251103T212537Z
UID:10014558-1762183800-1762194600@bgcwtv.org
SUMMARY:Weiser After School
DESCRIPTION:Weiser Clubhouse is open for After School from 3:30pm-6:30Pm
URL:https://bgcwtv.org/event/weiser-after-school-2/2025-11-03/
LOCATION:Weiser Clubhouse BGCWTV\, 1299 E 2nd St.\, Weiser\, ID\, 83672\, United States
CATEGORIES:Weiser Clubhouse
END:VEVENT
BEGIN:VEVENT
DTSTART;TZID=America/Boise:20251104T063000
DTEND;TZID=America/Boise:20251104T080000
DTSTAMP:20260423T152140
CREATED:20251103T165730Z
LAST-MODIFIED:20251103T211928Z
UID:10013595-1762237800-1762243200@bgcwtv.org
SUMMARY:Ontario Before School
DESCRIPTION:
URL:https://bgcwtv.org/event/ontario-before-school-2-2-2/2025-11-04/
LOCATION:Ontario Clubhouse BGCWTV\, 573 SW 3rd Ave.\, Ontario\, OR\, 97914\, United States
CATEGORIES:Ontario Clubhouse
END:VEVENT
BEGIN:VEVENT
DTSTART;TZID=America/Boise:20251104T063000
DTEND;TZID=America/Boise:20251104T080000
DTSTAMP:20260423T152140
CREATED:20251103T210658Z
LAST-MODIFIED:20251103T222457Z
UID:10014332-1762237800-1762243200@bgcwtv.org
SUMMARY:Payette Before School
DESCRIPTION:Payette Club is open regular before school hours.
URL:https://bgcwtv.org/event/payette-before-school/2025-11-04/
LOCATION:Payette Clubhouse BGCWTV\, 1222 1st Ave South\, Payette\, ID\, 83661\, United States
CATEGORIES:Payette Clubhouse
END:VEVENT
BEGIN:VEVENT
DTSTART;VALUE=DATE:20251104
DTEND;VALUE=DATE:20251105
DTSTAMP:20260423T152140
CREATED:20250211T213511Z
LAST-MODIFIED:20251103T165323Z
UID:10013578-1762243200-1762275600@bgcwtv.org
SUMMARY:Weiser Closed
DESCRIPTION:The Weiser Clubhouse is closed today. (Ask about transportation to the Ontario Club.)
URL:https://bgcwtv.org/event/weiser-closed-2/2025-11-04/
LOCATION:Weiser Clubhouse BGCWTV\, 1299 E 2nd St.\, Weiser\, ID\, 83672\, United States
CATEGORIES:Weiser Clubhouse
END:VEVENT
BEGIN:VEVENT
DTSTART;TZID=America/Boise:20251104T153000
DTEND;TZID=America/Boise:20251104T183000
DTSTAMP:20260423T152140
CREATED:20251103T165918Z
LAST-MODIFIED:20251103T211955Z
UID:10014790-1762270200-1762281000@bgcwtv.org
SUMMARY:Ontario - After School Hours
DESCRIPTION:The Ontario Clubhouse is open for After School hours today.
URL:https://bgcwtv.org/event/ontario-after-school-hours/2025-11-04/
LOCATION:Ontario Clubhouse BGCWTV\, 573 SW 3rd Ave.\, Ontario\, OR\, 97914\, United States
CATEGORIES:Ontario Clubhouse
END:VEVENT
BEGIN:VEVENT
DTSTART;TZID=America/Boise:20251104T153000
DTEND;TZID=America/Boise:20251104T183000
DTSTAMP:20260423T152140
CREATED:20251103T172039Z
LAST-MODIFIED:20251103T212156Z
UID:10013880-1762270200-1762281000@bgcwtv.org
SUMMARY:Payette After School
DESCRIPTION:Payette Club is open regular after school hours.
URL:https://bgcwtv.org/event/payette-after-school-2/2025-11-04/
LOCATION:Payette Clubhouse BGCWTV\, 1222 1st Ave South\, Payette\, ID\, 83661\, United States
CATEGORIES:Payette Clubhouse
END:VEVENT
BEGIN:VEVENT
DTSTART;TZID=America/Boise:20251105T063000
DTEND;TZID=America/Boise:20251105T080000
DTSTAMP:20260423T152140
CREATED:20251103T165730Z
LAST-MODIFIED:20251103T211928Z
UID:10013596-1762324200-1762329600@bgcwtv.org
SUMMARY:Ontario Before School
DESCRIPTION:
URL:https://bgcwtv.org/event/ontario-before-school-2-2-2/2025-11-05/
LOCATION:Ontario Clubhouse BGCWTV\, 573 SW 3rd Ave.\, Ontario\, OR\, 97914\, United States
CATEGORIES:Ontario Clubhouse
END:VEVENT
BEGIN:VEVENT
DTSTART;TZID=America/Boise:20251105T063000
DTEND;TZID=America/Boise:20251105T080000
DTSTAMP:20260423T152140
CREATED:20251103T210658Z
LAST-MODIFIED:20251103T222457Z
UID:10014333-1762324200-1762329600@bgcwtv.org
SUMMARY:Payette Before School
DESCRIPTION:Payette Club is open regular before school hours.
URL:https://bgcwtv.org/event/payette-before-school/2025-11-05/
LOCATION:Payette Clubhouse BGCWTV\, 1222 1st Ave South\, Payette\, ID\, 83661\, United States
CATEGORIES:Payette Clubhouse
END:VEVENT
BEGIN:VEVENT
DTSTART;TZID=America/Boise:20251105T153000
DTEND;TZID=America/Boise:20251105T183000
DTSTAMP:20260423T152140
CREATED:20251103T165918Z
LAST-MODIFIED:20251103T211955Z
UID:10014791-1762356600-1762367400@bgcwtv.org
SUMMARY:Ontario - After School Hours
DESCRIPTION:The Ontario Clubhouse is open for After School hours today.
URL:https://bgcwtv.org/event/ontario-after-school-hours/2025-11-05/
LOCATION:Ontario Clubhouse BGCWTV\, 573 SW 3rd Ave.\, Ontario\, OR\, 97914\, United States
CATEGORIES:Ontario Clubhouse
END:VEVENT
BEGIN:VEVENT
DTSTART;TZID=America/Boise:20251105T153000
DTEND;TZID=America/Boise:20251105T183000
DTSTAMP:20260423T152140
CREATED:20251103T172039Z
LAST-MODIFIED:20251103T212156Z
UID:10013881-1762356600-1762367400@bgcwtv.org
SUMMARY:Payette After School
DESCRIPTION:Payette Club is open regular after school hours.
URL:https://bgcwtv.org/event/payette-after-school-2/2025-11-05/
LOCATION:Payette Clubhouse BGCWTV\, 1222 1st Ave South\, Payette\, ID\, 83661\, United States
CATEGORIES:Payette Clubhouse
END:VEVENT
BEGIN:VEVENT
DTSTART;TZID=America/Boise:20251105T153000
DTEND;TZID=America/Boise:20251105T183000
DTSTAMP:20260423T152140
CREATED:20251103T211301Z
LAST-MODIFIED:20251103T212537Z
UID:10014559-1762356600-1762367400@bgcwtv.org
SUMMARY:Weiser After School
DESCRIPTION:Weiser Clubhouse is open for After School from 3:30pm-6:30Pm
URL:https://bgcwtv.org/event/weiser-after-school-2/2025-11-05/
LOCATION:Weiser Clubhouse BGCWTV\, 1299 E 2nd St.\, Weiser\, ID\, 83672\, United States
CATEGORIES:Weiser Clubhouse
END:VEVENT
BEGIN:VEVENT
DTSTART;TZID=America/Boise:20251106T063000
DTEND;TZID=America/Boise:20251106T080000
DTSTAMP:20260423T152140
CREATED:20251103T165730Z
LAST-MODIFIED:20251103T211928Z
UID:10013597-1762410600-1762416000@bgcwtv.org
SUMMARY:Ontario Before School
DESCRIPTION:
URL:https://bgcwtv.org/event/ontario-before-school-2-2-2/2025-11-06/
LOCATION:Ontario Clubhouse BGCWTV\, 573 SW 3rd Ave.\, Ontario\, OR\, 97914\, United States
CATEGORIES:Ontario Clubhouse
END:VEVENT
BEGIN:VEVENT
DTSTART;TZID=America/Boise:20251106T063000
DTEND;TZID=America/Boise:20251106T080000
DTSTAMP:20260423T152140
CREATED:20251103T210658Z
LAST-MODIFIED:20251103T222457Z
UID:10014334-1762410600-1762416000@bgcwtv.org
SUMMARY:Payette Before School
DESCRIPTION:Payette Club is open regular before school hours.
URL:https://bgcwtv.org/event/payette-before-school/2025-11-06/
LOCATION:Payette Clubhouse BGCWTV\, 1222 1st Ave South\, Payette\, ID\, 83661\, United States
CATEGORIES:Payette Clubhouse
END:VEVENT
BEGIN:VEVENT
DTSTART;TZID=America/Boise:20251106T153000
DTEND;TZID=America/Boise:20251106T183000
DTSTAMP:20260423T152140
CREATED:20251103T165918Z
LAST-MODIFIED:20251103T211955Z
UID:10014792-1762443000-1762453800@bgcwtv.org
SUMMARY:Ontario - After School Hours
DESCRIPTION:The Ontario Clubhouse is open for After School hours today.
URL:https://bgcwtv.org/event/ontario-after-school-hours/2025-11-06/
LOCATION:Ontario Clubhouse BGCWTV\, 573 SW 3rd Ave.\, Ontario\, OR\, 97914\, United States
CATEGORIES:Ontario Clubhouse
END:VEVENT
BEGIN:VEVENT
DTSTART;TZID=America/Boise:20251106T153000
DTEND;TZID=America/Boise:20251106T183000
DTSTAMP:20260423T152140
CREATED:20251103T172039Z
LAST-MODIFIED:20251103T212156Z
UID:10013882-1762443000-1762453800@bgcwtv.org
SUMMARY:Payette After School
DESCRIPTION:Payette Club is open regular after school hours.
URL:https://bgcwtv.org/event/payette-after-school-2/2025-11-06/
LOCATION:Payette Clubhouse BGCWTV\, 1222 1st Ave South\, Payette\, ID\, 83661\, United States
CATEGORIES:Payette Clubhouse
END:VEVENT
BEGIN:VEVENT
DTSTART;TZID=America/Boise:20251106T153000
DTEND;TZID=America/Boise:20251106T183000
DTSTAMP:20260423T152140
CREATED:20251103T211301Z
LAST-MODIFIED:20251103T212537Z
UID:10014560-1762443000-1762453800@bgcwtv.org
SUMMARY:Weiser After School
DESCRIPTION:Weiser Clubhouse is open for After School from 3:30pm-6:30Pm
URL:https://bgcwtv.org/event/weiser-after-school-2/2025-11-06/
LOCATION:Weiser Clubhouse BGCWTV\, 1299 E 2nd St.\, Weiser\, ID\, 83672\, United States
CATEGORIES:Weiser Clubhouse
END:VEVENT
BEGIN:VEVENT
DTSTART;VALUE=DATE:20251107
DTEND;VALUE=DATE:20251108
DTSTAMP:20260423T152140
CREATED:20251103T170611Z
LAST-MODIFIED:20251103T171227Z
UID:10013855-1762473600-1762559999@bgcwtv.org
SUMMARY:All Clubs Closed
DESCRIPTION:
URL:https://bgcwtv.org/event/all-clubs-closed-4/2025-11-07/
LOCATION:OR
CATEGORIES:Ontario Clubhouse,Payette Clubhouse,Weiser Clubhouse
END:VEVENT
END:VCALENDAR