BEGIN:VCALENDAR
VERSION:2.0
PRODID:-//Boys &amp; Girls Club of Western Treasure Valley - ECPv6.15.20//NONSGML v1.0//EN
CALSCALE:GREGORIAN
METHOD:PUBLISH
X-ORIGINAL-URL:https://bgcwtv.org
X-WR-CALDESC:Events for Boys &amp; Girls Club of Western Treasure Valley
REFRESH-INTERVAL;VALUE=DURATION:PT1H
X-Robots-Tag:noindex
X-PUBLISHED-TTL:PT1H
BEGIN:VTIMEZONE
TZID:America/Boise
BEGIN:DAYLIGHT
TZOFFSETFROM:-0700
TZOFFSETTO:-0600
TZNAME:MDT
DTSTART:20240310T090000
END:DAYLIGHT
BEGIN:STANDARD
TZOFFSETFROM:-0600
TZOFFSETTO:-0700
TZNAME:MST
DTSTART:20241103T080000
END:STANDARD
BEGIN:DAYLIGHT
TZOFFSETFROM:-0700
TZOFFSETTO:-0600
TZNAME:MDT
DTSTART:20250309T090000
END:DAYLIGHT
BEGIN:STANDARD
TZOFFSETFROM:-0600
TZOFFSETTO:-0700
TZNAME:MST
DTSTART:20251102T080000
END:STANDARD
BEGIN:DAYLIGHT
TZOFFSETFROM:-0700
TZOFFSETTO:-0600
TZNAME:MDT
DTSTART:20260308T090000
END:DAYLIGHT
BEGIN:STANDARD
TZOFFSETFROM:-0600
TZOFFSETTO:-0700
TZNAME:MST
DTSTART:20261101T080000
END:STANDARD
END:VTIMEZONE
BEGIN:VEVENT
DTSTART;VALUE=DATE:20250630
DTEND;VALUE=DATE:20250704
DTSTAMP:20260423T192134
CREATED:20250530T210605Z
LAST-MODIFIED:20250530T210605Z
UID:10013491-1751241600-1751587199@bgcwtv.org
SUMMARY:Stars & Stripes Week
DESCRIPTION:
URL:https://bgcwtv.org/event/stars-stripes-week/
LOCATION:OR
CATEGORIES:BGCWTV Events,Ontario Clubhouse,Payette Clubhouse,Weiser Clubhouse
END:VEVENT
BEGIN:VEVENT
DTSTART;TZID=America/Boise:20250630T074500
DTEND;TZID=America/Boise:20250630T100000
DTSTAMP:20260423T192134
CREATED:20250530T200749Z
LAST-MODIFIED:20250530T201244Z
UID:10013338-1751269500-1751277600@bgcwtv.org
SUMMARY:Ontario Early Risers Summer Program
DESCRIPTION:
URL:https://bgcwtv.org/event/ontario-early-risers-summer-program/2025-06-30/
LOCATION:Ontario Clubhouse BGCWTV\, 573 SW 3rd Ave.\, Ontario\, OR\, 97914\, United States
CATEGORIES:Ontario Clubhouse
END:VEVENT
BEGIN:VEVENT
DTSTART;TZID=America/Boise:20250630T074500
DTEND;TZID=America/Boise:20250630T100000
DTSTAMP:20260423T192134
CREATED:20250530T203249Z
LAST-MODIFIED:20250530T203312Z
UID:10013426-1751269500-1751277600@bgcwtv.org
SUMMARY:Payette Early Risers Program
DESCRIPTION:
URL:https://bgcwtv.org/event/payette-early-risers-program/2025-06-30/
LOCATION:OR
CATEGORIES:Payette Clubhouse
END:VEVENT
BEGIN:VEVENT
DTSTART;TZID=America/Boise:20250630T100000
DTEND;TZID=America/Boise:20250630T173000
DTSTAMP:20260423T192134
CREATED:20250530T200634Z
LAST-MODIFIED:20250530T201150Z
UID:10013035-1751277600-1751304600@bgcwtv.org
SUMMARY:Ontario Regular Summer Program
DESCRIPTION:
URL:https://bgcwtv.org/event/ontario-regular-summer-program/2025-06-30/
LOCATION:Ontario Clubhouse BGCWTV\, 573 SW 3rd Ave.\, Ontario\, OR\, 97914\, United States
CATEGORIES:Ontario Clubhouse
END:VEVENT
BEGIN:VEVENT
DTSTART;TZID=America/Boise:20250630T100000
DTEND;TZID=America/Boise:20250630T173000
DTSTAMP:20260423T192134
CREATED:20250530T202325Z
LAST-MODIFIED:20250530T202325Z
UID:10013382-1751277600-1751304600@bgcwtv.org
SUMMARY:Payette Regular Summer Program
DESCRIPTION:
URL:https://bgcwtv.org/event/payette-regular-summer-program/2025-06-30/
LOCATION:OR
CATEGORIES:Payette Clubhouse
END:VEVENT
BEGIN:VEVENT
DTSTART;TZID=America/Boise:20250630T122000
DTEND;TZID=America/Boise:20250630T173000
DTSTAMP:20260423T192134
CREATED:20250530T203808Z
LAST-MODIFIED:20250530T203835Z
UID:10013470-1751286000-1751304600@bgcwtv.org
SUMMARY:Weiser Regular Summer Program
DESCRIPTION:
URL:https://bgcwtv.org/event/weiser-regular-summer-program/2025-06-30/
LOCATION:OR
CATEGORIES:Weiser Clubhouse
END:VEVENT
BEGIN:VEVENT
DTSTART;TZID=America/Boise:20250701T074500
DTEND;TZID=America/Boise:20250701T100000
DTSTAMP:20260423T192134
CREATED:20250530T200749Z
LAST-MODIFIED:20250530T201244Z
UID:10013339-1751355900-1751364000@bgcwtv.org
SUMMARY:Ontario Early Risers Summer Program
DESCRIPTION:
URL:https://bgcwtv.org/event/ontario-early-risers-summer-program/2025-07-01/
LOCATION:Ontario Clubhouse BGCWTV\, 573 SW 3rd Ave.\, Ontario\, OR\, 97914\, United States
CATEGORIES:Ontario Clubhouse
END:VEVENT
BEGIN:VEVENT
DTSTART;TZID=America/Boise:20250701T074500
DTEND;TZID=America/Boise:20250701T100000
DTSTAMP:20260423T192134
CREATED:20250530T203249Z
LAST-MODIFIED:20250530T203312Z
UID:10013427-1751355900-1751364000@bgcwtv.org
SUMMARY:Payette Early Risers Program
DESCRIPTION:
URL:https://bgcwtv.org/event/payette-early-risers-program/2025-07-01/
LOCATION:OR
CATEGORIES:Payette Clubhouse
END:VEVENT
BEGIN:VEVENT
DTSTART;TZID=America/Boise:20250701T100000
DTEND;TZID=America/Boise:20250701T173000
DTSTAMP:20260423T192134
CREATED:20250530T200634Z
LAST-MODIFIED:20250530T201150Z
UID:10013036-1751364000-1751391000@bgcwtv.org
SUMMARY:Ontario Regular Summer Program
DESCRIPTION:
URL:https://bgcwtv.org/event/ontario-regular-summer-program/2025-07-01/
LOCATION:Ontario Clubhouse BGCWTV\, 573 SW 3rd Ave.\, Ontario\, OR\, 97914\, United States
CATEGORIES:Ontario Clubhouse
END:VEVENT
BEGIN:VEVENT
DTSTART;TZID=America/Boise:20250701T100000
DTEND;TZID=America/Boise:20250701T173000
DTSTAMP:20260423T192134
CREATED:20250530T202325Z
LAST-MODIFIED:20250530T202325Z
UID:10013383-1751364000-1751391000@bgcwtv.org
SUMMARY:Payette Regular Summer Program
DESCRIPTION:
URL:https://bgcwtv.org/event/payette-regular-summer-program/2025-07-01/
LOCATION:OR
CATEGORIES:Payette Clubhouse
END:VEVENT
BEGIN:VEVENT
DTSTART;TZID=America/Boise:20250701T122000
DTEND;TZID=America/Boise:20250701T173000
DTSTAMP:20260423T192134
CREATED:20250530T203808Z
LAST-MODIFIED:20250530T203835Z
UID:10013471-1751372400-1751391000@bgcwtv.org
SUMMARY:Weiser Regular Summer Program
DESCRIPTION:
URL:https://bgcwtv.org/event/weiser-regular-summer-program/2025-07-01/
LOCATION:OR
CATEGORIES:Weiser Clubhouse
END:VEVENT
BEGIN:VEVENT
DTSTART;TZID=America/Boise:20250702T074500
DTEND;TZID=America/Boise:20250702T100000
DTSTAMP:20260423T192134
CREATED:20250530T200749Z
LAST-MODIFIED:20250530T201244Z
UID:10013340-1751442300-1751450400@bgcwtv.org
SUMMARY:Ontario Early Risers Summer Program
DESCRIPTION:
URL:https://bgcwtv.org/event/ontario-early-risers-summer-program/2025-07-02/
LOCATION:Ontario Clubhouse BGCWTV\, 573 SW 3rd Ave.\, Ontario\, OR\, 97914\, United States
CATEGORIES:Ontario Clubhouse
END:VEVENT
BEGIN:VEVENT
DTSTART;TZID=America/Boise:20250702T074500
DTEND;TZID=America/Boise:20250702T100000
DTSTAMP:20260423T192134
CREATED:20250530T203249Z
LAST-MODIFIED:20250530T203312Z
UID:10013428-1751442300-1751450400@bgcwtv.org
SUMMARY:Payette Early Risers Program
DESCRIPTION:
URL:https://bgcwtv.org/event/payette-early-risers-program/2025-07-02/
LOCATION:OR
CATEGORIES:Payette Clubhouse
END:VEVENT
BEGIN:VEVENT
DTSTART;TZID=America/Boise:20250702T100000
DTEND;TZID=America/Boise:20250702T173000
DTSTAMP:20260423T192134
CREATED:20250530T200634Z
LAST-MODIFIED:20250530T201150Z
UID:10013037-1751450400-1751477400@bgcwtv.org
SUMMARY:Ontario Regular Summer Program
DESCRIPTION:
URL:https://bgcwtv.org/event/ontario-regular-summer-program/2025-07-02/
LOCATION:Ontario Clubhouse BGCWTV\, 573 SW 3rd Ave.\, Ontario\, OR\, 97914\, United States
CATEGORIES:Ontario Clubhouse
END:VEVENT
BEGIN:VEVENT
DTSTART;TZID=America/Boise:20250702T100000
DTEND;TZID=America/Boise:20250702T173000
DTSTAMP:20260423T192134
CREATED:20250530T202325Z
LAST-MODIFIED:20250530T202325Z
UID:10013384-1751450400-1751477400@bgcwtv.org
SUMMARY:Payette Regular Summer Program
DESCRIPTION:
URL:https://bgcwtv.org/event/payette-regular-summer-program/2025-07-02/
LOCATION:OR
CATEGORIES:Payette Clubhouse
END:VEVENT
BEGIN:VEVENT
DTSTART;TZID=America/Boise:20250702T122000
DTEND;TZID=America/Boise:20250702T173000
DTSTAMP:20260423T192134
CREATED:20250530T203808Z
LAST-MODIFIED:20250530T203835Z
UID:10013472-1751458800-1751477400@bgcwtv.org
SUMMARY:Weiser Regular Summer Program
DESCRIPTION:
URL:https://bgcwtv.org/event/weiser-regular-summer-program/2025-07-02/
LOCATION:OR
CATEGORIES:Weiser Clubhouse
END:VEVENT
BEGIN:VEVENT
DTSTART;VALUE=DATE:20250703
DTEND;VALUE=DATE:20250704
DTSTAMP:20260423T192134
CREATED:20250530T210658Z
LAST-MODIFIED:20250530T210731Z
UID:10013492-1751500800-1751587199@bgcwtv.org
SUMMARY:Dress Up Day: Red\, White\, & Blue
DESCRIPTION:
URL:https://bgcwtv.org/event/dress-up-day-red-white-blue/
LOCATION:OR
CATEGORIES:BGCWTV Events,Ontario Clubhouse,Payette Clubhouse,Weiser Clubhouse
END:VEVENT
BEGIN:VEVENT
DTSTART;TZID=America/Boise:20250703T074500
DTEND;TZID=America/Boise:20250703T100000
DTSTAMP:20260423T192134
CREATED:20250530T200749Z
LAST-MODIFIED:20250530T201244Z
UID:10013341-1751528700-1751536800@bgcwtv.org
SUMMARY:Ontario Early Risers Summer Program
DESCRIPTION:
URL:https://bgcwtv.org/event/ontario-early-risers-summer-program/2025-07-03/
LOCATION:Ontario Clubhouse BGCWTV\, 573 SW 3rd Ave.\, Ontario\, OR\, 97914\, United States
CATEGORIES:Ontario Clubhouse
END:VEVENT
BEGIN:VEVENT
DTSTART;TZID=America/Boise:20250703T074500
DTEND;TZID=America/Boise:20250703T100000
DTSTAMP:20260423T192134
CREATED:20250530T203249Z
LAST-MODIFIED:20250530T203312Z
UID:10013429-1751528700-1751536800@bgcwtv.org
SUMMARY:Payette Early Risers Program
DESCRIPTION:
URL:https://bgcwtv.org/event/payette-early-risers-program/2025-07-03/
LOCATION:OR
CATEGORIES:Payette Clubhouse
END:VEVENT
BEGIN:VEVENT
DTSTART;TZID=America/Boise:20250703T100000
DTEND;TZID=America/Boise:20250703T173000
DTSTAMP:20260423T192134
CREATED:20250530T200634Z
LAST-MODIFIED:20250530T201150Z
UID:10013038-1751536800-1751563800@bgcwtv.org
SUMMARY:Ontario Regular Summer Program
DESCRIPTION:
URL:https://bgcwtv.org/event/ontario-regular-summer-program/2025-07-03/
LOCATION:Ontario Clubhouse BGCWTV\, 573 SW 3rd Ave.\, Ontario\, OR\, 97914\, United States
CATEGORIES:Ontario Clubhouse
END:VEVENT
BEGIN:VEVENT
DTSTART;TZID=America/Boise:20250703T100000
DTEND;TZID=America/Boise:20250703T173000
DTSTAMP:20260423T192134
CREATED:20250530T202325Z
LAST-MODIFIED:20250530T202325Z
UID:10013385-1751536800-1751563800@bgcwtv.org
SUMMARY:Payette Regular Summer Program
DESCRIPTION:
URL:https://bgcwtv.org/event/payette-regular-summer-program/2025-07-03/
LOCATION:OR
CATEGORIES:Payette Clubhouse
END:VEVENT
BEGIN:VEVENT
DTSTART;TZID=America/Boise:20250703T122000
DTEND;TZID=America/Boise:20250703T173000
DTSTAMP:20260423T192134
CREATED:20250530T203808Z
LAST-MODIFIED:20250530T203835Z
UID:10013473-1751545200-1751563800@bgcwtv.org
SUMMARY:Weiser Regular Summer Program
DESCRIPTION:
URL:https://bgcwtv.org/event/weiser-regular-summer-program/2025-07-03/
LOCATION:OR
CATEGORIES:Weiser Clubhouse
END:VEVENT
BEGIN:VEVENT
DTSTART;VALUE=DATE:20250704
DTEND;VALUE=DATE:20250705
DTSTAMP:20260423T192134
CREATED:20250530T210753Z
LAST-MODIFIED:20250530T210753Z
UID:10013493-1751587200-1751673599@bgcwtv.org
SUMMARY:All Clubs Closed
DESCRIPTION:
URL:https://bgcwtv.org/event/all-clubs-closed-2/
LOCATION:OR
CATEGORIES:BGCWTV Events,Ontario Clubhouse,Payette Clubhouse,Weiser Clubhouse
END:VEVENT
END:VCALENDAR