BEGIN:VCALENDAR
VERSION:2.0
PRODID:-//Boys &amp; Girls Club of Western Treasure Valley - ECPv6.15.20//NONSGML v1.0//EN
CALSCALE:GREGORIAN
METHOD:PUBLISH
X-WR-CALNAME:Boys &amp; Girls Club of Western Treasure Valley
X-ORIGINAL-URL:https://bgcwtv.org
X-WR-CALDESC:Events for Boys &amp; Girls Club of Western Treasure Valley
REFRESH-INTERVAL;VALUE=DURATION:PT1H
X-Robots-Tag:noindex
X-PUBLISHED-TTL:PT1H
BEGIN:VTIMEZONE
TZID:America/Boise
BEGIN:DAYLIGHT
TZOFFSETFROM:-0700
TZOFFSETTO:-0600
TZNAME:MDT
DTSTART:20240310T090000
END:DAYLIGHT
BEGIN:STANDARD
TZOFFSETFROM:-0600
TZOFFSETTO:-0700
TZNAME:MST
DTSTART:20241103T080000
END:STANDARD
BEGIN:DAYLIGHT
TZOFFSETFROM:-0700
TZOFFSETTO:-0600
TZNAME:MDT
DTSTART:20250309T090000
END:DAYLIGHT
BEGIN:STANDARD
TZOFFSETFROM:-0600
TZOFFSETTO:-0700
TZNAME:MST
DTSTART:20251102T080000
END:STANDARD
BEGIN:DAYLIGHT
TZOFFSETFROM:-0700
TZOFFSETTO:-0600
TZNAME:MDT
DTSTART:20260308T090000
END:DAYLIGHT
BEGIN:STANDARD
TZOFFSETFROM:-0600
TZOFFSETTO:-0700
TZNAME:MST
DTSTART:20261101T080000
END:STANDARD
END:VTIMEZONE
BEGIN:VEVENT
DTSTART;TZID=America/Boise:20251208T153000
DTEND;TZID=America/Boise:20251208T183000
DTSTAMP:20260423T154537
CREATED:20251103T211301Z
LAST-MODIFIED:20251103T212537Z
UID:10014573-1765207800-1765218600@bgcwtv.org
SUMMARY:Weiser After School
DESCRIPTION:Weiser Clubhouse is open for After School from 3:30pm-6:30Pm
URL:https://bgcwtv.org/event/weiser-after-school-2/2025-12-08/
LOCATION:Weiser Clubhouse BGCWTV\, 1299 E 2nd St.\, Weiser\, ID\, 83672\, United States
CATEGORIES:Weiser Clubhouse
END:VEVENT
BEGIN:VEVENT
DTSTART;TZID=America/Boise:20251209T153000
DTEND;TZID=America/Boise:20251209T183000
DTSTAMP:20260423T154537
CREATED:20251103T211301Z
LAST-MODIFIED:20251103T212537Z
UID:10014574-1765294200-1765305000@bgcwtv.org
SUMMARY:Weiser After School
DESCRIPTION:Weiser Clubhouse is open for After School from 3:30pm-6:30Pm
URL:https://bgcwtv.org/event/weiser-after-school-2/2025-12-09/
LOCATION:Weiser Clubhouse BGCWTV\, 1299 E 2nd St.\, Weiser\, ID\, 83672\, United States
CATEGORIES:Weiser Clubhouse
END:VEVENT
BEGIN:VEVENT
DTSTART;TZID=America/Boise:20251210T153000
DTEND;TZID=America/Boise:20251210T183000
DTSTAMP:20260423T154537
CREATED:20251103T211301Z
LAST-MODIFIED:20251103T212537Z
UID:10014575-1765380600-1765391400@bgcwtv.org
SUMMARY:Weiser After School
DESCRIPTION:Weiser Clubhouse is open for After School from 3:30pm-6:30Pm
URL:https://bgcwtv.org/event/weiser-after-school-2/2025-12-10/
LOCATION:Weiser Clubhouse BGCWTV\, 1299 E 2nd St.\, Weiser\, ID\, 83672\, United States
CATEGORIES:Weiser Clubhouse
END:VEVENT
BEGIN:VEVENT
DTSTART;TZID=America/Boise:20251211T153000
DTEND;TZID=America/Boise:20251211T183000
DTSTAMP:20260423T154537
CREATED:20251103T211301Z
LAST-MODIFIED:20251103T212537Z
UID:10014576-1765467000-1765477800@bgcwtv.org
SUMMARY:Weiser After School
DESCRIPTION:Weiser Clubhouse is open for After School from 3:30pm-6:30Pm
URL:https://bgcwtv.org/event/weiser-after-school-2/2025-12-11/
LOCATION:Weiser Clubhouse BGCWTV\, 1299 E 2nd St.\, Weiser\, ID\, 83672\, United States
CATEGORIES:Weiser Clubhouse
END:VEVENT
BEGIN:VEVENT
DTSTART;VALUE=DATE:20251212
DTEND;VALUE=DATE:20251213
DTSTAMP:20260423T154537
CREATED:20251103T170611Z
LAST-MODIFIED:20251103T171227Z
UID:10013863-1765526400-1765558800@bgcwtv.org
SUMMARY:All Clubs Closed
DESCRIPTION:
URL:https://bgcwtv.org/event/all-clubs-closed-4/2025-12-12/
LOCATION:OR
CATEGORIES:Ontario Clubhouse,Payette Clubhouse,Weiser Clubhouse
END:VEVENT
END:VCALENDAR