BEGIN:VCALENDAR
VERSION:2.0
PRODID:-//Boys &amp; Girls Club of Western Treasure Valley - ECPv6.15.20//NONSGML v1.0//EN
CALSCALE:GREGORIAN
METHOD:PUBLISH
X-ORIGINAL-URL:https://bgcwtv.org
X-WR-CALDESC:Events for Boys &amp; Girls Club of Western Treasure Valley
REFRESH-INTERVAL;VALUE=DURATION:PT1H
X-Robots-Tag:noindex
X-PUBLISHED-TTL:PT1H
BEGIN:VTIMEZONE
TZID:America/Boise
BEGIN:DAYLIGHT
TZOFFSETFROM:-0700
TZOFFSETTO:-0600
TZNAME:MDT
DTSTART:20240310T090000
END:DAYLIGHT
BEGIN:STANDARD
TZOFFSETFROM:-0600
TZOFFSETTO:-0700
TZNAME:MST
DTSTART:20241103T080000
END:STANDARD
BEGIN:DAYLIGHT
TZOFFSETFROM:-0700
TZOFFSETTO:-0600
TZNAME:MDT
DTSTART:20250309T090000
END:DAYLIGHT
BEGIN:STANDARD
TZOFFSETFROM:-0600
TZOFFSETTO:-0700
TZNAME:MST
DTSTART:20251102T080000
END:STANDARD
BEGIN:DAYLIGHT
TZOFFSETFROM:-0700
TZOFFSETTO:-0600
TZNAME:MDT
DTSTART:20260308T090000
END:DAYLIGHT
BEGIN:STANDARD
TZOFFSETFROM:-0600
TZOFFSETTO:-0700
TZNAME:MST
DTSTART:20261101T080000
END:STANDARD
END:VTIMEZONE
BEGIN:VEVENT
DTSTART;VALUE=DATE:20250616
DTEND;VALUE=DATE:20250621
DTSTAMP:20260423T234434
CREATED:20250530T205317Z
LAST-MODIFIED:20250530T210248Z
UID:10013487-1750032000-1750463999@bgcwtv.org
SUMMARY:Space Week
DESCRIPTION:
URL:https://bgcwtv.org/event/space-week/
LOCATION:OR
CATEGORIES:BGCWTV Events,Ontario Clubhouse,Payette Clubhouse,Weiser Clubhouse
END:VEVENT
BEGIN:VEVENT
DTSTART;TZID=America/Boise:20250616T122000
DTEND;TZID=America/Boise:20250616T173000
DTSTAMP:20260423T234434
CREATED:20250530T203808Z
LAST-MODIFIED:20250530T203835Z
UID:10013460-1750076400-1750095000@bgcwtv.org
SUMMARY:Weiser Regular Summer Program
DESCRIPTION:
URL:https://bgcwtv.org/event/weiser-regular-summer-program/2025-06-16/
LOCATION:OR
CATEGORIES:Weiser Clubhouse
END:VEVENT
BEGIN:VEVENT
DTSTART;TZID=America/Boise:20250617T122000
DTEND;TZID=America/Boise:20250617T173000
DTSTAMP:20260423T234434
CREATED:20250530T203808Z
LAST-MODIFIED:20250530T203835Z
UID:10013461-1750162800-1750181400@bgcwtv.org
SUMMARY:Weiser Regular Summer Program
DESCRIPTION:
URL:https://bgcwtv.org/event/weiser-regular-summer-program/2025-06-17/
LOCATION:OR
CATEGORIES:Weiser Clubhouse
END:VEVENT
BEGIN:VEVENT
DTSTART;TZID=America/Boise:20250618T122000
DTEND;TZID=America/Boise:20250618T173000
DTSTAMP:20260423T234434
CREATED:20250530T203808Z
LAST-MODIFIED:20250530T203835Z
UID:10013462-1750249200-1750267800@bgcwtv.org
SUMMARY:Weiser Regular Summer Program
DESCRIPTION:
URL:https://bgcwtv.org/event/weiser-regular-summer-program/2025-06-18/
LOCATION:OR
CATEGORIES:Weiser Clubhouse
END:VEVENT
BEGIN:VEVENT
DTSTART;TZID=America/Boise:20250619T122000
DTEND;TZID=America/Boise:20250619T173000
DTSTAMP:20260423T234434
CREATED:20250530T203808Z
LAST-MODIFIED:20250530T203835Z
UID:10013463-1750335600-1750354200@bgcwtv.org
SUMMARY:Weiser Regular Summer Program
DESCRIPTION:
URL:https://bgcwtv.org/event/weiser-regular-summer-program/2025-06-19/
LOCATION:OR
CATEGORIES:Weiser Clubhouse
END:VEVENT
BEGIN:VEVENT
DTSTART;VALUE=DATE:20250620
DTEND;VALUE=DATE:20250621
DTSTAMP:20260423T234434
CREATED:20250530T205417Z
LAST-MODIFIED:20250530T210235Z
UID:10013488-1750377600-1750463999@bgcwtv.org
SUMMARY:Dress Up Day: Neon
DESCRIPTION:
URL:https://bgcwtv.org/event/dress-up-day-neon/
LOCATION:OR
CATEGORIES:BGCWTV Events,Ontario Clubhouse,Payette Clubhouse,Weiser Clubhouse
END:VEVENT
BEGIN:VEVENT
DTSTART;TZID=America/Boise:20250620T122000
DTEND;TZID=America/Boise:20250620T173000
DTSTAMP:20260423T234434
CREATED:20250530T203808Z
LAST-MODIFIED:20250530T203835Z
UID:10013464-1750422000-1750440600@bgcwtv.org
SUMMARY:Weiser Regular Summer Program
DESCRIPTION:
URL:https://bgcwtv.org/event/weiser-regular-summer-program/2025-06-20/
LOCATION:OR
CATEGORIES:Weiser Clubhouse
END:VEVENT
END:VCALENDAR