BEGIN:VCALENDAR
VERSION:2.0
PRODID:-//Boys &amp; Girls Club of Western Treasure Valley - ECPv6.15.20//NONSGML v1.0//EN
CALSCALE:GREGORIAN
METHOD:PUBLISH
X-WR-CALNAME:Boys &amp; Girls Club of Western Treasure Valley
X-ORIGINAL-URL:https://bgcwtv.org
X-WR-CALDESC:Events for Boys &amp; Girls Club of Western Treasure Valley
REFRESH-INTERVAL;VALUE=DURATION:PT1H
X-Robots-Tag:noindex
X-PUBLISHED-TTL:PT1H
BEGIN:VTIMEZONE
TZID:America/Boise
BEGIN:DAYLIGHT
TZOFFSETFROM:-0700
TZOFFSETTO:-0600
TZNAME:MDT
DTSTART:20240310T090000
END:DAYLIGHT
BEGIN:STANDARD
TZOFFSETFROM:-0600
TZOFFSETTO:-0700
TZNAME:MST
DTSTART:20241103T080000
END:STANDARD
BEGIN:DAYLIGHT
TZOFFSETFROM:-0700
TZOFFSETTO:-0600
TZNAME:MDT
DTSTART:20250309T090000
END:DAYLIGHT
BEGIN:STANDARD
TZOFFSETFROM:-0600
TZOFFSETTO:-0700
TZNAME:MST
DTSTART:20251102T080000
END:STANDARD
BEGIN:DAYLIGHT
TZOFFSETFROM:-0700
TZOFFSETTO:-0600
TZNAME:MDT
DTSTART:20260308T090000
END:DAYLIGHT
BEGIN:STANDARD
TZOFFSETFROM:-0600
TZOFFSETTO:-0700
TZNAME:MST
DTSTART:20261101T080000
END:STANDARD
END:VTIMEZONE
BEGIN:VEVENT
DTSTART;TZID=America/Boise:20250519T144500
DTEND;TZID=America/Boise:20250519T183000
DTSTAMP:20260424T005644
CREATED:20241220T203153Z
LAST-MODIFIED:20250430T155853Z
UID:10011950-1747665900-1747679400@bgcwtv.org
SUMMARY:All Clubs - After School
DESCRIPTION:All Clubs have regular after-school hours unless otherwise noted.
URL:https://bgcwtv.org/event/all-clubs-after-school/2025-05-19/
LOCATION:OR
CATEGORIES:Ontario Clubhouse,Payette Clubhouse,Weiser Clubhouse
END:VEVENT
BEGIN:VEVENT
DTSTART;TZID=America/Boise:20250520T144500
DTEND;TZID=America/Boise:20250520T183000
DTSTAMP:20260424T005644
CREATED:20241220T203153Z
LAST-MODIFIED:20250430T155853Z
UID:10011951-1747752300-1747765800@bgcwtv.org
SUMMARY:All Clubs - After School
DESCRIPTION:All Clubs have regular after-school hours unless otherwise noted.
URL:https://bgcwtv.org/event/all-clubs-after-school/2025-05-20/
LOCATION:OR
CATEGORIES:Ontario Clubhouse,Payette Clubhouse,Weiser Clubhouse
END:VEVENT
BEGIN:VEVENT
DTSTART;TZID=America/Boise:20250521T144500
DTEND;TZID=America/Boise:20250521T183000
DTSTAMP:20260424T005644
CREATED:20241220T203153Z
LAST-MODIFIED:20250430T155853Z
UID:10011952-1747838700-1747852200@bgcwtv.org
SUMMARY:All Clubs - After School
DESCRIPTION:All Clubs have regular after-school hours unless otherwise noted.
URL:https://bgcwtv.org/event/all-clubs-after-school/2025-05-21/
LOCATION:OR
CATEGORIES:Ontario Clubhouse,Payette Clubhouse,Weiser Clubhouse
END:VEVENT
BEGIN:VEVENT
DTSTART;TZID=America/Boise:20250522T123000
DTEND;TZID=America/Boise:20250522T173000
DTSTAMP:20260424T005644
CREATED:20240905T185556Z
LAST-MODIFIED:20250430T155726Z
UID:10013013-1747917000-1747935000@bgcwtv.org
SUMMARY:Weiser Clubhouse Afternoon
DESCRIPTION:
URL:https://bgcwtv.org/event/weiser-clubhouse-afternoon/2025-05-22/
LOCATION:Weiser Clubhouse BGCWTV\, 1299 E 2nd St.\, Weiser\, ID\, 83672\, United States
CATEGORIES:Weiser Clubhouse
END:VEVENT
BEGIN:VEVENT
DTSTART;VALUE=DATE:20250523
DTEND;VALUE=DATE:20250524
DTSTAMP:20260424T005644
CREATED:20240801T155118Z
LAST-MODIFIED:20250430T155531Z
UID:10013001-1747987200-1748019600@bgcwtv.org
SUMMARY:All Clubs Closed
DESCRIPTION:
URL:https://bgcwtv.org/event/all-clubs-closed/2025-05-23/
LOCATION:Ontario Clubhouse BGCWTV\, 573 SW 3rd Ave.\, Ontario\, OR\, 97914\, United States
CATEGORIES:Ontario Clubhouse,Payette Clubhouse,Weiser Clubhouse
END:VEVENT
END:VCALENDAR