BEGIN:VCALENDAR
VERSION:2.0
PRODID:-//Boys &amp; Girls Club of Western Treasure Valley - ECPv6.15.20//NONSGML v1.0//EN
CALSCALE:GREGORIAN
METHOD:PUBLISH
X-WR-CALNAME:Boys &amp; Girls Club of Western Treasure Valley
X-ORIGINAL-URL:https://bgcwtv.org
X-WR-CALDESC:Events for Boys &amp; Girls Club of Western Treasure Valley
REFRESH-INTERVAL;VALUE=DURATION:PT1H
X-Robots-Tag:noindex
X-PUBLISHED-TTL:PT1H
BEGIN:VTIMEZONE
TZID:America/Boise
BEGIN:DAYLIGHT
TZOFFSETFROM:-0700
TZOFFSETTO:-0600
TZNAME:MDT
DTSTART:20240310T090000
END:DAYLIGHT
BEGIN:STANDARD
TZOFFSETFROM:-0600
TZOFFSETTO:-0700
TZNAME:MST
DTSTART:20241103T080000
END:STANDARD
BEGIN:DAYLIGHT
TZOFFSETFROM:-0700
TZOFFSETTO:-0600
TZNAME:MDT
DTSTART:20250309T090000
END:DAYLIGHT
BEGIN:STANDARD
TZOFFSETFROM:-0600
TZOFFSETTO:-0700
TZNAME:MST
DTSTART:20251102T080000
END:STANDARD
BEGIN:DAYLIGHT
TZOFFSETFROM:-0700
TZOFFSETTO:-0600
TZNAME:MDT
DTSTART:20260308T090000
END:DAYLIGHT
BEGIN:STANDARD
TZOFFSETFROM:-0600
TZOFFSETTO:-0700
TZNAME:MST
DTSTART:20261101T080000
END:STANDARD
END:VTIMEZONE
BEGIN:VEVENT
DTSTART;VALUE=DATE:20250630
DTEND;VALUE=DATE:20250704
DTSTAMP:20260423T194255
CREATED:20250530T210605Z
LAST-MODIFIED:20250530T210605Z
UID:10013491-1751241600-1751587199@bgcwtv.org
SUMMARY:Stars & Stripes Week
DESCRIPTION:
URL:https://bgcwtv.org/event/stars-stripes-week/
LOCATION:OR
CATEGORIES:BGCWTV Events,Ontario Clubhouse,Payette Clubhouse,Weiser Clubhouse
END:VEVENT
BEGIN:VEVENT
DTSTART;TZID=America/Boise:20250701T122000
DTEND;TZID=America/Boise:20250701T173000
DTSTAMP:20260423T194255
CREATED:20250530T203808Z
LAST-MODIFIED:20250530T203835Z
UID:10013471-1751372400-1751391000@bgcwtv.org
SUMMARY:Weiser Regular Summer Program
DESCRIPTION:
URL:https://bgcwtv.org/event/weiser-regular-summer-program/2025-07-01/
LOCATION:OR
CATEGORIES:Weiser Clubhouse
END:VEVENT
BEGIN:VEVENT
DTSTART;TZID=America/Boise:20250702T122000
DTEND;TZID=America/Boise:20250702T173000
DTSTAMP:20260423T194255
CREATED:20250530T203808Z
LAST-MODIFIED:20250530T203835Z
UID:10013472-1751458800-1751477400@bgcwtv.org
SUMMARY:Weiser Regular Summer Program
DESCRIPTION:
URL:https://bgcwtv.org/event/weiser-regular-summer-program/2025-07-02/
LOCATION:OR
CATEGORIES:Weiser Clubhouse
END:VEVENT
BEGIN:VEVENT
DTSTART;VALUE=DATE:20250703
DTEND;VALUE=DATE:20250704
DTSTAMP:20260423T194255
CREATED:20250530T210658Z
LAST-MODIFIED:20250530T210731Z
UID:10013492-1751500800-1751587199@bgcwtv.org
SUMMARY:Dress Up Day: Red\, White\, & Blue
DESCRIPTION:
URL:https://bgcwtv.org/event/dress-up-day-red-white-blue/
LOCATION:OR
CATEGORIES:BGCWTV Events,Ontario Clubhouse,Payette Clubhouse,Weiser Clubhouse
END:VEVENT
BEGIN:VEVENT
DTSTART;TZID=America/Boise:20250703T122000
DTEND;TZID=America/Boise:20250703T173000
DTSTAMP:20260423T194255
CREATED:20250530T203808Z
LAST-MODIFIED:20250530T203835Z
UID:10013473-1751545200-1751563800@bgcwtv.org
SUMMARY:Weiser Regular Summer Program
DESCRIPTION:
URL:https://bgcwtv.org/event/weiser-regular-summer-program/2025-07-03/
LOCATION:OR
CATEGORIES:Weiser Clubhouse
END:VEVENT
BEGIN:VEVENT
DTSTART;VALUE=DATE:20250704
DTEND;VALUE=DATE:20250705
DTSTAMP:20260423T194255
CREATED:20250530T210753Z
LAST-MODIFIED:20250530T210753Z
UID:10013493-1751587200-1751673599@bgcwtv.org
SUMMARY:All Clubs Closed
DESCRIPTION:
URL:https://bgcwtv.org/event/all-clubs-closed-2/
LOCATION:OR
CATEGORIES:BGCWTV Events,Ontario Clubhouse,Payette Clubhouse,Weiser Clubhouse
END:VEVENT
BEGIN:VEVENT
DTSTART;VALUE=DATE:20250707
DTEND;VALUE=DATE:20250712
DTSTAMP:20260423T194255
CREATED:20250530T212224Z
LAST-MODIFIED:20250530T212224Z
UID:10013494-1751846400-1752278399@bgcwtv.org
SUMMARY:Sensory Science Week
DESCRIPTION:
URL:https://bgcwtv.org/event/sensory-science-week/
LOCATION:OR
CATEGORIES:BGCWTV Events,Ontario Clubhouse,Payette Clubhouse,Weiser Clubhouse
END:VEVENT
BEGIN:VEVENT
DTSTART;TZID=America/Boise:20250707T122000
DTEND;TZID=America/Boise:20250707T173000
DTSTAMP:20260423T194255
CREATED:20250530T203808Z
LAST-MODIFIED:20250530T203835Z
UID:10013475-1751890800-1751909400@bgcwtv.org
SUMMARY:Weiser Regular Summer Program
DESCRIPTION:
URL:https://bgcwtv.org/event/weiser-regular-summer-program/2025-07-07/
LOCATION:OR
CATEGORIES:Weiser Clubhouse
END:VEVENT
BEGIN:VEVENT
DTSTART;TZID=America/Boise:20250708T122000
DTEND;TZID=America/Boise:20250708T173000
DTSTAMP:20260423T194255
CREATED:20250530T203808Z
LAST-MODIFIED:20250530T203835Z
UID:10013476-1751977200-1751995800@bgcwtv.org
SUMMARY:Weiser Regular Summer Program
DESCRIPTION:
URL:https://bgcwtv.org/event/weiser-regular-summer-program/2025-07-08/
LOCATION:OR
CATEGORIES:Weiser Clubhouse
END:VEVENT
BEGIN:VEVENT
DTSTART;TZID=America/Boise:20250709T122000
DTEND;TZID=America/Boise:20250709T173000
DTSTAMP:20260423T194255
CREATED:20250530T203808Z
LAST-MODIFIED:20250530T203835Z
UID:10013477-1752063600-1752082200@bgcwtv.org
SUMMARY:Weiser Regular Summer Program
DESCRIPTION:
URL:https://bgcwtv.org/event/weiser-regular-summer-program/2025-07-09/
LOCATION:OR
CATEGORIES:Weiser Clubhouse
END:VEVENT
BEGIN:VEVENT
DTSTART;TZID=America/Boise:20250710T122000
DTEND;TZID=America/Boise:20250710T173000
DTSTAMP:20260423T194255
CREATED:20250530T203808Z
LAST-MODIFIED:20250530T203835Z
UID:10013478-1752150000-1752168600@bgcwtv.org
SUMMARY:Weiser Regular Summer Program
DESCRIPTION:
URL:https://bgcwtv.org/event/weiser-regular-summer-program/2025-07-10/
LOCATION:OR
CATEGORIES:Weiser Clubhouse
END:VEVENT
BEGIN:VEVENT
DTSTART;VALUE=DATE:20250711
DTEND;VALUE=DATE:20250712
DTSTAMP:20260423T194255
CREATED:20250530T212301Z
LAST-MODIFIED:20250530T212301Z
UID:10013495-1752192000-1752278399@bgcwtv.org
SUMMARY:Dress Up Day: Crazy Hair Day
DESCRIPTION:
URL:https://bgcwtv.org/event/dress-up-day-crazy-hair-day/
LOCATION:OR
CATEGORIES:BGCWTV Events,Ontario Clubhouse,Payette Clubhouse,Weiser Clubhouse
END:VEVENT
BEGIN:VEVENT
DTSTART;TZID=America/Boise:20250711T122000
DTEND;TZID=America/Boise:20250711T173000
DTSTAMP:20260423T194255
CREATED:20250530T203808Z
LAST-MODIFIED:20250530T203835Z
UID:10013479-1752236400-1752255000@bgcwtv.org
SUMMARY:Weiser Regular Summer Program
DESCRIPTION:
URL:https://bgcwtv.org/event/weiser-regular-summer-program/2025-07-11/
LOCATION:OR
CATEGORIES:Weiser Clubhouse
END:VEVENT
BEGIN:VEVENT
DTSTART;VALUE=DATE:20250714
DTEND;VALUE=DATE:20250719
DTSTAMP:20260423T194255
CREATED:20250530T212353Z
LAST-MODIFIED:20250530T212440Z
UID:10013496-1752451200-1752883199@bgcwtv.org
SUMMARY:Road Trip Week
DESCRIPTION:
URL:https://bgcwtv.org/event/road-trip-week/
LOCATION:OR
CATEGORIES:BGCWTV Events,Ontario Clubhouse,Payette Clubhouse,Weiser Clubhouse
END:VEVENT
BEGIN:VEVENT
DTSTART;TZID=America/Boise:20250714T122000
DTEND;TZID=America/Boise:20250714T173000
DTSTAMP:20260423T194255
CREATED:20250530T203808Z
LAST-MODIFIED:20250530T203835Z
UID:10013480-1752495600-1752514200@bgcwtv.org
SUMMARY:Weiser Regular Summer Program
DESCRIPTION:
URL:https://bgcwtv.org/event/weiser-regular-summer-program/2025-07-14/
LOCATION:OR
CATEGORIES:Weiser Clubhouse
END:VEVENT
BEGIN:VEVENT
DTSTART;TZID=America/Boise:20250715T122000
DTEND;TZID=America/Boise:20250715T173000
DTSTAMP:20260423T194255
CREATED:20250530T203808Z
LAST-MODIFIED:20250530T203835Z
UID:10013481-1752582000-1752600600@bgcwtv.org
SUMMARY:Weiser Regular Summer Program
DESCRIPTION:
URL:https://bgcwtv.org/event/weiser-regular-summer-program/2025-07-15/
LOCATION:OR
CATEGORIES:Weiser Clubhouse
END:VEVENT
BEGIN:VEVENT
DTSTART;TZID=America/Boise:20250716T122000
DTEND;TZID=America/Boise:20250716T173000
DTSTAMP:20260423T194255
CREATED:20250530T203808Z
LAST-MODIFIED:20250530T203835Z
UID:10013482-1752668400-1752687000@bgcwtv.org
SUMMARY:Weiser Regular Summer Program
DESCRIPTION:
URL:https://bgcwtv.org/event/weiser-regular-summer-program/2025-07-16/
LOCATION:OR
CATEGORIES:Weiser Clubhouse
END:VEVENT
BEGIN:VEVENT
DTSTART;TZID=America/Boise:20250717T122000
DTEND;TZID=America/Boise:20250717T173000
DTSTAMP:20260423T194255
CREATED:20250530T203808Z
LAST-MODIFIED:20250530T203835Z
UID:10013483-1752754800-1752773400@bgcwtv.org
SUMMARY:Weiser Regular Summer Program
DESCRIPTION:
URL:https://bgcwtv.org/event/weiser-regular-summer-program/2025-07-17/
LOCATION:OR
CATEGORIES:Weiser Clubhouse
END:VEVENT
BEGIN:VEVENT
DTSTART;VALUE=DATE:20250718
DTEND;VALUE=DATE:20250719
DTSTAMP:20260423T194255
CREATED:20250530T213128Z
LAST-MODIFIED:20250530T213128Z
UID:10013497-1752796800-1752883199@bgcwtv.org
SUMMARY:Dress Up Day: Beach Hats and Sunglasses
DESCRIPTION:
URL:https://bgcwtv.org/event/dress-up-day-beach-hats-and-sunglasses/
LOCATION:OR
CATEGORIES:BGCWTV Events,Ontario Clubhouse,Payette Clubhouse,Weiser Clubhouse
END:VEVENT
BEGIN:VEVENT
DTSTART;VALUE=DATE:20250718
DTEND;VALUE=DATE:20250719
DTSTAMP:20260423T194255
CREATED:20250603T183526Z
LAST-MODIFIED:20250603T183526Z
UID:10013508-1752796800-1752883199@bgcwtv.org
SUMMARY:Last Day of Weiser Summer Program
DESCRIPTION:
URL:https://bgcwtv.org/event/last-day-of-weiser-summer-program/
LOCATION:OR
CATEGORIES:BGCWTV Events,Weiser Clubhouse
END:VEVENT
BEGIN:VEVENT
DTSTART;TZID=America/Boise:20250718T122000
DTEND;TZID=America/Boise:20250718T173000
DTSTAMP:20260423T194255
CREATED:20250530T203808Z
LAST-MODIFIED:20250530T203835Z
UID:10013484-1752841200-1752859800@bgcwtv.org
SUMMARY:Weiser Regular Summer Program
DESCRIPTION:
URL:https://bgcwtv.org/event/weiser-regular-summer-program/2025-07-18/
LOCATION:OR
CATEGORIES:Weiser Clubhouse
END:VEVENT
END:VCALENDAR