BEGIN:VCALENDAR
VERSION:2.0
PRODID:-//Boys &amp; Girls Club of Western Treasure Valley - ECPv6.15.20//NONSGML v1.0//EN
CALSCALE:GREGORIAN
METHOD:PUBLISH
X-WR-CALNAME:Boys &amp; Girls Club of Western Treasure Valley
X-ORIGINAL-URL:https://bgcwtv.org
X-WR-CALDESC:Events for Boys &amp; Girls Club of Western Treasure Valley
REFRESH-INTERVAL;VALUE=DURATION:PT1H
X-Robots-Tag:noindex
X-PUBLISHED-TTL:PT1H
BEGIN:VTIMEZONE
TZID:America/Boise
BEGIN:DAYLIGHT
TZOFFSETFROM:-0700
TZOFFSETTO:-0600
TZNAME:MDT
DTSTART:20240310T090000
END:DAYLIGHT
BEGIN:STANDARD
TZOFFSETFROM:-0600
TZOFFSETTO:-0700
TZNAME:MST
DTSTART:20241103T080000
END:STANDARD
BEGIN:DAYLIGHT
TZOFFSETFROM:-0700
TZOFFSETTO:-0600
TZNAME:MDT
DTSTART:20250309T090000
END:DAYLIGHT
BEGIN:STANDARD
TZOFFSETFROM:-0600
TZOFFSETTO:-0700
TZNAME:MST
DTSTART:20251102T080000
END:STANDARD
BEGIN:DAYLIGHT
TZOFFSETFROM:-0700
TZOFFSETTO:-0600
TZNAME:MDT
DTSTART:20260308T090000
END:DAYLIGHT
BEGIN:STANDARD
TZOFFSETFROM:-0600
TZOFFSETTO:-0700
TZNAME:MST
DTSTART:20261101T080000
END:STANDARD
END:VTIMEZONE
BEGIN:VEVENT
DTSTART;VALUE=DATE:20250602
DTEND;VALUE=DATE:20250603
DTSTAMP:20260423T205658
CREATED:20240801T155118Z
LAST-MODIFIED:20250430T155531Z
UID:10013007-1748851200-1748883600@bgcwtv.org
SUMMARY:All Clubs Closed
DESCRIPTION:
URL:https://bgcwtv.org/event/all-clubs-closed/2025-06-02/
LOCATION:Ontario Clubhouse BGCWTV\, 573 SW 3rd Ave.\, Ontario\, OR\, 97914\, United States
CATEGORIES:Ontario Clubhouse,Payette Clubhouse,Weiser Clubhouse
END:VEVENT
BEGIN:VEVENT
DTSTART;VALUE=DATE:20250603
DTEND;VALUE=DATE:20250604
DTSTAMP:20260423T205658
CREATED:20240801T155118Z
LAST-MODIFIED:20250430T155531Z
UID:10013008-1748937600-1748970000@bgcwtv.org
SUMMARY:All Clubs Closed
DESCRIPTION:
URL:https://bgcwtv.org/event/all-clubs-closed/2025-06-03/
LOCATION:Ontario Clubhouse BGCWTV\, 573 SW 3rd Ave.\, Ontario\, OR\, 97914\, United States
CATEGORIES:Ontario Clubhouse,Payette Clubhouse,Weiser Clubhouse
END:VEVENT
BEGIN:VEVENT
DTSTART;VALUE=DATE:20250604
DTEND;VALUE=DATE:20250605
DTSTAMP:20260423T205659
CREATED:20240801T155118Z
LAST-MODIFIED:20250430T155531Z
UID:10013009-1749024000-1749056400@bgcwtv.org
SUMMARY:All Clubs Closed
DESCRIPTION:
URL:https://bgcwtv.org/event/all-clubs-closed/2025-06-04/
LOCATION:Ontario Clubhouse BGCWTV\, 573 SW 3rd Ave.\, Ontario\, OR\, 97914\, United States
CATEGORIES:Ontario Clubhouse,Payette Clubhouse,Weiser Clubhouse
END:VEVENT
BEGIN:VEVENT
DTSTART;VALUE=DATE:20250605
DTEND;VALUE=DATE:20250606
DTSTAMP:20260423T205659
CREATED:20240801T155118Z
LAST-MODIFIED:20250430T155531Z
UID:10013010-1749110400-1749142800@bgcwtv.org
SUMMARY:All Clubs Closed
DESCRIPTION:
URL:https://bgcwtv.org/event/all-clubs-closed/2025-06-05/
LOCATION:Ontario Clubhouse BGCWTV\, 573 SW 3rd Ave.\, Ontario\, OR\, 97914\, United States
CATEGORIES:Ontario Clubhouse,Payette Clubhouse,Weiser Clubhouse
END:VEVENT
BEGIN:VEVENT
DTSTART;VALUE=DATE:20250606
DTEND;VALUE=DATE:20250607
DTSTAMP:20260423T205659
CREATED:20240801T155118Z
LAST-MODIFIED:20250430T155531Z
UID:10013011-1749196800-1749229200@bgcwtv.org
SUMMARY:All Clubs Closed
DESCRIPTION:
URL:https://bgcwtv.org/event/all-clubs-closed/2025-06-06/
LOCATION:Ontario Clubhouse BGCWTV\, 573 SW 3rd Ave.\, Ontario\, OR\, 97914\, United States
CATEGORIES:Ontario Clubhouse,Payette Clubhouse,Weiser Clubhouse
END:VEVENT
BEGIN:VEVENT
DTSTART;VALUE=DATE:20250609
DTEND;VALUE=DATE:20250610
DTSTAMP:20260423T205659
CREATED:20250430T160323Z
LAST-MODIFIED:20250430T160323Z
UID:10013017-1749427200-1749513599@bgcwtv.org
SUMMARY:Summer Program Begins
DESCRIPTION:
URL:https://bgcwtv.org/event/summer-program-begins/
LOCATION:OR
CATEGORIES:Ontario Clubhouse,Payette Clubhouse,Weiser Clubhouse
END:VEVENT
BEGIN:VEVENT
DTSTART;TZID=America/Boise:20250609T000000
DTEND;TZID=America/Boise:20250613T235900
DTSTAMP:20260423T205659
CREATED:20250530T204128Z
LAST-MODIFIED:20250530T210327Z
UID:10013485-1749427200-1749859140@bgcwtv.org
SUMMARY:Adventureland
DESCRIPTION:
URL:https://bgcwtv.org/event/adventureland/2025-06-09/3/
LOCATION:OR
CATEGORIES:BGCWTV Events,Ontario Clubhouse,Payette Clubhouse,Weiser Clubhouse
END:VEVENT
BEGIN:VEVENT
DTSTART;TZID=America/Boise:20250609T080000
DTEND;TZID=America/Boise:20250609T170000
DTSTAMP:20260423T205659
CREATED:20250530T204128Z
LAST-MODIFIED:20250530T210327Z
UID:10013486-1749456000-1749488400@bgcwtv.org
SUMMARY:Adventureland
DESCRIPTION:
URL:https://bgcwtv.org/event/adventureland/2025-06-09/2/
LOCATION:OR
CATEGORIES:BGCWTV Events,Ontario Clubhouse,Payette Clubhouse,Weiser Clubhouse
END:VEVENT
BEGIN:VEVENT
DTSTART;TZID=America/Boise:20250609T122000
DTEND;TZID=America/Boise:20250609T173000
DTSTAMP:20260423T205659
CREATED:20250530T203808Z
LAST-MODIFIED:20250530T203835Z
UID:10013455-1749471600-1749490200@bgcwtv.org
SUMMARY:Weiser Regular Summer Program
DESCRIPTION:
URL:https://bgcwtv.org/event/weiser-regular-summer-program/2025-06-09/
LOCATION:OR
CATEGORIES:Weiser Clubhouse
END:VEVENT
BEGIN:VEVENT
DTSTART;TZID=America/Boise:20250610T122000
DTEND;TZID=America/Boise:20250610T173000
DTSTAMP:20260423T205659
CREATED:20250530T203808Z
LAST-MODIFIED:20250530T203835Z
UID:10013456-1749558000-1749576600@bgcwtv.org
SUMMARY:Weiser Regular Summer Program
DESCRIPTION:
URL:https://bgcwtv.org/event/weiser-regular-summer-program/2025-06-10/
LOCATION:OR
CATEGORIES:Weiser Clubhouse
END:VEVENT
BEGIN:VEVENT
DTSTART;TZID=America/Boise:20250611T122000
DTEND;TZID=America/Boise:20250611T173000
DTSTAMP:20260423T205659
CREATED:20250530T203808Z
LAST-MODIFIED:20250530T203835Z
UID:10013457-1749644400-1749663000@bgcwtv.org
SUMMARY:Weiser Regular Summer Program
DESCRIPTION:
URL:https://bgcwtv.org/event/weiser-regular-summer-program/2025-06-11/
LOCATION:OR
CATEGORIES:Weiser Clubhouse
END:VEVENT
BEGIN:VEVENT
DTSTART;TZID=America/Boise:20250612T122000
DTEND;TZID=America/Boise:20250612T173000
DTSTAMP:20260423T205659
CREATED:20250530T203808Z
LAST-MODIFIED:20250530T203835Z
UID:10013458-1749730800-1749749400@bgcwtv.org
SUMMARY:Weiser Regular Summer Program
DESCRIPTION:
URL:https://bgcwtv.org/event/weiser-regular-summer-program/2025-06-12/
LOCATION:OR
CATEGORIES:Weiser Clubhouse
END:VEVENT
BEGIN:VEVENT
DTSTART;VALUE=DATE:20250613
DTEND;VALUE=DATE:20250614
DTSTAMP:20260423T205659
CREATED:20250530T181802Z
LAST-MODIFIED:20250530T210311Z
UID:10013018-1749772800-1749859199@bgcwtv.org
SUMMARY:Dress Up Day: Mismatched Clothes
DESCRIPTION:
URL:https://bgcwtv.org/event/dress-up-day-mismatched-clothes/
LOCATION:OR
CATEGORIES:BGCWTV Events,Ontario Clubhouse,Payette Clubhouse,Weiser Clubhouse
END:VEVENT
BEGIN:VEVENT
DTSTART;TZID=America/Boise:20250613T122000
DTEND;TZID=America/Boise:20250613T173000
DTSTAMP:20260423T205659
CREATED:20250530T203808Z
LAST-MODIFIED:20250530T203835Z
UID:10013459-1749817200-1749835800@bgcwtv.org
SUMMARY:Weiser Regular Summer Program
DESCRIPTION:
URL:https://bgcwtv.org/event/weiser-regular-summer-program/2025-06-13/
LOCATION:OR
CATEGORIES:Weiser Clubhouse
END:VEVENT
BEGIN:VEVENT
DTSTART;VALUE=DATE:20250616
DTEND;VALUE=DATE:20250621
DTSTAMP:20260423T205659
CREATED:20250530T205317Z
LAST-MODIFIED:20250530T210248Z
UID:10013487-1750032000-1750463999@bgcwtv.org
SUMMARY:Space Week
DESCRIPTION:
URL:https://bgcwtv.org/event/space-week/
LOCATION:OR
CATEGORIES:BGCWTV Events,Ontario Clubhouse,Payette Clubhouse,Weiser Clubhouse
END:VEVENT
BEGIN:VEVENT
DTSTART;TZID=America/Boise:20250616T122000
DTEND;TZID=America/Boise:20250616T173000
DTSTAMP:20260423T205659
CREATED:20250530T203808Z
LAST-MODIFIED:20250530T203835Z
UID:10013460-1750076400-1750095000@bgcwtv.org
SUMMARY:Weiser Regular Summer Program
DESCRIPTION:
URL:https://bgcwtv.org/event/weiser-regular-summer-program/2025-06-16/
LOCATION:OR
CATEGORIES:Weiser Clubhouse
END:VEVENT
BEGIN:VEVENT
DTSTART;TZID=America/Boise:20250617T122000
DTEND;TZID=America/Boise:20250617T173000
DTSTAMP:20260423T205659
CREATED:20250530T203808Z
LAST-MODIFIED:20250530T203835Z
UID:10013461-1750162800-1750181400@bgcwtv.org
SUMMARY:Weiser Regular Summer Program
DESCRIPTION:
URL:https://bgcwtv.org/event/weiser-regular-summer-program/2025-06-17/
LOCATION:OR
CATEGORIES:Weiser Clubhouse
END:VEVENT
BEGIN:VEVENT
DTSTART;TZID=America/Boise:20250618T122000
DTEND;TZID=America/Boise:20250618T173000
DTSTAMP:20260423T205659
CREATED:20250530T203808Z
LAST-MODIFIED:20250530T203835Z
UID:10013462-1750249200-1750267800@bgcwtv.org
SUMMARY:Weiser Regular Summer Program
DESCRIPTION:
URL:https://bgcwtv.org/event/weiser-regular-summer-program/2025-06-18/
LOCATION:OR
CATEGORIES:Weiser Clubhouse
END:VEVENT
BEGIN:VEVENT
DTSTART;TZID=America/Boise:20250619T122000
DTEND;TZID=America/Boise:20250619T173000
DTSTAMP:20260423T205659
CREATED:20250530T203808Z
LAST-MODIFIED:20250530T203835Z
UID:10013463-1750335600-1750354200@bgcwtv.org
SUMMARY:Weiser Regular Summer Program
DESCRIPTION:
URL:https://bgcwtv.org/event/weiser-regular-summer-program/2025-06-19/
LOCATION:OR
CATEGORIES:Weiser Clubhouse
END:VEVENT
BEGIN:VEVENT
DTSTART;VALUE=DATE:20250620
DTEND;VALUE=DATE:20250621
DTSTAMP:20260423T205659
CREATED:20250530T205417Z
LAST-MODIFIED:20250530T210235Z
UID:10013488-1750377600-1750463999@bgcwtv.org
SUMMARY:Dress Up Day: Neon
DESCRIPTION:
URL:https://bgcwtv.org/event/dress-up-day-neon/
LOCATION:OR
CATEGORIES:BGCWTV Events,Ontario Clubhouse,Payette Clubhouse,Weiser Clubhouse
END:VEVENT
BEGIN:VEVENT
DTSTART;TZID=America/Boise:20250620T122000
DTEND;TZID=America/Boise:20250620T173000
DTSTAMP:20260423T205659
CREATED:20250530T203808Z
LAST-MODIFIED:20250530T203835Z
UID:10013464-1750422000-1750440600@bgcwtv.org
SUMMARY:Weiser Regular Summer Program
DESCRIPTION:
URL:https://bgcwtv.org/event/weiser-regular-summer-program/2025-06-20/
LOCATION:OR
CATEGORIES:Weiser Clubhouse
END:VEVENT
BEGIN:VEVENT
DTSTART;VALUE=DATE:20250623
DTEND;VALUE=DATE:20250628
DTSTAMP:20260423T205659
CREATED:20250530T205628Z
LAST-MODIFIED:20250530T210350Z
UID:10013489-1750636800-1751068799@bgcwtv.org
SUMMARY:BGC Spirit Week
DESCRIPTION:
URL:https://bgcwtv.org/event/bgc-spirit-week/
LOCATION:OR
CATEGORIES:BGCWTV Events,Ontario Clubhouse,Payette Clubhouse,Weiser Clubhouse
END:VEVENT
BEGIN:VEVENT
DTSTART;TZID=America/Boise:20250623T122000
DTEND;TZID=America/Boise:20250623T173000
DTSTAMP:20260423T205659
CREATED:20250530T203808Z
LAST-MODIFIED:20250530T203835Z
UID:10013465-1750681200-1750699800@bgcwtv.org
SUMMARY:Weiser Regular Summer Program
DESCRIPTION:
URL:https://bgcwtv.org/event/weiser-regular-summer-program/2025-06-23/
LOCATION:OR
CATEGORIES:Weiser Clubhouse
END:VEVENT
BEGIN:VEVENT
DTSTART;TZID=America/Boise:20250624T122000
DTEND;TZID=America/Boise:20250624T173000
DTSTAMP:20260423T205659
CREATED:20250530T203808Z
LAST-MODIFIED:20250530T203835Z
UID:10013466-1750767600-1750786200@bgcwtv.org
SUMMARY:Weiser Regular Summer Program
DESCRIPTION:
URL:https://bgcwtv.org/event/weiser-regular-summer-program/2025-06-24/
LOCATION:OR
CATEGORIES:Weiser Clubhouse
END:VEVENT
BEGIN:VEVENT
DTSTART;TZID=America/Boise:20250625T122000
DTEND;TZID=America/Boise:20250625T173000
DTSTAMP:20260423T205659
CREATED:20250530T203808Z
LAST-MODIFIED:20250530T203835Z
UID:10013467-1750854000-1750872600@bgcwtv.org
SUMMARY:Weiser Regular Summer Program
DESCRIPTION:
URL:https://bgcwtv.org/event/weiser-regular-summer-program/2025-06-25/
LOCATION:OR
CATEGORIES:Weiser Clubhouse
END:VEVENT
BEGIN:VEVENT
DTSTART;TZID=America/Boise:20250626T122000
DTEND;TZID=America/Boise:20250626T173000
DTSTAMP:20260423T205659
CREATED:20250530T203808Z
LAST-MODIFIED:20250530T203835Z
UID:10013468-1750940400-1750959000@bgcwtv.org
SUMMARY:Weiser Regular Summer Program
DESCRIPTION:
URL:https://bgcwtv.org/event/weiser-regular-summer-program/2025-06-26/
LOCATION:OR
CATEGORIES:Weiser Clubhouse
END:VEVENT
BEGIN:VEVENT
DTSTART;VALUE=DATE:20250627
DTEND;VALUE=DATE:20250628
DTSTAMP:20260423T205659
CREATED:20250530T210507Z
LAST-MODIFIED:20250530T210507Z
UID:10013490-1750982400-1751068799@bgcwtv.org
SUMMARY:Dress Up Day: Tie Dye
DESCRIPTION:
URL:https://bgcwtv.org/event/dress-up-day-tie-dye/
LOCATION:OR
CATEGORIES:BGCWTV Events,Ontario Clubhouse,Payette Clubhouse,Weiser Clubhouse
END:VEVENT
BEGIN:VEVENT
DTSTART;TZID=America/Boise:20250627T122000
DTEND;TZID=America/Boise:20250627T173000
DTSTAMP:20260423T205659
CREATED:20250530T203808Z
LAST-MODIFIED:20250530T203835Z
UID:10013469-1751026800-1751045400@bgcwtv.org
SUMMARY:Weiser Regular Summer Program
DESCRIPTION:
URL:https://bgcwtv.org/event/weiser-regular-summer-program/2025-06-27/
LOCATION:OR
CATEGORIES:Weiser Clubhouse
END:VEVENT
BEGIN:VEVENT
DTSTART;VALUE=DATE:20250630
DTEND;VALUE=DATE:20250704
DTSTAMP:20260423T205659
CREATED:20250530T210605Z
LAST-MODIFIED:20250530T210605Z
UID:10013491-1751241600-1751587199@bgcwtv.org
SUMMARY:Stars & Stripes Week
DESCRIPTION:
URL:https://bgcwtv.org/event/stars-stripes-week/
LOCATION:OR
CATEGORIES:BGCWTV Events,Ontario Clubhouse,Payette Clubhouse,Weiser Clubhouse
END:VEVENT
BEGIN:VEVENT
DTSTART;TZID=America/Boise:20250630T122000
DTEND;TZID=America/Boise:20250630T173000
DTSTAMP:20260423T205659
CREATED:20250530T203808Z
LAST-MODIFIED:20250530T203835Z
UID:10013470-1751286000-1751304600@bgcwtv.org
SUMMARY:Weiser Regular Summer Program
DESCRIPTION:
URL:https://bgcwtv.org/event/weiser-regular-summer-program/2025-06-30/
LOCATION:OR
CATEGORIES:Weiser Clubhouse
END:VEVENT
END:VCALENDAR