BEGIN:VCALENDAR
VERSION:2.0
PRODID:-//Boys &amp; Girls Club of Western Treasure Valley - ECPv6.15.20//NONSGML v1.0//EN
CALSCALE:GREGORIAN
METHOD:PUBLISH
X-WR-CALNAME:Boys &amp; Girls Club of Western Treasure Valley
X-ORIGINAL-URL:https://bgcwtv.org
X-WR-CALDESC:Events for Boys &amp; Girls Club of Western Treasure Valley
REFRESH-INTERVAL;VALUE=DURATION:PT1H
X-Robots-Tag:noindex
X-PUBLISHED-TTL:PT1H
BEGIN:VTIMEZONE
TZID:America/Boise
BEGIN:DAYLIGHT
TZOFFSETFROM:-0700
TZOFFSETTO:-0600
TZNAME:MDT
DTSTART:20250309T090000
END:DAYLIGHT
BEGIN:STANDARD
TZOFFSETFROM:-0600
TZOFFSETTO:-0700
TZNAME:MST
DTSTART:20251102T080000
END:STANDARD
BEGIN:DAYLIGHT
TZOFFSETFROM:-0700
TZOFFSETTO:-0600
TZNAME:MDT
DTSTART:20260308T090000
END:DAYLIGHT
BEGIN:STANDARD
TZOFFSETFROM:-0600
TZOFFSETTO:-0700
TZNAME:MST
DTSTART:20261101T080000
END:STANDARD
BEGIN:DAYLIGHT
TZOFFSETFROM:-0700
TZOFFSETTO:-0600
TZNAME:MDT
DTSTART:20270314T090000
END:DAYLIGHT
BEGIN:STANDARD
TZOFFSETFROM:-0600
TZOFFSETTO:-0700
TZNAME:MST
DTSTART:20271107T080000
END:STANDARD
END:VTIMEZONE
BEGIN:VEVENT
DTSTART;VALUE=DATE:20260119
DTEND;VALUE=DATE:20260120
DTSTAMP:20260423T144135
CREATED:20251216T195909Z
LAST-MODIFIED:20251216T195909Z
UID:10014829-1768780800-1768867199@bgcwtv.org
SUMMARY:Ontario & Payette Clubs Closed
DESCRIPTION:
URL:https://bgcwtv.org/event/ontario-payette-clubs-closed/
LOCATION:Ontario Clubhouse BGCWTV\, 573 SW 3rd Ave.\, Ontario\, OR\, 97914\, United States
CATEGORIES:Ontario Clubhouse,Payette Clubhouse
END:VEVENT
BEGIN:VEVENT
DTSTART;VALUE=DATE:20260123
DTEND;VALUE=DATE:20260124
DTSTAMP:20260423T144135
CREATED:20251216T200041Z
LAST-MODIFIED:20251216T200041Z
UID:10014832-1769126400-1769212799@bgcwtv.org
SUMMARY:Payette & Weiser Clubs Closed
DESCRIPTION:
URL:https://bgcwtv.org/event/payette-weiser-clubs-closed-3/
LOCATION:Payette Clubhouse BGCWTV\, 1222 1st Ave South\, Payette\, ID\, 83661\, United States
CATEGORIES:Payette Clubhouse,Weiser Clubhouse
END:VEVENT
END:VCALENDAR