BEGIN:VCALENDAR
VERSION:2.0
PRODID:-//Boys &amp; Girls Club of Western Treasure Valley - ECPv6.15.20//NONSGML v1.0//EN
CALSCALE:GREGORIAN
METHOD:PUBLISH
X-WR-CALNAME:Boys &amp; Girls Club of Western Treasure Valley
X-ORIGINAL-URL:https://bgcwtv.org
X-WR-CALDESC:Events for Boys &amp; Girls Club of Western Treasure Valley
REFRESH-INTERVAL;VALUE=DURATION:PT1H
X-Robots-Tag:noindex
X-PUBLISHED-TTL:PT1H
BEGIN:VTIMEZONE
TZID:America/Boise
BEGIN:DAYLIGHT
TZOFFSETFROM:-0700
TZOFFSETTO:-0600
TZNAME:MDT
DTSTART:20240310T090000
END:DAYLIGHT
BEGIN:STANDARD
TZOFFSETFROM:-0600
TZOFFSETTO:-0700
TZNAME:MST
DTSTART:20241103T080000
END:STANDARD
BEGIN:DAYLIGHT
TZOFFSETFROM:-0700
TZOFFSETTO:-0600
TZNAME:MDT
DTSTART:20250309T090000
END:DAYLIGHT
BEGIN:STANDARD
TZOFFSETFROM:-0600
TZOFFSETTO:-0700
TZNAME:MST
DTSTART:20251102T080000
END:STANDARD
BEGIN:DAYLIGHT
TZOFFSETFROM:-0700
TZOFFSETTO:-0600
TZNAME:MDT
DTSTART:20260308T090000
END:DAYLIGHT
BEGIN:STANDARD
TZOFFSETFROM:-0600
TZOFFSETTO:-0700
TZNAME:MST
DTSTART:20261101T080000
END:STANDARD
END:VTIMEZONE
BEGIN:VEVENT
DTSTART;VALUE=DATE:20251222
DTEND;VALUE=DATE:20251223
DTSTAMP:20260423T144135
CREATED:20251103T170611Z
LAST-MODIFIED:20251103T171227Z
UID:10013865-1766390400-1766422800@bgcwtv.org
SUMMARY:All Clubs Closed
DESCRIPTION:
URL:https://bgcwtv.org/event/all-clubs-closed-4/2025-12-22/
LOCATION:OR
CATEGORIES:Ontario Clubhouse,Payette Clubhouse,Weiser Clubhouse
END:VEVENT
BEGIN:VEVENT
DTSTART;VALUE=DATE:20251223
DTEND;VALUE=DATE:20251224
DTSTAMP:20260423T144135
CREATED:20251103T170611Z
LAST-MODIFIED:20251103T171227Z
UID:10013866-1766476800-1766509200@bgcwtv.org
SUMMARY:All Clubs Closed
DESCRIPTION:
URL:https://bgcwtv.org/event/all-clubs-closed-4/2025-12-23/
LOCATION:OR
CATEGORIES:Ontario Clubhouse,Payette Clubhouse,Weiser Clubhouse
END:VEVENT
BEGIN:VEVENT
DTSTART;VALUE=DATE:20251224
DTEND;VALUE=DATE:20251225
DTSTAMP:20260423T144135
CREATED:20251103T170611Z
LAST-MODIFIED:20251103T171227Z
UID:10013867-1766563200-1766595600@bgcwtv.org
SUMMARY:All Clubs Closed
DESCRIPTION:
URL:https://bgcwtv.org/event/all-clubs-closed-4/2025-12-24/
LOCATION:OR
CATEGORIES:Ontario Clubhouse,Payette Clubhouse,Weiser Clubhouse
END:VEVENT
BEGIN:VEVENT
DTSTART;VALUE=DATE:20251225
DTEND;VALUE=DATE:20251226
DTSTAMP:20260423T144135
CREATED:20251103T170611Z
LAST-MODIFIED:20251103T171227Z
UID:10013868-1766649600-1766682000@bgcwtv.org
SUMMARY:All Clubs Closed
DESCRIPTION:
URL:https://bgcwtv.org/event/all-clubs-closed-4/2025-12-25/
LOCATION:OR
CATEGORIES:Ontario Clubhouse,Payette Clubhouse,Weiser Clubhouse
END:VEVENT
BEGIN:VEVENT
DTSTART;VALUE=DATE:20251226
DTEND;VALUE=DATE:20251227
DTSTAMP:20260423T144135
CREATED:20251103T170611Z
LAST-MODIFIED:20251103T171227Z
UID:10013869-1766736000-1766768400@bgcwtv.org
SUMMARY:All Clubs Closed
DESCRIPTION:
URL:https://bgcwtv.org/event/all-clubs-closed-4/2025-12-26/
LOCATION:OR
CATEGORIES:Ontario Clubhouse,Payette Clubhouse,Weiser Clubhouse
END:VEVENT
END:VCALENDAR