BEGIN:VCALENDAR
VERSION:2.0
PRODID:-//Boys &amp; Girls Club of Western Treasure Valley - ECPv6.15.20//NONSGML v1.0//EN
CALSCALE:GREGORIAN
METHOD:PUBLISH
X-ORIGINAL-URL:https://bgcwtv.org
X-WR-CALDESC:Events for Boys &amp; Girls Club of Western Treasure Valley
REFRESH-INTERVAL;VALUE=DURATION:PT1H
X-Robots-Tag:noindex
X-PUBLISHED-TTL:PT1H
BEGIN:VTIMEZONE
TZID:America/Boise
BEGIN:DAYLIGHT
TZOFFSETFROM:-0700
TZOFFSETTO:-0600
TZNAME:MDT
DTSTART:20240310T090000
END:DAYLIGHT
BEGIN:STANDARD
TZOFFSETFROM:-0600
TZOFFSETTO:-0700
TZNAME:MST
DTSTART:20241103T080000
END:STANDARD
BEGIN:DAYLIGHT
TZOFFSETFROM:-0700
TZOFFSETTO:-0600
TZNAME:MDT
DTSTART:20250309T090000
END:DAYLIGHT
BEGIN:STANDARD
TZOFFSETFROM:-0600
TZOFFSETTO:-0700
TZNAME:MST
DTSTART:20251102T080000
END:STANDARD
BEGIN:DAYLIGHT
TZOFFSETFROM:-0700
TZOFFSETTO:-0600
TZNAME:MDT
DTSTART:20260308T090000
END:DAYLIGHT
BEGIN:STANDARD
TZOFFSETFROM:-0600
TZOFFSETTO:-0700
TZNAME:MST
DTSTART:20261101T080000
END:STANDARD
END:VTIMEZONE
BEGIN:VEVENT
DTSTART;TZID=America/Boise:20251110T063000
DTEND;TZID=America/Boise:20251110T080000
DTSTAMP:20260423T182912
CREATED:20251103T210658Z
LAST-MODIFIED:20251103T222457Z
UID:10014335-1762756200-1762761600@bgcwtv.org
SUMMARY:Payette Before School
DESCRIPTION:Payette Club is open regular before school hours.
URL:https://bgcwtv.org/event/payette-before-school/2025-11-10/
LOCATION:Payette Clubhouse BGCWTV\, 1222 1st Ave South\, Payette\, ID\, 83661\, United States
CATEGORIES:Payette Clubhouse
END:VEVENT
BEGIN:VEVENT
DTSTART;TZID=America/Boise:20251110T153000
DTEND;TZID=America/Boise:20251110T183000
DTSTAMP:20260423T182912
CREATED:20251103T172039Z
LAST-MODIFIED:20251103T212156Z
UID:10013883-1762788600-1762799400@bgcwtv.org
SUMMARY:Payette After School
DESCRIPTION:Payette Club is open regular after school hours.
URL:https://bgcwtv.org/event/payette-after-school-2/2025-11-10/
LOCATION:Payette Clubhouse BGCWTV\, 1222 1st Ave South\, Payette\, ID\, 83661\, United States
CATEGORIES:Payette Clubhouse
END:VEVENT
BEGIN:VEVENT
DTSTART;TZID=America/Boise:20251111T063000
DTEND;TZID=America/Boise:20251111T080000
DTSTAMP:20260423T182912
CREATED:20251103T210658Z
LAST-MODIFIED:20251103T222457Z
UID:10014336-1762842600-1762848000@bgcwtv.org
SUMMARY:Payette Before School
DESCRIPTION:Payette Club is open regular before school hours.
URL:https://bgcwtv.org/event/payette-before-school/2025-11-11/
LOCATION:Payette Clubhouse BGCWTV\, 1222 1st Ave South\, Payette\, ID\, 83661\, United States
CATEGORIES:Payette Clubhouse
END:VEVENT
BEGIN:VEVENT
DTSTART;TZID=America/Boise:20251111T153000
DTEND;TZID=America/Boise:20251111T183000
DTSTAMP:20260423T182912
CREATED:20251103T172039Z
LAST-MODIFIED:20251103T212156Z
UID:10013884-1762875000-1762885800@bgcwtv.org
SUMMARY:Payette After School
DESCRIPTION:Payette Club is open regular after school hours.
URL:https://bgcwtv.org/event/payette-after-school-2/2025-11-11/
LOCATION:Payette Clubhouse BGCWTV\, 1222 1st Ave South\, Payette\, ID\, 83661\, United States
CATEGORIES:Payette Clubhouse
END:VEVENT
BEGIN:VEVENT
DTSTART;TZID=America/Boise:20251112T063000
DTEND;TZID=America/Boise:20251112T080000
DTSTAMP:20260423T182912
CREATED:20251103T210658Z
LAST-MODIFIED:20251103T222457Z
UID:10014337-1762929000-1762934400@bgcwtv.org
SUMMARY:Payette Before School
DESCRIPTION:Payette Club is open regular before school hours.
URL:https://bgcwtv.org/event/payette-before-school/2025-11-12/
LOCATION:Payette Clubhouse BGCWTV\, 1222 1st Ave South\, Payette\, ID\, 83661\, United States
CATEGORIES:Payette Clubhouse
END:VEVENT
BEGIN:VEVENT
DTSTART;TZID=America/Boise:20251112T153000
DTEND;TZID=America/Boise:20251112T183000
DTSTAMP:20260423T182912
CREATED:20251103T172039Z
LAST-MODIFIED:20251103T212156Z
UID:10013885-1762961400-1762972200@bgcwtv.org
SUMMARY:Payette After School
DESCRIPTION:Payette Club is open regular after school hours.
URL:https://bgcwtv.org/event/payette-after-school-2/2025-11-12/
LOCATION:Payette Clubhouse BGCWTV\, 1222 1st Ave South\, Payette\, ID\, 83661\, United States
CATEGORIES:Payette Clubhouse
END:VEVENT
BEGIN:VEVENT
DTSTART;TZID=America/Boise:20251113T063000
DTEND;TZID=America/Boise:20251113T080000
DTSTAMP:20260423T182912
CREATED:20251103T210658Z
LAST-MODIFIED:20251103T222457Z
UID:10014338-1763015400-1763020800@bgcwtv.org
SUMMARY:Payette Before School
DESCRIPTION:Payette Club is open regular before school hours.
URL:https://bgcwtv.org/event/payette-before-school/2025-11-13/
LOCATION:Payette Clubhouse BGCWTV\, 1222 1st Ave South\, Payette\, ID\, 83661\, United States
CATEGORIES:Payette Clubhouse
END:VEVENT
BEGIN:VEVENT
DTSTART;TZID=America/Boise:20251113T153000
DTEND;TZID=America/Boise:20251113T183000
DTSTAMP:20260423T182912
CREATED:20251103T172039Z
LAST-MODIFIED:20251103T212156Z
UID:10013886-1763047800-1763058600@bgcwtv.org
SUMMARY:Payette After School
DESCRIPTION:Payette Club is open regular after school hours.
URL:https://bgcwtv.org/event/payette-after-school-2/2025-11-13/
LOCATION:Payette Clubhouse BGCWTV\, 1222 1st Ave South\, Payette\, ID\, 83661\, United States
CATEGORIES:Payette Clubhouse
END:VEVENT
BEGIN:VEVENT
DTSTART;VALUE=DATE:20251114
DTEND;VALUE=DATE:20251115
DTSTAMP:20260423T182912
CREATED:20251103T210847Z
LAST-MODIFIED:20251103T210847Z
UID:10014557-1763078400-1763164799@bgcwtv.org
SUMMARY:Payette & Weiser Clubs Closed
DESCRIPTION:
URL:https://bgcwtv.org/event/payette-weiser-clubs-closed/
LOCATION:OR
CATEGORIES:Payette Clubhouse,Weiser Clubhouse
END:VEVENT
END:VCALENDAR