BEGIN:VCALENDAR
VERSION:2.0
PRODID:-//Boys &amp; Girls Club of Western Treasure Valley - ECPv6.15.20//NONSGML v1.0//EN
CALSCALE:GREGORIAN
METHOD:PUBLISH
X-ORIGINAL-URL:https://bgcwtv.org
X-WR-CALDESC:Events for Boys &amp; Girls Club of Western Treasure Valley
REFRESH-INTERVAL;VALUE=DURATION:PT1H
X-Robots-Tag:noindex
X-PUBLISHED-TTL:PT1H
BEGIN:VTIMEZONE
TZID:America/Boise
BEGIN:DAYLIGHT
TZOFFSETFROM:-0700
TZOFFSETTO:-0600
TZNAME:MDT
DTSTART:20240310T090000
END:DAYLIGHT
BEGIN:STANDARD
TZOFFSETFROM:-0600
TZOFFSETTO:-0700
TZNAME:MST
DTSTART:20241103T080000
END:STANDARD
BEGIN:DAYLIGHT
TZOFFSETFROM:-0700
TZOFFSETTO:-0600
TZNAME:MDT
DTSTART:20250309T090000
END:DAYLIGHT
BEGIN:STANDARD
TZOFFSETFROM:-0600
TZOFFSETTO:-0700
TZNAME:MST
DTSTART:20251102T080000
END:STANDARD
BEGIN:DAYLIGHT
TZOFFSETFROM:-0700
TZOFFSETTO:-0600
TZNAME:MDT
DTSTART:20260308T090000
END:DAYLIGHT
BEGIN:STANDARD
TZOFFSETFROM:-0600
TZOFFSETTO:-0700
TZNAME:MST
DTSTART:20261101T080000
END:STANDARD
END:VTIMEZONE
BEGIN:VEVENT
DTSTART;VALUE=DATE:20250804
DTEND;VALUE=DATE:20250809
DTSTAMP:20260423T205556
CREATED:20250530T213807Z
LAST-MODIFIED:20250530T213807Z
UID:10013503-1754265600-1754697599@bgcwtv.org
SUMMARY:Water Week
DESCRIPTION:
URL:https://bgcwtv.org/event/water-week/
LOCATION:OR
CATEGORIES:BGCWTV Events,Ontario Clubhouse,Payette Clubhouse
END:VEVENT
BEGIN:VEVENT
DTSTART;TZID=America/Boise:20250804T074500
DTEND;TZID=America/Boise:20250804T100000
DTSTAMP:20260423T205556
CREATED:20250530T203249Z
LAST-MODIFIED:20250530T203312Z
UID:10013450-1754293500-1754301600@bgcwtv.org
SUMMARY:Payette Early Risers Program
DESCRIPTION:
URL:https://bgcwtv.org/event/payette-early-risers-program/2025-08-04/
LOCATION:OR
CATEGORIES:Payette Clubhouse
END:VEVENT
BEGIN:VEVENT
DTSTART;TZID=America/Boise:20250804T100000
DTEND;TZID=America/Boise:20250804T173000
DTSTAMP:20260423T205556
CREATED:20250530T202325Z
LAST-MODIFIED:20250530T202325Z
UID:10013406-1754301600-1754328600@bgcwtv.org
SUMMARY:Payette Regular Summer Program
DESCRIPTION:
URL:https://bgcwtv.org/event/payette-regular-summer-program/2025-08-04/
LOCATION:OR
CATEGORIES:Payette Clubhouse
END:VEVENT
BEGIN:VEVENT
DTSTART;TZID=America/Boise:20250805T074500
DTEND;TZID=America/Boise:20250805T100000
DTSTAMP:20260423T205556
CREATED:20250530T203249Z
LAST-MODIFIED:20250530T203312Z
UID:10013451-1754379900-1754388000@bgcwtv.org
SUMMARY:Payette Early Risers Program
DESCRIPTION:
URL:https://bgcwtv.org/event/payette-early-risers-program/2025-08-05/
LOCATION:OR
CATEGORIES:Payette Clubhouse
END:VEVENT
BEGIN:VEVENT
DTSTART;TZID=America/Boise:20250805T100000
DTEND;TZID=America/Boise:20250805T173000
DTSTAMP:20260423T205556
CREATED:20250530T202325Z
LAST-MODIFIED:20250530T202325Z
UID:10013407-1754388000-1754415000@bgcwtv.org
SUMMARY:Payette Regular Summer Program
DESCRIPTION:
URL:https://bgcwtv.org/event/payette-regular-summer-program/2025-08-05/
LOCATION:OR
CATEGORIES:Payette Clubhouse
END:VEVENT
BEGIN:VEVENT
DTSTART;TZID=America/Boise:20250806T074500
DTEND;TZID=America/Boise:20250806T100000
DTSTAMP:20260423T205556
CREATED:20250530T203249Z
LAST-MODIFIED:20250530T203312Z
UID:10013452-1754466300-1754474400@bgcwtv.org
SUMMARY:Payette Early Risers Program
DESCRIPTION:
URL:https://bgcwtv.org/event/payette-early-risers-program/2025-08-06/
LOCATION:OR
CATEGORIES:Payette Clubhouse
END:VEVENT
BEGIN:VEVENT
DTSTART;TZID=America/Boise:20250806T100000
DTEND;TZID=America/Boise:20250806T173000
DTSTAMP:20260423T205556
CREATED:20250530T202325Z
LAST-MODIFIED:20250530T202325Z
UID:10013408-1754474400-1754501400@bgcwtv.org
SUMMARY:Payette Regular Summer Program
DESCRIPTION:
URL:https://bgcwtv.org/event/payette-regular-summer-program/2025-08-06/
LOCATION:OR
CATEGORIES:Payette Clubhouse
END:VEVENT
BEGIN:VEVENT
DTSTART;TZID=America/Boise:20250807T074500
DTEND;TZID=America/Boise:20250807T100000
DTSTAMP:20260423T205556
CREATED:20250530T203249Z
LAST-MODIFIED:20250530T203312Z
UID:10013453-1754552700-1754560800@bgcwtv.org
SUMMARY:Payette Early Risers Program
DESCRIPTION:
URL:https://bgcwtv.org/event/payette-early-risers-program/2025-08-07/
LOCATION:OR
CATEGORIES:Payette Clubhouse
END:VEVENT
BEGIN:VEVENT
DTSTART;TZID=America/Boise:20250807T100000
DTEND;TZID=America/Boise:20250807T173000
DTSTAMP:20260423T205556
CREATED:20250530T202325Z
LAST-MODIFIED:20250530T202325Z
UID:10013409-1754560800-1754587800@bgcwtv.org
SUMMARY:Payette Regular Summer Program
DESCRIPTION:
URL:https://bgcwtv.org/event/payette-regular-summer-program/2025-08-07/
LOCATION:OR
CATEGORIES:Payette Clubhouse
END:VEVENT
BEGIN:VEVENT
DTSTART;VALUE=DATE:20250808
DTEND;VALUE=DATE:20250809
DTSTAMP:20260423T205556
CREATED:20250530T213835Z
LAST-MODIFIED:20250530T213933Z
UID:10013504-1754611200-1754697599@bgcwtv.org
SUMMARY:Dress Up Day: PJ Day
DESCRIPTION:
URL:https://bgcwtv.org/event/pj-day/
LOCATION:OR
CATEGORIES:BGCWTV Events,Ontario Clubhouse,Payette Clubhouse
END:VEVENT
BEGIN:VEVENT
DTSTART;VALUE=DATE:20250808
DTEND;VALUE=DATE:20250809
DTSTAMP:20260423T205556
CREATED:20250530T214036Z
LAST-MODIFIED:20250530T214036Z
UID:10013505-1754611200-1754697599@bgcwtv.org
SUMMARY:Last Day of BGC Summer Programs
DESCRIPTION:
URL:https://bgcwtv.org/event/last-day-of-bgc-summer-programs/
LOCATION:OR
CATEGORIES:BGCWTV Events,Ontario Clubhouse,Payette Clubhouse,Weiser Clubhouse
END:VEVENT
BEGIN:VEVENT
DTSTART;TZID=America/Boise:20250808T074500
DTEND;TZID=America/Boise:20250808T100000
DTSTAMP:20260423T205556
CREATED:20250530T203249Z
LAST-MODIFIED:20250530T203312Z
UID:10013454-1754639100-1754647200@bgcwtv.org
SUMMARY:Payette Early Risers Program
DESCRIPTION:
URL:https://bgcwtv.org/event/payette-early-risers-program/2025-08-08/
LOCATION:OR
CATEGORIES:Payette Clubhouse
END:VEVENT
BEGIN:VEVENT
DTSTART;TZID=America/Boise:20250808T100000
DTEND;TZID=America/Boise:20250808T173000
DTSTAMP:20260423T205556
CREATED:20250530T202325Z
LAST-MODIFIED:20250530T202325Z
UID:10013410-1754647200-1754674200@bgcwtv.org
SUMMARY:Payette Regular Summer Program
DESCRIPTION:
URL:https://bgcwtv.org/event/payette-regular-summer-program/2025-08-08/
LOCATION:OR
CATEGORIES:Payette Clubhouse
END:VEVENT
END:VCALENDAR