BEGIN:VCALENDAR
VERSION:2.0
PRODID:-//Boys &amp; Girls Club of Western Treasure Valley - ECPv6.15.20//NONSGML v1.0//EN
CALSCALE:GREGORIAN
METHOD:PUBLISH
X-ORIGINAL-URL:https://bgcwtv.org
X-WR-CALDESC:Events for Boys &amp; Girls Club of Western Treasure Valley
REFRESH-INTERVAL;VALUE=DURATION:PT1H
X-Robots-Tag:noindex
X-PUBLISHED-TTL:PT1H
BEGIN:VTIMEZONE
TZID:America/Boise
BEGIN:DAYLIGHT
TZOFFSETFROM:-0700
TZOFFSETTO:-0600
TZNAME:MDT
DTSTART:20240310T090000
END:DAYLIGHT
BEGIN:STANDARD
TZOFFSETFROM:-0600
TZOFFSETTO:-0700
TZNAME:MST
DTSTART:20241103T080000
END:STANDARD
BEGIN:DAYLIGHT
TZOFFSETFROM:-0700
TZOFFSETTO:-0600
TZNAME:MDT
DTSTART:20250309T090000
END:DAYLIGHT
BEGIN:STANDARD
TZOFFSETFROM:-0600
TZOFFSETTO:-0700
TZNAME:MST
DTSTART:20251102T080000
END:STANDARD
BEGIN:DAYLIGHT
TZOFFSETFROM:-0700
TZOFFSETTO:-0600
TZNAME:MDT
DTSTART:20260308T090000
END:DAYLIGHT
BEGIN:STANDARD
TZOFFSETFROM:-0600
TZOFFSETTO:-0700
TZNAME:MST
DTSTART:20261101T080000
END:STANDARD
END:VTIMEZONE
BEGIN:VEVENT
DTSTART;VALUE=DATE:20250707
DTEND;VALUE=DATE:20250712
DTSTAMP:20260423T220758
CREATED:20250530T212224Z
LAST-MODIFIED:20250530T212224Z
UID:10013494-1751846400-1752278399@bgcwtv.org
SUMMARY:Sensory Science Week
DESCRIPTION:
URL:https://bgcwtv.org/event/sensory-science-week/
LOCATION:OR
CATEGORIES:BGCWTV Events,Ontario Clubhouse,Payette Clubhouse,Weiser Clubhouse
END:VEVENT
BEGIN:VEVENT
DTSTART;TZID=America/Boise:20250707T074500
DTEND;TZID=America/Boise:20250707T100000
DTSTAMP:20260423T220758
CREATED:20250530T203249Z
LAST-MODIFIED:20250530T203312Z
UID:10013430-1751874300-1751882400@bgcwtv.org
SUMMARY:Payette Early Risers Program
DESCRIPTION:
URL:https://bgcwtv.org/event/payette-early-risers-program/2025-07-07/
LOCATION:OR
CATEGORIES:Payette Clubhouse
END:VEVENT
BEGIN:VEVENT
DTSTART;TZID=America/Boise:20250707T100000
DTEND;TZID=America/Boise:20250707T173000
DTSTAMP:20260423T220758
CREATED:20250530T202325Z
LAST-MODIFIED:20250530T202325Z
UID:10013386-1751882400-1751909400@bgcwtv.org
SUMMARY:Payette Regular Summer Program
DESCRIPTION:
URL:https://bgcwtv.org/event/payette-regular-summer-program/2025-07-07/
LOCATION:OR
CATEGORIES:Payette Clubhouse
END:VEVENT
BEGIN:VEVENT
DTSTART;TZID=America/Boise:20250708T074500
DTEND;TZID=America/Boise:20250708T100000
DTSTAMP:20260423T220758
CREATED:20250530T203249Z
LAST-MODIFIED:20250530T203312Z
UID:10013431-1751960700-1751968800@bgcwtv.org
SUMMARY:Payette Early Risers Program
DESCRIPTION:
URL:https://bgcwtv.org/event/payette-early-risers-program/2025-07-08/
LOCATION:OR
CATEGORIES:Payette Clubhouse
END:VEVENT
BEGIN:VEVENT
DTSTART;TZID=America/Boise:20250708T100000
DTEND;TZID=America/Boise:20250708T173000
DTSTAMP:20260423T220758
CREATED:20250530T202325Z
LAST-MODIFIED:20250530T202325Z
UID:10013387-1751968800-1751995800@bgcwtv.org
SUMMARY:Payette Regular Summer Program
DESCRIPTION:
URL:https://bgcwtv.org/event/payette-regular-summer-program/2025-07-08/
LOCATION:OR
CATEGORIES:Payette Clubhouse
END:VEVENT
BEGIN:VEVENT
DTSTART;TZID=America/Boise:20250709T074500
DTEND;TZID=America/Boise:20250709T100000
DTSTAMP:20260423T220758
CREATED:20250530T203249Z
LAST-MODIFIED:20250530T203312Z
UID:10013432-1752047100-1752055200@bgcwtv.org
SUMMARY:Payette Early Risers Program
DESCRIPTION:
URL:https://bgcwtv.org/event/payette-early-risers-program/2025-07-09/
LOCATION:OR
CATEGORIES:Payette Clubhouse
END:VEVENT
BEGIN:VEVENT
DTSTART;TZID=America/Boise:20250709T100000
DTEND;TZID=America/Boise:20250709T173000
DTSTAMP:20260423T220758
CREATED:20250530T202325Z
LAST-MODIFIED:20250530T202325Z
UID:10013388-1752055200-1752082200@bgcwtv.org
SUMMARY:Payette Regular Summer Program
DESCRIPTION:
URL:https://bgcwtv.org/event/payette-regular-summer-program/2025-07-09/
LOCATION:OR
CATEGORIES:Payette Clubhouse
END:VEVENT
BEGIN:VEVENT
DTSTART;TZID=America/Boise:20250710T074500
DTEND;TZID=America/Boise:20250710T100000
DTSTAMP:20260423T220758
CREATED:20250530T203249Z
LAST-MODIFIED:20250530T203312Z
UID:10013433-1752133500-1752141600@bgcwtv.org
SUMMARY:Payette Early Risers Program
DESCRIPTION:
URL:https://bgcwtv.org/event/payette-early-risers-program/2025-07-10/
LOCATION:OR
CATEGORIES:Payette Clubhouse
END:VEVENT
BEGIN:VEVENT
DTSTART;TZID=America/Boise:20250710T100000
DTEND;TZID=America/Boise:20250710T173000
DTSTAMP:20260423T220758
CREATED:20250530T202325Z
LAST-MODIFIED:20250530T202325Z
UID:10013389-1752141600-1752168600@bgcwtv.org
SUMMARY:Payette Regular Summer Program
DESCRIPTION:
URL:https://bgcwtv.org/event/payette-regular-summer-program/2025-07-10/
LOCATION:OR
CATEGORIES:Payette Clubhouse
END:VEVENT
BEGIN:VEVENT
DTSTART;VALUE=DATE:20250711
DTEND;VALUE=DATE:20250712
DTSTAMP:20260423T220758
CREATED:20250530T212301Z
LAST-MODIFIED:20250530T212301Z
UID:10013495-1752192000-1752278399@bgcwtv.org
SUMMARY:Dress Up Day: Crazy Hair Day
DESCRIPTION:
URL:https://bgcwtv.org/event/dress-up-day-crazy-hair-day/
LOCATION:OR
CATEGORIES:BGCWTV Events,Ontario Clubhouse,Payette Clubhouse,Weiser Clubhouse
END:VEVENT
BEGIN:VEVENT
DTSTART;TZID=America/Boise:20250711T074500
DTEND;TZID=America/Boise:20250711T100000
DTSTAMP:20260423T220758
CREATED:20250530T203249Z
LAST-MODIFIED:20250530T203312Z
UID:10013434-1752219900-1752228000@bgcwtv.org
SUMMARY:Payette Early Risers Program
DESCRIPTION:
URL:https://bgcwtv.org/event/payette-early-risers-program/2025-07-11/
LOCATION:OR
CATEGORIES:Payette Clubhouse
END:VEVENT
BEGIN:VEVENT
DTSTART;TZID=America/Boise:20250711T100000
DTEND;TZID=America/Boise:20250711T173000
DTSTAMP:20260423T220758
CREATED:20250530T202325Z
LAST-MODIFIED:20250530T202325Z
UID:10013390-1752228000-1752255000@bgcwtv.org
SUMMARY:Payette Regular Summer Program
DESCRIPTION:
URL:https://bgcwtv.org/event/payette-regular-summer-program/2025-07-11/
LOCATION:OR
CATEGORIES:Payette Clubhouse
END:VEVENT
END:VCALENDAR