BEGIN:VCALENDAR
VERSION:2.0
PRODID:-//Boys &amp; Girls Club of Western Treasure Valley - ECPv6.15.20//NONSGML v1.0//EN
CALSCALE:GREGORIAN
METHOD:PUBLISH
X-WR-CALNAME:Boys &amp; Girls Club of Western Treasure Valley
X-ORIGINAL-URL:https://bgcwtv.org
X-WR-CALDESC:Events for Boys &amp; Girls Club of Western Treasure Valley
REFRESH-INTERVAL;VALUE=DURATION:PT1H
X-Robots-Tag:noindex
X-PUBLISHED-TTL:PT1H
BEGIN:VTIMEZONE
TZID:America/Boise
BEGIN:DAYLIGHT
TZOFFSETFROM:-0700
TZOFFSETTO:-0600
TZNAME:MDT
DTSTART:20240310T090000
END:DAYLIGHT
BEGIN:STANDARD
TZOFFSETFROM:-0600
TZOFFSETTO:-0700
TZNAME:MST
DTSTART:20241103T080000
END:STANDARD
BEGIN:DAYLIGHT
TZOFFSETFROM:-0700
TZOFFSETTO:-0600
TZNAME:MDT
DTSTART:20250309T090000
END:DAYLIGHT
BEGIN:STANDARD
TZOFFSETFROM:-0600
TZOFFSETTO:-0700
TZNAME:MST
DTSTART:20251102T080000
END:STANDARD
BEGIN:DAYLIGHT
TZOFFSETFROM:-0700
TZOFFSETTO:-0600
TZNAME:MDT
DTSTART:20260308T090000
END:DAYLIGHT
BEGIN:STANDARD
TZOFFSETFROM:-0600
TZOFFSETTO:-0700
TZNAME:MST
DTSTART:20261101T080000
END:STANDARD
END:VTIMEZONE
BEGIN:VEVENT
DTSTART;VALUE=DATE:20250623
DTEND;VALUE=DATE:20250628
DTSTAMP:20260423T220658
CREATED:20250530T205628Z
LAST-MODIFIED:20250530T210350Z
UID:10013489-1750636800-1751068799@bgcwtv.org
SUMMARY:BGC Spirit Week
DESCRIPTION:
URL:https://bgcwtv.org/event/bgc-spirit-week/
LOCATION:OR
CATEGORIES:BGCWTV Events,Ontario Clubhouse,Payette Clubhouse,Weiser Clubhouse
END:VEVENT
BEGIN:VEVENT
DTSTART;TZID=America/Boise:20250623T074500
DTEND;TZID=America/Boise:20250623T100000
DTSTAMP:20260423T220658
CREATED:20250530T203249Z
LAST-MODIFIED:20250530T203312Z
UID:10013421-1750664700-1750672800@bgcwtv.org
SUMMARY:Payette Early Risers Program
DESCRIPTION:
URL:https://bgcwtv.org/event/payette-early-risers-program/2025-06-23/
LOCATION:OR
CATEGORIES:Payette Clubhouse
END:VEVENT
BEGIN:VEVENT
DTSTART;TZID=America/Boise:20250623T100000
DTEND;TZID=America/Boise:20250623T173000
DTSTAMP:20260423T220658
CREATED:20250530T202325Z
LAST-MODIFIED:20250530T202325Z
UID:10013377-1750672800-1750699800@bgcwtv.org
SUMMARY:Payette Regular Summer Program
DESCRIPTION:
URL:https://bgcwtv.org/event/payette-regular-summer-program/2025-06-23/
LOCATION:OR
CATEGORIES:Payette Clubhouse
END:VEVENT
BEGIN:VEVENT
DTSTART;TZID=America/Boise:20250624T074500
DTEND;TZID=America/Boise:20250624T100000
DTSTAMP:20260423T220658
CREATED:20250530T203249Z
LAST-MODIFIED:20250530T203312Z
UID:10013422-1750751100-1750759200@bgcwtv.org
SUMMARY:Payette Early Risers Program
DESCRIPTION:
URL:https://bgcwtv.org/event/payette-early-risers-program/2025-06-24/
LOCATION:OR
CATEGORIES:Payette Clubhouse
END:VEVENT
BEGIN:VEVENT
DTSTART;TZID=America/Boise:20250624T100000
DTEND;TZID=America/Boise:20250624T173000
DTSTAMP:20260423T220658
CREATED:20250530T202325Z
LAST-MODIFIED:20250530T202325Z
UID:10013378-1750759200-1750786200@bgcwtv.org
SUMMARY:Payette Regular Summer Program
DESCRIPTION:
URL:https://bgcwtv.org/event/payette-regular-summer-program/2025-06-24/
LOCATION:OR
CATEGORIES:Payette Clubhouse
END:VEVENT
BEGIN:VEVENT
DTSTART;TZID=America/Boise:20250625T074500
DTEND;TZID=America/Boise:20250625T100000
DTSTAMP:20260423T220658
CREATED:20250530T203249Z
LAST-MODIFIED:20250530T203312Z
UID:10013423-1750837500-1750845600@bgcwtv.org
SUMMARY:Payette Early Risers Program
DESCRIPTION:
URL:https://bgcwtv.org/event/payette-early-risers-program/2025-06-25/
LOCATION:OR
CATEGORIES:Payette Clubhouse
END:VEVENT
BEGIN:VEVENT
DTSTART;TZID=America/Boise:20250625T100000
DTEND;TZID=America/Boise:20250625T173000
DTSTAMP:20260423T220658
CREATED:20250530T202325Z
LAST-MODIFIED:20250530T202325Z
UID:10013379-1750845600-1750872600@bgcwtv.org
SUMMARY:Payette Regular Summer Program
DESCRIPTION:
URL:https://bgcwtv.org/event/payette-regular-summer-program/2025-06-25/
LOCATION:OR
CATEGORIES:Payette Clubhouse
END:VEVENT
BEGIN:VEVENT
DTSTART;TZID=America/Boise:20250626T074500
DTEND;TZID=America/Boise:20250626T100000
DTSTAMP:20260423T220658
CREATED:20250530T203249Z
LAST-MODIFIED:20250530T203312Z
UID:10013424-1750923900-1750932000@bgcwtv.org
SUMMARY:Payette Early Risers Program
DESCRIPTION:
URL:https://bgcwtv.org/event/payette-early-risers-program/2025-06-26/
LOCATION:OR
CATEGORIES:Payette Clubhouse
END:VEVENT
BEGIN:VEVENT
DTSTART;TZID=America/Boise:20250626T100000
DTEND;TZID=America/Boise:20250626T173000
DTSTAMP:20260423T220658
CREATED:20250530T202325Z
LAST-MODIFIED:20250530T202325Z
UID:10013380-1750932000-1750959000@bgcwtv.org
SUMMARY:Payette Regular Summer Program
DESCRIPTION:
URL:https://bgcwtv.org/event/payette-regular-summer-program/2025-06-26/
LOCATION:OR
CATEGORIES:Payette Clubhouse
END:VEVENT
BEGIN:VEVENT
DTSTART;VALUE=DATE:20250627
DTEND;VALUE=DATE:20250628
DTSTAMP:20260423T220658
CREATED:20250530T210507Z
LAST-MODIFIED:20250530T210507Z
UID:10013490-1750982400-1751068799@bgcwtv.org
SUMMARY:Dress Up Day: Tie Dye
DESCRIPTION:
URL:https://bgcwtv.org/event/dress-up-day-tie-dye/
LOCATION:OR
CATEGORIES:BGCWTV Events,Ontario Clubhouse,Payette Clubhouse,Weiser Clubhouse
END:VEVENT
BEGIN:VEVENT
DTSTART;TZID=America/Boise:20250627T074500
DTEND;TZID=America/Boise:20250627T100000
DTSTAMP:20260423T220658
CREATED:20250530T203249Z
LAST-MODIFIED:20250530T203312Z
UID:10013425-1751010300-1751018400@bgcwtv.org
SUMMARY:Payette Early Risers Program
DESCRIPTION:
URL:https://bgcwtv.org/event/payette-early-risers-program/2025-06-27/
LOCATION:OR
CATEGORIES:Payette Clubhouse
END:VEVENT
BEGIN:VEVENT
DTSTART;TZID=America/Boise:20250627T100000
DTEND;TZID=America/Boise:20250627T173000
DTSTAMP:20260423T220658
CREATED:20250530T202325Z
LAST-MODIFIED:20250530T202325Z
UID:10013381-1751018400-1751045400@bgcwtv.org
SUMMARY:Payette Regular Summer Program
DESCRIPTION:
URL:https://bgcwtv.org/event/payette-regular-summer-program/2025-06-27/
LOCATION:OR
CATEGORIES:Payette Clubhouse
END:VEVENT
END:VCALENDAR