BEGIN:VCALENDAR
VERSION:2.0
PRODID:-//Boys &amp; Girls Club of Western Treasure Valley - ECPv6.15.20//NONSGML v1.0//EN
CALSCALE:GREGORIAN
METHOD:PUBLISH
X-WR-CALNAME:Boys &amp; Girls Club of Western Treasure Valley
X-ORIGINAL-URL:https://bgcwtv.org
X-WR-CALDESC:Events for Boys &amp; Girls Club of Western Treasure Valley
REFRESH-INTERVAL;VALUE=DURATION:PT1H
X-Robots-Tag:noindex
X-PUBLISHED-TTL:PT1H
BEGIN:VTIMEZONE
TZID:America/Boise
BEGIN:DAYLIGHT
TZOFFSETFROM:-0700
TZOFFSETTO:-0600
TZNAME:MDT
DTSTART:20240310T090000
END:DAYLIGHT
BEGIN:STANDARD
TZOFFSETFROM:-0600
TZOFFSETTO:-0700
TZNAME:MST
DTSTART:20241103T080000
END:STANDARD
BEGIN:DAYLIGHT
TZOFFSETFROM:-0700
TZOFFSETTO:-0600
TZNAME:MDT
DTSTART:20250309T090000
END:DAYLIGHT
BEGIN:STANDARD
TZOFFSETFROM:-0600
TZOFFSETTO:-0700
TZNAME:MST
DTSTART:20251102T080000
END:STANDARD
BEGIN:DAYLIGHT
TZOFFSETFROM:-0700
TZOFFSETTO:-0600
TZNAME:MDT
DTSTART:20260308T090000
END:DAYLIGHT
BEGIN:STANDARD
TZOFFSETFROM:-0600
TZOFFSETTO:-0700
TZNAME:MST
DTSTART:20261101T080000
END:STANDARD
END:VTIMEZONE
BEGIN:VEVENT
DTSTART;VALUE=DATE:20251003
DTEND;VALUE=DATE:20251004
DTSTAMP:20260423T154200
CREATED:20250909T193541Z
LAST-MODIFIED:20250909T193541Z
UID:10013514-1759449600-1759535999@bgcwtv.org
SUMMARY:All Clubs Closed
DESCRIPTION:
URL:https://bgcwtv.org/event/all-clubs-closed-3/2025-10-03/
LOCATION:OR
CATEGORIES:BGCWTV Events,Ontario Clubhouse,Payette Clubhouse,Weiser Clubhouse
END:VEVENT
BEGIN:VEVENT
DTSTART;VALUE=DATE:20251010
DTEND;VALUE=DATE:20251011
DTSTAMP:20260423T154200
CREATED:20250909T193541Z
LAST-MODIFIED:20250909T193541Z
UID:10013515-1760054400-1760140799@bgcwtv.org
SUMMARY:All Clubs Closed
DESCRIPTION:
URL:https://bgcwtv.org/event/all-clubs-closed-3/2025-10-10/
LOCATION:OR
CATEGORIES:BGCWTV Events,Ontario Clubhouse,Payette Clubhouse,Weiser Clubhouse
END:VEVENT
BEGIN:VEVENT
DTSTART;VALUE=DATE:20251016
DTEND;VALUE=DATE:20251017
DTSTAMP:20260423T154200
CREATED:20250909T193611Z
LAST-MODIFIED:20250909T193611Z
UID:10013571-1760572800-1760659199@bgcwtv.org
SUMMARY:Ontario Closed / Payette Open Before & After School / Weiser Open After School
DESCRIPTION:
URL:https://bgcwtv.org/event/ontario-closed-payette-open-before-after-school-weiser-open-after-school/
LOCATION:OR
CATEGORIES:BGCWTV Events,Ontario Clubhouse,Payette Clubhouse,Weiser Clubhouse
END:VEVENT
BEGIN:VEVENT
DTSTART;VALUE=DATE:20251017
DTEND;VALUE=DATE:20251018
DTSTAMP:20260423T154200
CREATED:20250909T193541Z
LAST-MODIFIED:20250909T193541Z
UID:10013516-1760659200-1760745599@bgcwtv.org
SUMMARY:All Clubs Closed
DESCRIPTION:
URL:https://bgcwtv.org/event/all-clubs-closed-3/2025-10-17/
LOCATION:OR
CATEGORIES:BGCWTV Events,Ontario Clubhouse,Payette Clubhouse,Weiser Clubhouse
END:VEVENT
BEGIN:VEVENT
DTSTART;VALUE=DATE:20251024
DTEND;VALUE=DATE:20251025
DTSTAMP:20260423T154200
CREATED:20250829T185935Z
LAST-MODIFIED:20250829T185935Z
UID:10013572-1761264000-1761350399@bgcwtv.org
SUMMARY:Payette Clubhouse Fall Festival
DESCRIPTION:
URL:https://bgcwtv.org/event/payette-clubhouse-fall-festival/
LOCATION:Payette Clubhouse BGCWTV\, 1222 1st Ave South\, Payette\, ID\, 83661\, United States
CATEGORIES:BGCWTV Events,Payette Clubhouse
END:VEVENT
BEGIN:VEVENT
DTSTART;VALUE=DATE:20251024
DTEND;VALUE=DATE:20251025
DTSTAMP:20260423T154200
CREATED:20250909T193541Z
LAST-MODIFIED:20250909T193541Z
UID:10013517-1761264000-1761350399@bgcwtv.org
SUMMARY:All Clubs Closed
DESCRIPTION:
URL:https://bgcwtv.org/event/all-clubs-closed-3/2025-10-24/
LOCATION:OR
CATEGORIES:BGCWTV Events,Ontario Clubhouse,Payette Clubhouse,Weiser Clubhouse
END:VEVENT
BEGIN:VEVENT
DTSTART;VALUE=DATE:20251031
DTEND;VALUE=DATE:20251101
DTSTAMP:20260423T154200
CREATED:20250909T193541Z
LAST-MODIFIED:20250909T193541Z
UID:10013518-1761868800-1761955199@bgcwtv.org
SUMMARY:All Clubs Closed
DESCRIPTION:
URL:https://bgcwtv.org/event/all-clubs-closed-3/2025-10-31/
LOCATION:OR
CATEGORIES:BGCWTV Events,Ontario Clubhouse,Payette Clubhouse,Weiser Clubhouse
END:VEVENT
END:VCALENDAR