BEGIN:VCALENDAR
VERSION:2.0
PRODID:-//Boys &amp; Girls Club of Western Treasure Valley - ECPv6.15.20//NONSGML v1.0//EN
CALSCALE:GREGORIAN
METHOD:PUBLISH
X-WR-CALNAME:Boys &amp; Girls Club of Western Treasure Valley
X-ORIGINAL-URL:https://bgcwtv.org
X-WR-CALDESC:Events for Boys &amp; Girls Club of Western Treasure Valley
REFRESH-INTERVAL;VALUE=DURATION:PT1H
X-Robots-Tag:noindex
X-PUBLISHED-TTL:PT1H
BEGIN:VTIMEZONE
TZID:America/Boise
BEGIN:DAYLIGHT
TZOFFSETFROM:-0700
TZOFFSETTO:-0600
TZNAME:MDT
DTSTART:20240310T090000
END:DAYLIGHT
BEGIN:STANDARD
TZOFFSETFROM:-0600
TZOFFSETTO:-0700
TZNAME:MST
DTSTART:20241103T080000
END:STANDARD
BEGIN:DAYLIGHT
TZOFFSETFROM:-0700
TZOFFSETTO:-0600
TZNAME:MDT
DTSTART:20250309T090000
END:DAYLIGHT
BEGIN:STANDARD
TZOFFSETFROM:-0600
TZOFFSETTO:-0700
TZNAME:MST
DTSTART:20251102T080000
END:STANDARD
BEGIN:DAYLIGHT
TZOFFSETFROM:-0700
TZOFFSETTO:-0600
TZNAME:MDT
DTSTART:20260308T090000
END:DAYLIGHT
BEGIN:STANDARD
TZOFFSETFROM:-0600
TZOFFSETTO:-0700
TZNAME:MST
DTSTART:20261101T080000
END:STANDARD
END:VTIMEZONE
BEGIN:VEVENT
DTSTART;VALUE=DATE:20250912
DTEND;VALUE=DATE:20250913
DTSTAMP:20260423T170352
CREATED:20250909T193541Z
LAST-MODIFIED:20250909T193541Z
UID:10013511-1757635200-1757721599@bgcwtv.org
SUMMARY:All Clubs Closed
DESCRIPTION:
URL:https://bgcwtv.org/event/all-clubs-closed-3/2025-09-12/
LOCATION:OR
CATEGORIES:BGCWTV Events,Ontario Clubhouse,Payette Clubhouse,Weiser Clubhouse
END:VEVENT
BEGIN:VEVENT
DTSTART;VALUE=DATE:20250919
DTEND;VALUE=DATE:20250920
DTSTAMP:20260423T170352
CREATED:20250909T193541Z
LAST-MODIFIED:20250909T193541Z
UID:10013512-1758240000-1758326399@bgcwtv.org
SUMMARY:All Clubs Closed
DESCRIPTION:
URL:https://bgcwtv.org/event/all-clubs-closed-3/2025-09-19/
LOCATION:OR
CATEGORIES:BGCWTV Events,Ontario Clubhouse,Payette Clubhouse,Weiser Clubhouse
END:VEVENT
BEGIN:VEVENT
DTSTART;VALUE=DATE:20250926
DTEND;VALUE=DATE:20250927
DTSTAMP:20260423T170352
CREATED:20250909T193541Z
LAST-MODIFIED:20250909T193541Z
UID:10013513-1758844800-1758931199@bgcwtv.org
SUMMARY:All Clubs Closed
DESCRIPTION:
URL:https://bgcwtv.org/event/all-clubs-closed-3/2025-09-26/
LOCATION:OR
CATEGORIES:BGCWTV Events,Ontario Clubhouse,Payette Clubhouse,Weiser Clubhouse
END:VEVENT
END:VCALENDAR