BEGIN:VCALENDAR
VERSION:2.0
PRODID:-//Boys &amp; Girls Club of Western Treasure Valley - ECPv6.15.20//NONSGML v1.0//EN
CALSCALE:GREGORIAN
METHOD:PUBLISH
X-WR-CALNAME:Boys &amp; Girls Club of Western Treasure Valley
X-ORIGINAL-URL:https://bgcwtv.org
X-WR-CALDESC:Events for Boys &amp; Girls Club of Western Treasure Valley
REFRESH-INTERVAL;VALUE=DURATION:PT1H
X-Robots-Tag:noindex
X-PUBLISHED-TTL:PT1H
BEGIN:VTIMEZONE
TZID:America/Boise
BEGIN:DAYLIGHT
TZOFFSETFROM:-0700
TZOFFSETTO:-0600
TZNAME:MDT
DTSTART:20240310T090000
END:DAYLIGHT
BEGIN:STANDARD
TZOFFSETFROM:-0600
TZOFFSETTO:-0700
TZNAME:MST
DTSTART:20241103T080000
END:STANDARD
BEGIN:DAYLIGHT
TZOFFSETFROM:-0700
TZOFFSETTO:-0600
TZNAME:MDT
DTSTART:20250309T090000
END:DAYLIGHT
BEGIN:STANDARD
TZOFFSETFROM:-0600
TZOFFSETTO:-0700
TZNAME:MST
DTSTART:20251102T080000
END:STANDARD
BEGIN:DAYLIGHT
TZOFFSETFROM:-0700
TZOFFSETTO:-0600
TZNAME:MDT
DTSTART:20260308T090000
END:DAYLIGHT
BEGIN:STANDARD
TZOFFSETFROM:-0600
TZOFFSETTO:-0700
TZNAME:MST
DTSTART:20261101T080000
END:STANDARD
END:VTIMEZONE
BEGIN:VEVENT
DTSTART;VALUE=DATE:20250721
DTEND;VALUE=DATE:20250726
DTSTAMP:20260423T214321
CREATED:20250530T213353Z
LAST-MODIFIED:20250530T213353Z
UID:10013499-1753056000-1753487999@bgcwtv.org
SUMMARY:Christmas in July
DESCRIPTION:
URL:https://bgcwtv.org/event/christmas-in-july/
LOCATION:OR
CATEGORIES:BGCWTV Events,Ontario Clubhouse,Payette Clubhouse
END:VEVENT
BEGIN:VEVENT
DTSTART;TZID=America/Boise:20250721T074500
DTEND;TZID=America/Boise:20250721T100000
DTSTAMP:20260423T214321
CREATED:20250530T200749Z
LAST-MODIFIED:20250530T201244Z
UID:10013352-1753083900-1753092000@bgcwtv.org
SUMMARY:Ontario Early Risers Summer Program
DESCRIPTION:
URL:https://bgcwtv.org/event/ontario-early-risers-summer-program/2025-07-21/
LOCATION:Ontario Clubhouse BGCWTV\, 573 SW 3rd Ave.\, Ontario\, OR\, 97914\, United States
CATEGORIES:Ontario Clubhouse
END:VEVENT
BEGIN:VEVENT
DTSTART;TZID=America/Boise:20250721T100000
DTEND;TZID=America/Boise:20250721T173000
DTSTAMP:20260423T214321
CREATED:20250530T200634Z
LAST-MODIFIED:20250530T201150Z
UID:10013049-1753092000-1753119000@bgcwtv.org
SUMMARY:Ontario Regular Summer Program
DESCRIPTION:
URL:https://bgcwtv.org/event/ontario-regular-summer-program/2025-07-21/
LOCATION:Ontario Clubhouse BGCWTV\, 573 SW 3rd Ave.\, Ontario\, OR\, 97914\, United States
CATEGORIES:Ontario Clubhouse
END:VEVENT
BEGIN:VEVENT
DTSTART;TZID=America/Boise:20250722T074500
DTEND;TZID=America/Boise:20250722T100000
DTSTAMP:20260423T214321
CREATED:20250530T200749Z
LAST-MODIFIED:20250530T201244Z
UID:10013353-1753170300-1753178400@bgcwtv.org
SUMMARY:Ontario Early Risers Summer Program
DESCRIPTION:
URL:https://bgcwtv.org/event/ontario-early-risers-summer-program/2025-07-22/
LOCATION:Ontario Clubhouse BGCWTV\, 573 SW 3rd Ave.\, Ontario\, OR\, 97914\, United States
CATEGORIES:Ontario Clubhouse
END:VEVENT
BEGIN:VEVENT
DTSTART;TZID=America/Boise:20250722T100000
DTEND;TZID=America/Boise:20250722T173000
DTSTAMP:20260423T214321
CREATED:20250530T200634Z
LAST-MODIFIED:20250530T201150Z
UID:10013050-1753178400-1753205400@bgcwtv.org
SUMMARY:Ontario Regular Summer Program
DESCRIPTION:
URL:https://bgcwtv.org/event/ontario-regular-summer-program/2025-07-22/
LOCATION:Ontario Clubhouse BGCWTV\, 573 SW 3rd Ave.\, Ontario\, OR\, 97914\, United States
CATEGORIES:Ontario Clubhouse
END:VEVENT
BEGIN:VEVENT
DTSTART;TZID=America/Boise:20250723T074500
DTEND;TZID=America/Boise:20250723T100000
DTSTAMP:20260423T214321
CREATED:20250530T200749Z
LAST-MODIFIED:20250530T201244Z
UID:10013354-1753256700-1753264800@bgcwtv.org
SUMMARY:Ontario Early Risers Summer Program
DESCRIPTION:
URL:https://bgcwtv.org/event/ontario-early-risers-summer-program/2025-07-23/
LOCATION:Ontario Clubhouse BGCWTV\, 573 SW 3rd Ave.\, Ontario\, OR\, 97914\, United States
CATEGORIES:Ontario Clubhouse
END:VEVENT
BEGIN:VEVENT
DTSTART;TZID=America/Boise:20250723T100000
DTEND;TZID=America/Boise:20250723T173000
DTSTAMP:20260423T214321
CREATED:20250530T200634Z
LAST-MODIFIED:20250530T201150Z
UID:10013051-1753264800-1753291800@bgcwtv.org
SUMMARY:Ontario Regular Summer Program
DESCRIPTION:
URL:https://bgcwtv.org/event/ontario-regular-summer-program/2025-07-23/
LOCATION:Ontario Clubhouse BGCWTV\, 573 SW 3rd Ave.\, Ontario\, OR\, 97914\, United States
CATEGORIES:Ontario Clubhouse
END:VEVENT
BEGIN:VEVENT
DTSTART;TZID=America/Boise:20250724T074500
DTEND;TZID=America/Boise:20250724T100000
DTSTAMP:20260423T214321
CREATED:20250530T200749Z
LAST-MODIFIED:20250530T201244Z
UID:10013355-1753343100-1753351200@bgcwtv.org
SUMMARY:Ontario Early Risers Summer Program
DESCRIPTION:
URL:https://bgcwtv.org/event/ontario-early-risers-summer-program/2025-07-24/
LOCATION:Ontario Clubhouse BGCWTV\, 573 SW 3rd Ave.\, Ontario\, OR\, 97914\, United States
CATEGORIES:Ontario Clubhouse
END:VEVENT
BEGIN:VEVENT
DTSTART;TZID=America/Boise:20250724T100000
DTEND;TZID=America/Boise:20250724T173000
DTSTAMP:20260423T214321
CREATED:20250530T200634Z
LAST-MODIFIED:20250530T201150Z
UID:10013052-1753351200-1753378200@bgcwtv.org
SUMMARY:Ontario Regular Summer Program
DESCRIPTION:
URL:https://bgcwtv.org/event/ontario-regular-summer-program/2025-07-24/
LOCATION:Ontario Clubhouse BGCWTV\, 573 SW 3rd Ave.\, Ontario\, OR\, 97914\, United States
CATEGORIES:Ontario Clubhouse
END:VEVENT
BEGIN:VEVENT
DTSTART;VALUE=DATE:20250725
DTEND;VALUE=DATE:20250726
DTSTAMP:20260423T214321
CREATED:20250530T213531Z
LAST-MODIFIED:20250530T213531Z
UID:10013500-1753401600-1753487999@bgcwtv.org
SUMMARY:Dress Up Day: Hat Day
DESCRIPTION:
URL:https://bgcwtv.org/event/dress-up-day-hat-day/
LOCATION:OR
CATEGORIES:BGCWTV Events,Ontario Clubhouse,Payette Clubhouse
END:VEVENT
BEGIN:VEVENT
DTSTART;TZID=America/Boise:20250725T074500
DTEND;TZID=America/Boise:20250725T100000
DTSTAMP:20260423T214321
CREATED:20250530T200749Z
LAST-MODIFIED:20250530T201244Z
UID:10013356-1753429500-1753437600@bgcwtv.org
SUMMARY:Ontario Early Risers Summer Program
DESCRIPTION:
URL:https://bgcwtv.org/event/ontario-early-risers-summer-program/2025-07-25/
LOCATION:Ontario Clubhouse BGCWTV\, 573 SW 3rd Ave.\, Ontario\, OR\, 97914\, United States
CATEGORIES:Ontario Clubhouse
END:VEVENT
BEGIN:VEVENT
DTSTART;TZID=America/Boise:20250725T100000
DTEND;TZID=America/Boise:20250725T173000
DTSTAMP:20260423T214321
CREATED:20250530T200634Z
LAST-MODIFIED:20250530T201150Z
UID:10013053-1753437600-1753464600@bgcwtv.org
SUMMARY:Ontario Regular Summer Program
DESCRIPTION:
URL:https://bgcwtv.org/event/ontario-regular-summer-program/2025-07-25/
LOCATION:Ontario Clubhouse BGCWTV\, 573 SW 3rd Ave.\, Ontario\, OR\, 97914\, United States
CATEGORIES:Ontario Clubhouse
END:VEVENT
END:VCALENDAR