BEGIN:VCALENDAR
VERSION:2.0
PRODID:-//Boys &amp; Girls Club of Western Treasure Valley - ECPv6.15.20//NONSGML v1.0//EN
CALSCALE:GREGORIAN
METHOD:PUBLISH
X-ORIGINAL-URL:https://bgcwtv.org
X-WR-CALDESC:Events for Boys &amp; Girls Club of Western Treasure Valley
REFRESH-INTERVAL;VALUE=DURATION:PT1H
X-Robots-Tag:noindex
X-PUBLISHED-TTL:PT1H
BEGIN:VTIMEZONE
TZID:America/Boise
BEGIN:DAYLIGHT
TZOFFSETFROM:-0700
TZOFFSETTO:-0600
TZNAME:MDT
DTSTART:20240310T090000
END:DAYLIGHT
BEGIN:STANDARD
TZOFFSETFROM:-0600
TZOFFSETTO:-0700
TZNAME:MST
DTSTART:20241103T080000
END:STANDARD
BEGIN:DAYLIGHT
TZOFFSETFROM:-0700
TZOFFSETTO:-0600
TZNAME:MDT
DTSTART:20250309T090000
END:DAYLIGHT
BEGIN:STANDARD
TZOFFSETFROM:-0600
TZOFFSETTO:-0700
TZNAME:MST
DTSTART:20251102T080000
END:STANDARD
BEGIN:DAYLIGHT
TZOFFSETFROM:-0700
TZOFFSETTO:-0600
TZNAME:MDT
DTSTART:20260308T090000
END:DAYLIGHT
BEGIN:STANDARD
TZOFFSETFROM:-0600
TZOFFSETTO:-0700
TZNAME:MST
DTSTART:20261101T080000
END:STANDARD
END:VTIMEZONE
BEGIN:VEVENT
DTSTART;TZID=America/Boise:20251201T063000
DTEND;TZID=America/Boise:20251201T080000
DTSTAMP:20260423T133824
CREATED:20251103T165730Z
LAST-MODIFIED:20251103T211928Z
UID:10014799-1764570600-1764576000@bgcwtv.org
SUMMARY:Ontario Before School
DESCRIPTION:
URL:https://bgcwtv.org/event/ontario-before-school-2-2-2/2025-12-01/
LOCATION:Ontario Clubhouse BGCWTV\, 573 SW 3rd Ave.\, Ontario\, OR\, 97914\, United States
CATEGORIES:Ontario Clubhouse
END:VEVENT
BEGIN:VEVENT
DTSTART;TZID=America/Boise:20251201T153000
DTEND;TZID=America/Boise:20251201T183000
DTSTAMP:20260423T133824
CREATED:20251103T165918Z
LAST-MODIFIED:20251103T211955Z
UID:10014811-1764603000-1764613800@bgcwtv.org
SUMMARY:Ontario - After School Hours
DESCRIPTION:The Ontario Clubhouse is open for After School hours today.
URL:https://bgcwtv.org/event/ontario-after-school-hours/2025-12-01/
LOCATION:Ontario Clubhouse BGCWTV\, 573 SW 3rd Ave.\, Ontario\, OR\, 97914\, United States
CATEGORIES:Ontario Clubhouse
END:VEVENT
BEGIN:VEVENT
DTSTART;TZID=America/Boise:20251202T063000
DTEND;TZID=America/Boise:20251202T080000
DTSTAMP:20260423T133824
CREATED:20251103T165730Z
LAST-MODIFIED:20251103T211928Z
UID:10014800-1764657000-1764662400@bgcwtv.org
SUMMARY:Ontario Before School
DESCRIPTION:
URL:https://bgcwtv.org/event/ontario-before-school-2-2-2/2025-12-02/
LOCATION:Ontario Clubhouse BGCWTV\, 573 SW 3rd Ave.\, Ontario\, OR\, 97914\, United States
CATEGORIES:Ontario Clubhouse
END:VEVENT
BEGIN:VEVENT
DTSTART;TZID=America/Boise:20251202T153000
DTEND;TZID=America/Boise:20251202T183000
DTSTAMP:20260423T133825
CREATED:20251103T165918Z
LAST-MODIFIED:20251103T211955Z
UID:10014812-1764689400-1764700200@bgcwtv.org
SUMMARY:Ontario - After School Hours
DESCRIPTION:The Ontario Clubhouse is open for After School hours today.
URL:https://bgcwtv.org/event/ontario-after-school-hours/2025-12-02/
LOCATION:Ontario Clubhouse BGCWTV\, 573 SW 3rd Ave.\, Ontario\, OR\, 97914\, United States
CATEGORIES:Ontario Clubhouse
END:VEVENT
BEGIN:VEVENT
DTSTART;TZID=America/Boise:20251203T063000
DTEND;TZID=America/Boise:20251203T080000
DTSTAMP:20260423T133825
CREATED:20251103T165730Z
LAST-MODIFIED:20251103T211928Z
UID:10014801-1764743400-1764748800@bgcwtv.org
SUMMARY:Ontario Before School
DESCRIPTION:
URL:https://bgcwtv.org/event/ontario-before-school-2-2-2/2025-12-03/
LOCATION:Ontario Clubhouse BGCWTV\, 573 SW 3rd Ave.\, Ontario\, OR\, 97914\, United States
CATEGORIES:Ontario Clubhouse
END:VEVENT
BEGIN:VEVENT
DTSTART;TZID=America/Boise:20251203T153000
DTEND;TZID=America/Boise:20251203T183000
DTSTAMP:20260423T133825
CREATED:20251103T165918Z
LAST-MODIFIED:20251103T211955Z
UID:10014813-1764775800-1764786600@bgcwtv.org
SUMMARY:Ontario - After School Hours
DESCRIPTION:The Ontario Clubhouse is open for After School hours today.
URL:https://bgcwtv.org/event/ontario-after-school-hours/2025-12-03/
LOCATION:Ontario Clubhouse BGCWTV\, 573 SW 3rd Ave.\, Ontario\, OR\, 97914\, United States
CATEGORIES:Ontario Clubhouse
END:VEVENT
BEGIN:VEVENT
DTSTART;TZID=America/Boise:20251204T063000
DTEND;TZID=America/Boise:20251204T080000
DTSTAMP:20260423T133825
CREATED:20251103T165730Z
LAST-MODIFIED:20251103T211928Z
UID:10014802-1764829800-1764835200@bgcwtv.org
SUMMARY:Ontario Before School
DESCRIPTION:
URL:https://bgcwtv.org/event/ontario-before-school-2-2-2/2025-12-04/
LOCATION:Ontario Clubhouse BGCWTV\, 573 SW 3rd Ave.\, Ontario\, OR\, 97914\, United States
CATEGORIES:Ontario Clubhouse
END:VEVENT
BEGIN:VEVENT
DTSTART;TZID=America/Boise:20251204T153000
DTEND;TZID=America/Boise:20251204T183000
DTSTAMP:20260423T133825
CREATED:20251103T165918Z
LAST-MODIFIED:20251103T211955Z
UID:10014814-1764862200-1764873000@bgcwtv.org
SUMMARY:Ontario - After School Hours
DESCRIPTION:The Ontario Clubhouse is open for After School hours today.
URL:https://bgcwtv.org/event/ontario-after-school-hours/2025-12-04/
LOCATION:Ontario Clubhouse BGCWTV\, 573 SW 3rd Ave.\, Ontario\, OR\, 97914\, United States
CATEGORIES:Ontario Clubhouse
END:VEVENT
BEGIN:VEVENT
DTSTART;VALUE=DATE:20251205
DTEND;VALUE=DATE:20251206
DTSTAMP:20260423T133825
CREATED:20251103T170611Z
LAST-MODIFIED:20251103T171227Z
UID:10013862-1764921600-1764954000@bgcwtv.org
SUMMARY:All Clubs Closed
DESCRIPTION:
URL:https://bgcwtv.org/event/all-clubs-closed-4/2025-12-05/
LOCATION:OR
CATEGORIES:Ontario Clubhouse,Payette Clubhouse,Weiser Clubhouse
END:VEVENT
BEGIN:VEVENT
DTSTART;TZID=America/Boise:20251208T063000
DTEND;TZID=America/Boise:20251208T080000
DTSTAMP:20260423T133825
CREATED:20251103T165730Z
LAST-MODIFIED:20251103T211928Z
UID:10014803-1765175400-1765180800@bgcwtv.org
SUMMARY:Ontario Before School
DESCRIPTION:
URL:https://bgcwtv.org/event/ontario-before-school-2-2-2/2025-12-08/
LOCATION:Ontario Clubhouse BGCWTV\, 573 SW 3rd Ave.\, Ontario\, OR\, 97914\, United States
CATEGORIES:Ontario Clubhouse
END:VEVENT
BEGIN:VEVENT
DTSTART;TZID=America/Boise:20251208T153000
DTEND;TZID=America/Boise:20251208T183000
DTSTAMP:20260423T133825
CREATED:20251103T165918Z
LAST-MODIFIED:20251103T211955Z
UID:10014815-1765207800-1765218600@bgcwtv.org
SUMMARY:Ontario - After School Hours
DESCRIPTION:The Ontario Clubhouse is open for After School hours today.
URL:https://bgcwtv.org/event/ontario-after-school-hours/2025-12-08/
LOCATION:Ontario Clubhouse BGCWTV\, 573 SW 3rd Ave.\, Ontario\, OR\, 97914\, United States
CATEGORIES:Ontario Clubhouse
END:VEVENT
BEGIN:VEVENT
DTSTART;TZID=America/Boise:20251209T063000
DTEND;TZID=America/Boise:20251209T080000
DTSTAMP:20260423T133825
CREATED:20251103T165730Z
LAST-MODIFIED:20251103T211928Z
UID:10014804-1765261800-1765267200@bgcwtv.org
SUMMARY:Ontario Before School
DESCRIPTION:
URL:https://bgcwtv.org/event/ontario-before-school-2-2-2/2025-12-09/
LOCATION:Ontario Clubhouse BGCWTV\, 573 SW 3rd Ave.\, Ontario\, OR\, 97914\, United States
CATEGORIES:Ontario Clubhouse
END:VEVENT
BEGIN:VEVENT
DTSTART;TZID=America/Boise:20251209T153000
DTEND;TZID=America/Boise:20251209T183000
DTSTAMP:20260423T133825
CREATED:20251103T165918Z
LAST-MODIFIED:20251103T211955Z
UID:10014816-1765294200-1765305000@bgcwtv.org
SUMMARY:Ontario - After School Hours
DESCRIPTION:The Ontario Clubhouse is open for After School hours today.
URL:https://bgcwtv.org/event/ontario-after-school-hours/2025-12-09/
LOCATION:Ontario Clubhouse BGCWTV\, 573 SW 3rd Ave.\, Ontario\, OR\, 97914\, United States
CATEGORIES:Ontario Clubhouse
END:VEVENT
BEGIN:VEVENT
DTSTART;TZID=America/Boise:20251210T063000
DTEND;TZID=America/Boise:20251210T080000
DTSTAMP:20260423T133825
CREATED:20251103T165730Z
LAST-MODIFIED:20251103T211928Z
UID:10014805-1765348200-1765353600@bgcwtv.org
SUMMARY:Ontario Before School
DESCRIPTION:
URL:https://bgcwtv.org/event/ontario-before-school-2-2-2/2025-12-10/
LOCATION:Ontario Clubhouse BGCWTV\, 573 SW 3rd Ave.\, Ontario\, OR\, 97914\, United States
CATEGORIES:Ontario Clubhouse
END:VEVENT
BEGIN:VEVENT
DTSTART;TZID=America/Boise:20251210T153000
DTEND;TZID=America/Boise:20251210T183000
DTSTAMP:20260423T133825
CREATED:20251103T165918Z
LAST-MODIFIED:20251103T211955Z
UID:10014817-1765380600-1765391400@bgcwtv.org
SUMMARY:Ontario - After School Hours
DESCRIPTION:The Ontario Clubhouse is open for After School hours today.
URL:https://bgcwtv.org/event/ontario-after-school-hours/2025-12-10/
LOCATION:Ontario Clubhouse BGCWTV\, 573 SW 3rd Ave.\, Ontario\, OR\, 97914\, United States
CATEGORIES:Ontario Clubhouse
END:VEVENT
BEGIN:VEVENT
DTSTART;TZID=America/Boise:20251211T063000
DTEND;TZID=America/Boise:20251211T080000
DTSTAMP:20260423T133825
CREATED:20251103T165730Z
LAST-MODIFIED:20251103T211928Z
UID:10014806-1765434600-1765440000@bgcwtv.org
SUMMARY:Ontario Before School
DESCRIPTION:
URL:https://bgcwtv.org/event/ontario-before-school-2-2-2/2025-12-11/
LOCATION:Ontario Clubhouse BGCWTV\, 573 SW 3rd Ave.\, Ontario\, OR\, 97914\, United States
CATEGORIES:Ontario Clubhouse
END:VEVENT
BEGIN:VEVENT
DTSTART;TZID=America/Boise:20251211T153000
DTEND;TZID=America/Boise:20251211T183000
DTSTAMP:20260423T133825
CREATED:20251103T165918Z
LAST-MODIFIED:20251103T211955Z
UID:10014818-1765467000-1765477800@bgcwtv.org
SUMMARY:Ontario - After School Hours
DESCRIPTION:The Ontario Clubhouse is open for After School hours today.
URL:https://bgcwtv.org/event/ontario-after-school-hours/2025-12-11/
LOCATION:Ontario Clubhouse BGCWTV\, 573 SW 3rd Ave.\, Ontario\, OR\, 97914\, United States
CATEGORIES:Ontario Clubhouse
END:VEVENT
BEGIN:VEVENT
DTSTART;VALUE=DATE:20251212
DTEND;VALUE=DATE:20251213
DTSTAMP:20260423T133825
CREATED:20251103T170611Z
LAST-MODIFIED:20251103T171227Z
UID:10013863-1765526400-1765558800@bgcwtv.org
SUMMARY:All Clubs Closed
DESCRIPTION:
URL:https://bgcwtv.org/event/all-clubs-closed-4/2025-12-12/
LOCATION:OR
CATEGORIES:Ontario Clubhouse,Payette Clubhouse,Weiser Clubhouse
END:VEVENT
BEGIN:VEVENT
DTSTART;TZID=America/Boise:20251215T063000
DTEND;TZID=America/Boise:20251215T080000
DTSTAMP:20260423T133825
CREATED:20251103T165730Z
LAST-MODIFIED:20251103T211928Z
UID:10014807-1765780200-1765785600@bgcwtv.org
SUMMARY:Ontario Before School
DESCRIPTION:
URL:https://bgcwtv.org/event/ontario-before-school-2-2-2/2025-12-15/
LOCATION:Ontario Clubhouse BGCWTV\, 573 SW 3rd Ave.\, Ontario\, OR\, 97914\, United States
CATEGORIES:Ontario Clubhouse
END:VEVENT
BEGIN:VEVENT
DTSTART;TZID=America/Boise:20251215T153000
DTEND;TZID=America/Boise:20251215T183000
DTSTAMP:20260423T133825
CREATED:20251103T165918Z
LAST-MODIFIED:20251103T211955Z
UID:10014819-1765812600-1765823400@bgcwtv.org
SUMMARY:Ontario - After School Hours
DESCRIPTION:The Ontario Clubhouse is open for After School hours today.
URL:https://bgcwtv.org/event/ontario-after-school-hours/2025-12-15/
LOCATION:Ontario Clubhouse BGCWTV\, 573 SW 3rd Ave.\, Ontario\, OR\, 97914\, United States
CATEGORIES:Ontario Clubhouse
END:VEVENT
BEGIN:VEVENT
DTSTART;TZID=America/Boise:20251216T063000
DTEND;TZID=America/Boise:20251216T080000
DTSTAMP:20260423T133825
CREATED:20251103T165730Z
LAST-MODIFIED:20251103T211928Z
UID:10014808-1765866600-1765872000@bgcwtv.org
SUMMARY:Ontario Before School
DESCRIPTION:
URL:https://bgcwtv.org/event/ontario-before-school-2-2-2/2025-12-16/
LOCATION:Ontario Clubhouse BGCWTV\, 573 SW 3rd Ave.\, Ontario\, OR\, 97914\, United States
CATEGORIES:Ontario Clubhouse
END:VEVENT
BEGIN:VEVENT
DTSTART;TZID=America/Boise:20251216T153000
DTEND;TZID=America/Boise:20251216T183000
DTSTAMP:20260423T133825
CREATED:20251103T165918Z
LAST-MODIFIED:20251103T211955Z
UID:10014820-1765899000-1765909800@bgcwtv.org
SUMMARY:Ontario - After School Hours
DESCRIPTION:The Ontario Clubhouse is open for After School hours today.
URL:https://bgcwtv.org/event/ontario-after-school-hours/2025-12-16/
LOCATION:Ontario Clubhouse BGCWTV\, 573 SW 3rd Ave.\, Ontario\, OR\, 97914\, United States
CATEGORIES:Ontario Clubhouse
END:VEVENT
BEGIN:VEVENT
DTSTART;TZID=America/Boise:20251217T063000
DTEND;TZID=America/Boise:20251217T080000
DTSTAMP:20260423T133825
CREATED:20251103T165730Z
LAST-MODIFIED:20251103T211928Z
UID:10014809-1765953000-1765958400@bgcwtv.org
SUMMARY:Ontario Before School
DESCRIPTION:
URL:https://bgcwtv.org/event/ontario-before-school-2-2-2/2025-12-17/
LOCATION:Ontario Clubhouse BGCWTV\, 573 SW 3rd Ave.\, Ontario\, OR\, 97914\, United States
CATEGORIES:Ontario Clubhouse
END:VEVENT
BEGIN:VEVENT
DTSTART;TZID=America/Boise:20251217T153000
DTEND;TZID=America/Boise:20251217T183000
DTSTAMP:20260423T133825
CREATED:20251103T165918Z
LAST-MODIFIED:20251103T211955Z
UID:10014821-1765985400-1765996200@bgcwtv.org
SUMMARY:Ontario - After School Hours
DESCRIPTION:The Ontario Clubhouse is open for After School hours today.
URL:https://bgcwtv.org/event/ontario-after-school-hours/2025-12-17/
LOCATION:Ontario Clubhouse BGCWTV\, 573 SW 3rd Ave.\, Ontario\, OR\, 97914\, United States
CATEGORIES:Ontario Clubhouse
END:VEVENT
BEGIN:VEVENT
DTSTART;TZID=America/Boise:20251218T063000
DTEND;TZID=America/Boise:20251218T080000
DTSTAMP:20260423T133825
CREATED:20251103T165730Z
LAST-MODIFIED:20251103T211928Z
UID:10014810-1766039400-1766044800@bgcwtv.org
SUMMARY:Ontario Before School
DESCRIPTION:
URL:https://bgcwtv.org/event/ontario-before-school-2-2-2/2025-12-18/
LOCATION:Ontario Clubhouse BGCWTV\, 573 SW 3rd Ave.\, Ontario\, OR\, 97914\, United States
CATEGORIES:Ontario Clubhouse
END:VEVENT
BEGIN:VEVENT
DTSTART;TZID=America/Boise:20251218T153000
DTEND;TZID=America/Boise:20251218T183000
DTSTAMP:20260423T133825
CREATED:20251103T165918Z
LAST-MODIFIED:20251103T211955Z
UID:10014822-1766071800-1766082600@bgcwtv.org
SUMMARY:Ontario - After School Hours
DESCRIPTION:The Ontario Clubhouse is open for After School hours today.
URL:https://bgcwtv.org/event/ontario-after-school-hours/2025-12-18/
LOCATION:Ontario Clubhouse BGCWTV\, 573 SW 3rd Ave.\, Ontario\, OR\, 97914\, United States
CATEGORIES:Ontario Clubhouse
END:VEVENT
BEGIN:VEVENT
DTSTART;VALUE=DATE:20251219
DTEND;VALUE=DATE:20251220
DTSTAMP:20260423T133825
CREATED:20251103T170611Z
LAST-MODIFIED:20251103T171227Z
UID:10013864-1766131200-1766163600@bgcwtv.org
SUMMARY:All Clubs Closed
DESCRIPTION:
URL:https://bgcwtv.org/event/all-clubs-closed-4/2025-12-19/
LOCATION:OR
CATEGORIES:Ontario Clubhouse,Payette Clubhouse,Weiser Clubhouse
END:VEVENT
BEGIN:VEVENT
DTSTART;VALUE=DATE:20251222
DTEND;VALUE=DATE:20251223
DTSTAMP:20260423T133825
CREATED:20251103T170611Z
LAST-MODIFIED:20251103T171227Z
UID:10013865-1766390400-1766422800@bgcwtv.org
SUMMARY:All Clubs Closed
DESCRIPTION:
URL:https://bgcwtv.org/event/all-clubs-closed-4/2025-12-22/
LOCATION:OR
CATEGORIES:Ontario Clubhouse,Payette Clubhouse,Weiser Clubhouse
END:VEVENT
BEGIN:VEVENT
DTSTART;VALUE=DATE:20251223
DTEND;VALUE=DATE:20251224
DTSTAMP:20260423T133825
CREATED:20251103T170611Z
LAST-MODIFIED:20251103T171227Z
UID:10013866-1766476800-1766509200@bgcwtv.org
SUMMARY:All Clubs Closed
DESCRIPTION:
URL:https://bgcwtv.org/event/all-clubs-closed-4/2025-12-23/
LOCATION:OR
CATEGORIES:Ontario Clubhouse,Payette Clubhouse,Weiser Clubhouse
END:VEVENT
BEGIN:VEVENT
DTSTART;VALUE=DATE:20251224
DTEND;VALUE=DATE:20251225
DTSTAMP:20260423T133825
CREATED:20251103T170611Z
LAST-MODIFIED:20251103T171227Z
UID:10013867-1766563200-1766595600@bgcwtv.org
SUMMARY:All Clubs Closed
DESCRIPTION:
URL:https://bgcwtv.org/event/all-clubs-closed-4/2025-12-24/
LOCATION:OR
CATEGORIES:Ontario Clubhouse,Payette Clubhouse,Weiser Clubhouse
END:VEVENT
END:VCALENDAR