BEGIN:VCALENDAR
VERSION:2.0
PRODID:-//Boys &amp; Girls Club of Western Treasure Valley - ECPv6.15.20//NONSGML v1.0//EN
CALSCALE:GREGORIAN
METHOD:PUBLISH
X-WR-CALNAME:Boys &amp; Girls Club of Western Treasure Valley
X-ORIGINAL-URL:https://bgcwtv.org
X-WR-CALDESC:Events for Boys &amp; Girls Club of Western Treasure Valley
REFRESH-INTERVAL;VALUE=DURATION:PT1H
X-Robots-Tag:noindex
X-PUBLISHED-TTL:PT1H
BEGIN:VTIMEZONE
TZID:America/Boise
BEGIN:DAYLIGHT
TZOFFSETFROM:-0700
TZOFFSETTO:-0600
TZNAME:MDT
DTSTART:20240310T090000
END:DAYLIGHT
BEGIN:STANDARD
TZOFFSETFROM:-0600
TZOFFSETTO:-0700
TZNAME:MST
DTSTART:20241103T080000
END:STANDARD
BEGIN:DAYLIGHT
TZOFFSETFROM:-0700
TZOFFSETTO:-0600
TZNAME:MDT
DTSTART:20250309T090000
END:DAYLIGHT
BEGIN:STANDARD
TZOFFSETFROM:-0600
TZOFFSETTO:-0700
TZNAME:MST
DTSTART:20251102T080000
END:STANDARD
BEGIN:DAYLIGHT
TZOFFSETFROM:-0700
TZOFFSETTO:-0600
TZNAME:MDT
DTSTART:20260308T090000
END:DAYLIGHT
BEGIN:STANDARD
TZOFFSETFROM:-0600
TZOFFSETTO:-0700
TZNAME:MST
DTSTART:20261101T080000
END:STANDARD
END:VTIMEZONE
BEGIN:VEVENT
DTSTART;TZID=America/Boise:20250501T144500
DTEND;TZID=America/Boise:20250501T183000
DTSTAMP:20260423T230344
CREATED:20241220T203153Z
LAST-MODIFIED:20250430T155853Z
UID:10011941-1746110700-1746124200@bgcwtv.org
SUMMARY:All Clubs - After School
DESCRIPTION:All Clubs have regular after-school hours unless otherwise noted.
URL:https://bgcwtv.org/event/all-clubs-after-school/2025-05-01/
LOCATION:OR
CATEGORIES:Ontario Clubhouse,Payette Clubhouse,Weiser Clubhouse
END:VEVENT
BEGIN:VEVENT
DTSTART;TZID=America/Boise:20250502T074500
DTEND;TZID=America/Boise:20250502T173000
DTSTAMP:20260423T230344
CREATED:20250211T212712Z
LAST-MODIFIED:20250430T155948Z
UID:10013014-1746171900-1746207000@bgcwtv.org
SUMMARY:Ontario Full Day
DESCRIPTION:1st – 5th Grade: 7:45 am – 5:30 pm\nTeen Center: 10:00 am – 5:30 pm \n(Payette & Weiser are closed\, but transportation to Ontario is available.)
URL:https://bgcwtv.org/event/ontario-full-day-2/2025-05-02/
LOCATION:Ontario Clubhouse BGCWTV\, 573 SW 3rd Ave.\, Ontario\, OR\, 97914\, United States
CATEGORIES:Ontario Clubhouse
END:VEVENT
BEGIN:VEVENT
DTSTART;TZID=America/Boise:20250505T144500
DTEND;TZID=America/Boise:20250505T183000
DTSTAMP:20260423T230344
CREATED:20241220T203153Z
LAST-MODIFIED:20250430T155853Z
UID:10011942-1746456300-1746469800@bgcwtv.org
SUMMARY:All Clubs - After School
DESCRIPTION:All Clubs have regular after-school hours unless otherwise noted.
URL:https://bgcwtv.org/event/all-clubs-after-school/2025-05-05/
LOCATION:OR
CATEGORIES:Ontario Clubhouse,Payette Clubhouse,Weiser Clubhouse
END:VEVENT
BEGIN:VEVENT
DTSTART;TZID=America/Boise:20250506T144500
DTEND;TZID=America/Boise:20250506T183000
DTSTAMP:20260423T230344
CREATED:20241220T203153Z
LAST-MODIFIED:20250430T155853Z
UID:10011943-1746542700-1746556200@bgcwtv.org
SUMMARY:All Clubs - After School
DESCRIPTION:All Clubs have regular after-school hours unless otherwise noted.
URL:https://bgcwtv.org/event/all-clubs-after-school/2025-05-06/
LOCATION:OR
CATEGORIES:Ontario Clubhouse,Payette Clubhouse,Weiser Clubhouse
END:VEVENT
BEGIN:VEVENT
DTSTART;TZID=America/Boise:20250507T144500
DTEND;TZID=America/Boise:20250507T183000
DTSTAMP:20260423T230344
CREATED:20241220T203153Z
LAST-MODIFIED:20250430T155853Z
UID:10011944-1746629100-1746642600@bgcwtv.org
SUMMARY:All Clubs - After School
DESCRIPTION:All Clubs have regular after-school hours unless otherwise noted.
URL:https://bgcwtv.org/event/all-clubs-after-school/2025-05-07/
LOCATION:OR
CATEGORIES:Ontario Clubhouse,Payette Clubhouse,Weiser Clubhouse
END:VEVENT
BEGIN:VEVENT
DTSTART;TZID=America/Boise:20250508T144500
DTEND;TZID=America/Boise:20250508T183000
DTSTAMP:20260423T230344
CREATED:20241220T203153Z
LAST-MODIFIED:20250430T155853Z
UID:10011945-1746715500-1746729000@bgcwtv.org
SUMMARY:All Clubs - After School
DESCRIPTION:All Clubs have regular after-school hours unless otherwise noted.
URL:https://bgcwtv.org/event/all-clubs-after-school/2025-05-08/
LOCATION:OR
CATEGORIES:Ontario Clubhouse,Payette Clubhouse,Weiser Clubhouse
END:VEVENT
BEGIN:VEVENT
DTSTART;VALUE=DATE:20250509
DTEND;VALUE=DATE:20250510
DTSTAMP:20260423T230344
CREATED:20240801T155118Z
LAST-MODIFIED:20250430T155531Z
UID:10013012-1746777600-1746810000@bgcwtv.org
SUMMARY:All Clubs Closed
DESCRIPTION:
URL:https://bgcwtv.org/event/all-clubs-closed/2025-05-09/
LOCATION:Ontario Clubhouse BGCWTV\, 573 SW 3rd Ave.\, Ontario\, OR\, 97914\, United States
CATEGORIES:Ontario Clubhouse,Payette Clubhouse,Weiser Clubhouse
END:VEVENT
BEGIN:VEVENT
DTSTART;TZID=America/Boise:20250512T144500
DTEND;TZID=America/Boise:20250512T183000
DTSTAMP:20260423T230344
CREATED:20241220T203153Z
LAST-MODIFIED:20250430T155853Z
UID:10011946-1747061100-1747074600@bgcwtv.org
SUMMARY:All Clubs - After School
DESCRIPTION:All Clubs have regular after-school hours unless otherwise noted.
URL:https://bgcwtv.org/event/all-clubs-after-school/2025-05-12/
LOCATION:OR
CATEGORIES:Ontario Clubhouse,Payette Clubhouse,Weiser Clubhouse
END:VEVENT
BEGIN:VEVENT
DTSTART;TZID=America/Boise:20250513T144500
DTEND;TZID=America/Boise:20250513T183000
DTSTAMP:20260423T230344
CREATED:20241220T203153Z
LAST-MODIFIED:20250430T155853Z
UID:10011947-1747147500-1747161000@bgcwtv.org
SUMMARY:All Clubs - After School
DESCRIPTION:All Clubs have regular after-school hours unless otherwise noted.
URL:https://bgcwtv.org/event/all-clubs-after-school/2025-05-13/
LOCATION:OR
CATEGORIES:Ontario Clubhouse,Payette Clubhouse,Weiser Clubhouse
END:VEVENT
BEGIN:VEVENT
DTSTART;TZID=America/Boise:20250514T144500
DTEND;TZID=America/Boise:20250514T183000
DTSTAMP:20260423T230344
CREATED:20241220T203153Z
LAST-MODIFIED:20250430T155853Z
UID:10011948-1747233900-1747247400@bgcwtv.org
SUMMARY:All Clubs - After School
DESCRIPTION:All Clubs have regular after-school hours unless otherwise noted.
URL:https://bgcwtv.org/event/all-clubs-after-school/2025-05-14/
LOCATION:OR
CATEGORIES:Ontario Clubhouse,Payette Clubhouse,Weiser Clubhouse
END:VEVENT
BEGIN:VEVENT
DTSTART;TZID=America/Boise:20250515T144500
DTEND;TZID=America/Boise:20250515T183000
DTSTAMP:20260423T230344
CREATED:20241220T203153Z
LAST-MODIFIED:20250430T155853Z
UID:10011949-1747320300-1747333800@bgcwtv.org
SUMMARY:All Clubs - After School
DESCRIPTION:All Clubs have regular after-school hours unless otherwise noted.
URL:https://bgcwtv.org/event/all-clubs-after-school/2025-05-15/
LOCATION:OR
CATEGORIES:Ontario Clubhouse,Payette Clubhouse,Weiser Clubhouse
END:VEVENT
BEGIN:VEVENT
DTSTART;TZID=America/Boise:20250516T080000
DTEND;TZID=America/Boise:20250516T170000
DTSTAMP:20260423T230344
CREATED:20250211T212712Z
LAST-MODIFIED:20250430T155948Z
UID:10013000-1747382400-1747414800@bgcwtv.org
SUMMARY:Ontario Full Day
DESCRIPTION:1st – 5th Grade: 7:45 am – 5:30 pm\nTeen Center: 10:00 am – 5:30 pm \n(Payette & Weiser are closed\, but transportation to Ontario is available.)
URL:https://bgcwtv.org/event/ontario-full-day-2/2025-05-16/
LOCATION:Ontario Clubhouse BGCWTV\, 573 SW 3rd Ave.\, Ontario\, OR\, 97914\, United States
CATEGORIES:Ontario Clubhouse
END:VEVENT
BEGIN:VEVENT
DTSTART;TZID=America/Boise:20250519T144500
DTEND;TZID=America/Boise:20250519T183000
DTSTAMP:20260423T230344
CREATED:20241220T203153Z
LAST-MODIFIED:20250430T155853Z
UID:10011950-1747665900-1747679400@bgcwtv.org
SUMMARY:All Clubs - After School
DESCRIPTION:All Clubs have regular after-school hours unless otherwise noted.
URL:https://bgcwtv.org/event/all-clubs-after-school/2025-05-19/
LOCATION:OR
CATEGORIES:Ontario Clubhouse,Payette Clubhouse,Weiser Clubhouse
END:VEVENT
BEGIN:VEVENT
DTSTART;TZID=America/Boise:20250520T144500
DTEND;TZID=America/Boise:20250520T183000
DTSTAMP:20260423T230344
CREATED:20241220T203153Z
LAST-MODIFIED:20250430T155853Z
UID:10011951-1747752300-1747765800@bgcwtv.org
SUMMARY:All Clubs - After School
DESCRIPTION:All Clubs have regular after-school hours unless otherwise noted.
URL:https://bgcwtv.org/event/all-clubs-after-school/2025-05-20/
LOCATION:OR
CATEGORIES:Ontario Clubhouse,Payette Clubhouse,Weiser Clubhouse
END:VEVENT
BEGIN:VEVENT
DTSTART;TZID=America/Boise:20250521T144500
DTEND;TZID=America/Boise:20250521T183000
DTSTAMP:20260423T230344
CREATED:20241220T203153Z
LAST-MODIFIED:20250430T155853Z
UID:10011952-1747838700-1747852200@bgcwtv.org
SUMMARY:All Clubs - After School
DESCRIPTION:All Clubs have regular after-school hours unless otherwise noted.
URL:https://bgcwtv.org/event/all-clubs-after-school/2025-05-21/
LOCATION:OR
CATEGORIES:Ontario Clubhouse,Payette Clubhouse,Weiser Clubhouse
END:VEVENT
BEGIN:VEVENT
DTSTART;TZID=America/Boise:20250522T144500
DTEND;TZID=America/Boise:20250522T173000
DTSTAMP:20260423T230344
CREATED:20240821T220337Z
LAST-MODIFIED:20250430T160234Z
UID:10013016-1747925100-1747935000@bgcwtv.org
SUMMARY:Ontario - After School Hours
DESCRIPTION:The Ontario Clubhouse is open for After School hours today.
URL:https://bgcwtv.org/event/ontario-after-school/2025-05-22/
LOCATION:Ontario Clubhouse BGCWTV\, 573 SW 3rd Ave.\, Ontario\, OR\, 97914\, United States
CATEGORIES:Ontario Clubhouse
END:VEVENT
BEGIN:VEVENT
DTSTART;VALUE=DATE:20250523
DTEND;VALUE=DATE:20250524
DTSTAMP:20260423T230344
CREATED:20240801T155118Z
LAST-MODIFIED:20250430T155531Z
UID:10013001-1747987200-1748019600@bgcwtv.org
SUMMARY:All Clubs Closed
DESCRIPTION:
URL:https://bgcwtv.org/event/all-clubs-closed/2025-05-23/
LOCATION:Ontario Clubhouse BGCWTV\, 573 SW 3rd Ave.\, Ontario\, OR\, 97914\, United States
CATEGORIES:Ontario Clubhouse,Payette Clubhouse,Weiser Clubhouse
END:VEVENT
BEGIN:VEVENT
DTSTART;VALUE=DATE:20250526
DTEND;VALUE=DATE:20250527
DTSTAMP:20260423T230344
CREATED:20240801T155118Z
LAST-MODIFIED:20250430T155531Z
UID:10013002-1748246400-1748278800@bgcwtv.org
SUMMARY:All Clubs Closed
DESCRIPTION:
URL:https://bgcwtv.org/event/all-clubs-closed/2025-05-26/
LOCATION:Ontario Clubhouse BGCWTV\, 573 SW 3rd Ave.\, Ontario\, OR\, 97914\, United States
CATEGORIES:Ontario Clubhouse,Payette Clubhouse,Weiser Clubhouse
END:VEVENT
BEGIN:VEVENT
DTSTART;VALUE=DATE:20250527
DTEND;VALUE=DATE:20250528
DTSTAMP:20260423T230344
CREATED:20240801T155118Z
LAST-MODIFIED:20250430T155531Z
UID:10013003-1748332800-1748365200@bgcwtv.org
SUMMARY:All Clubs Closed
DESCRIPTION:
URL:https://bgcwtv.org/event/all-clubs-closed/2025-05-27/
LOCATION:Ontario Clubhouse BGCWTV\, 573 SW 3rd Ave.\, Ontario\, OR\, 97914\, United States
CATEGORIES:Ontario Clubhouse,Payette Clubhouse,Weiser Clubhouse
END:VEVENT
BEGIN:VEVENT
DTSTART;VALUE=DATE:20250528
DTEND;VALUE=DATE:20250529
DTSTAMP:20260423T230344
CREATED:20240801T155118Z
LAST-MODIFIED:20250430T155531Z
UID:10013004-1748419200-1748451600@bgcwtv.org
SUMMARY:All Clubs Closed
DESCRIPTION:
URL:https://bgcwtv.org/event/all-clubs-closed/2025-05-28/
LOCATION:Ontario Clubhouse BGCWTV\, 573 SW 3rd Ave.\, Ontario\, OR\, 97914\, United States
CATEGORIES:Ontario Clubhouse,Payette Clubhouse,Weiser Clubhouse
END:VEVENT
BEGIN:VEVENT
DTSTART;VALUE=DATE:20250529
DTEND;VALUE=DATE:20250530
DTSTAMP:20260423T230344
CREATED:20240801T155118Z
LAST-MODIFIED:20250430T155531Z
UID:10013005-1748505600-1748538000@bgcwtv.org
SUMMARY:All Clubs Closed
DESCRIPTION:
URL:https://bgcwtv.org/event/all-clubs-closed/2025-05-29/
LOCATION:Ontario Clubhouse BGCWTV\, 573 SW 3rd Ave.\, Ontario\, OR\, 97914\, United States
CATEGORIES:Ontario Clubhouse,Payette Clubhouse,Weiser Clubhouse
END:VEVENT
BEGIN:VEVENT
DTSTART;VALUE=DATE:20250530
DTEND;VALUE=DATE:20250531
DTSTAMP:20260423T230344
CREATED:20240801T155118Z
LAST-MODIFIED:20250430T155531Z
UID:10013006-1748592000-1748624400@bgcwtv.org
SUMMARY:All Clubs Closed
DESCRIPTION:
URL:https://bgcwtv.org/event/all-clubs-closed/2025-05-30/
LOCATION:Ontario Clubhouse BGCWTV\, 573 SW 3rd Ave.\, Ontario\, OR\, 97914\, United States
CATEGORIES:Ontario Clubhouse,Payette Clubhouse,Weiser Clubhouse
END:VEVENT
END:VCALENDAR