BEGIN:VCALENDAR
VERSION:2.0
PRODID:-//Boys &amp; Girls Club of Western Treasure Valley - ECPv6.15.20//NONSGML v1.0//EN
CALSCALE:GREGORIAN
METHOD:PUBLISH
X-ORIGINAL-URL:https://bgcwtv.org
X-WR-CALDESC:Events for Boys &amp; Girls Club of Western Treasure Valley
REFRESH-INTERVAL;VALUE=DURATION:PT1H
X-Robots-Tag:noindex
X-PUBLISHED-TTL:PT1H
BEGIN:VTIMEZONE
TZID:America/Boise
BEGIN:DAYLIGHT
TZOFFSETFROM:-0700
TZOFFSETTO:-0600
TZNAME:MDT
DTSTART:20240310T090000
END:DAYLIGHT
BEGIN:STANDARD
TZOFFSETFROM:-0600
TZOFFSETTO:-0700
TZNAME:MST
DTSTART:20241103T080000
END:STANDARD
BEGIN:DAYLIGHT
TZOFFSETFROM:-0700
TZOFFSETTO:-0600
TZNAME:MDT
DTSTART:20250309T090000
END:DAYLIGHT
BEGIN:STANDARD
TZOFFSETFROM:-0600
TZOFFSETTO:-0700
TZNAME:MST
DTSTART:20251102T080000
END:STANDARD
BEGIN:DAYLIGHT
TZOFFSETFROM:-0700
TZOFFSETTO:-0600
TZNAME:MDT
DTSTART:20260308T090000
END:DAYLIGHT
BEGIN:STANDARD
TZOFFSETFROM:-0600
TZOFFSETTO:-0700
TZNAME:MST
DTSTART:20261101T080000
END:STANDARD
END:VTIMEZONE
BEGIN:VEVENT
DTSTART;VALUE=DATE:20250728
DTEND;VALUE=DATE:20250802
DTSTAMP:20260423T205449
CREATED:20250530T213606Z
LAST-MODIFIED:20250530T213619Z
UID:10013501-1753660800-1754092799@bgcwtv.org
SUMMARY:Music & Muscles Week
DESCRIPTION:
URL:https://bgcwtv.org/event/music-muscles-week/
LOCATION:OR
CATEGORIES:BGCWTV Events,Ontario Clubhouse,Payette Clubhouse
END:VEVENT
BEGIN:VEVENT
DTSTART;VALUE=DATE:20250801
DTEND;VALUE=DATE:20250802
DTSTAMP:20260423T205449
CREATED:20250530T213712Z
LAST-MODIFIED:20250530T213718Z
UID:10013502-1754006400-1754092799@bgcwtv.org
SUMMARY:Dress Up Day: Rockstars vs Cowboys
DESCRIPTION:
URL:https://bgcwtv.org/event/dress-up-day-rockstars-vs-cowboys/
LOCATION:OR
CATEGORIES:BGCWTV Events,Ontario Clubhouse,Payette Clubhouse
END:VEVENT
BEGIN:VEVENT
DTSTART;VALUE=DATE:20250804
DTEND;VALUE=DATE:20250809
DTSTAMP:20260423T205449
CREATED:20250530T213807Z
LAST-MODIFIED:20250530T213807Z
UID:10013503-1754265600-1754697599@bgcwtv.org
SUMMARY:Water Week
DESCRIPTION:
URL:https://bgcwtv.org/event/water-week/
LOCATION:OR
CATEGORIES:BGCWTV Events,Ontario Clubhouse,Payette Clubhouse
END:VEVENT
BEGIN:VEVENT
DTSTART;VALUE=DATE:20250808
DTEND;VALUE=DATE:20250809
DTSTAMP:20260423T205449
CREATED:20250530T213835Z
LAST-MODIFIED:20250530T213933Z
UID:10013504-1754611200-1754697599@bgcwtv.org
SUMMARY:Dress Up Day: PJ Day
DESCRIPTION:
URL:https://bgcwtv.org/event/pj-day/
LOCATION:OR
CATEGORIES:BGCWTV Events,Ontario Clubhouse,Payette Clubhouse
END:VEVENT
BEGIN:VEVENT
DTSTART;VALUE=DATE:20250808
DTEND;VALUE=DATE:20250809
DTSTAMP:20260423T205449
CREATED:20250530T214036Z
LAST-MODIFIED:20250530T214036Z
UID:10013505-1754611200-1754697599@bgcwtv.org
SUMMARY:Last Day of BGC Summer Programs
DESCRIPTION:
URL:https://bgcwtv.org/event/last-day-of-bgc-summer-programs/
LOCATION:OR
CATEGORIES:BGCWTV Events,Ontario Clubhouse,Payette Clubhouse,Weiser Clubhouse
END:VEVENT
BEGIN:VEVENT
DTSTART;VALUE=DATE:20250811
DTEND;VALUE=DATE:20250816
DTSTAMP:20260423T205449
CREATED:20250530T214115Z
LAST-MODIFIED:20250530T214115Z
UID:10013506-1754870400-1755302399@bgcwtv.org
SUMMARY:All Clubs Closed - Down Week
DESCRIPTION:
URL:https://bgcwtv.org/event/all-clubs-closed-down-week-2/
LOCATION:OR
CATEGORIES:BGCWTV Events,Ontario Clubhouse,Payette Clubhouse,Weiser Clubhouse
END:VEVENT
BEGIN:VEVENT
DTSTART;VALUE=DATE:20250818
DTEND;VALUE=DATE:20250819
DTSTAMP:20260423T205449
CREATED:20250530T214147Z
LAST-MODIFIED:20250530T214745Z
UID:10013507-1755475200-1755561599@bgcwtv.org
SUMMARY:First Day of Afterschool Programming
DESCRIPTION:
URL:https://bgcwtv.org/event/first-day-of-afterschool-programming/
LOCATION:OR
CATEGORIES:BGCWTV Events,Ontario Clubhouse,Payette Clubhouse,Weiser Clubhouse
END:VEVENT
END:VCALENDAR